{"text_format":"3","workbook":"xlsx","n_sheets":4,"sheets":["ConfInts","Sheet2","samples","Sheet4"],"not_rendered":{"charts":2,"images":9,"macros":1,"defined_names":16,"comments":1},"read":"whole","date_system":"1900"}

{"sheet":"ConfInts","index":0,"n_rows":43,"n_cols":6,"rows_kept":43}
[null,"           Simulating Confidence Intervals"]
[]
[null,null,"This program generates 80 random confidence "]
[null,null," intervals  based on repeated random samples"]
[null,null,"   drawn from a variety of population patterns"]
[]
["Which population do you want?",null,null,{"$f":"IF(E7=TRUE, 1,IF(E8=TRUE, 2,IF(E9=TRUE,3,4)))","v":4},false]
[{"$nulls":4},false]
[{"$nulls":4},false]
[{"$nulls":4},true]
[]
["What is the confidence level?",null,null,false]
[{"$nulls":3},false]
[{"$nulls":3},false]
[{"$nulls":3},true]
[]
["The mean and standard deviation ",{"$nulls":3},"m =     ",{"$f":"IF(pop=1,Sheet2!B2,IF(pop=2,Sheet2!E2,IF(pop=3,Sheet2!G2,Sheet2!I2)))","v":71.19}]
[null,"of the sampling population are:",null,null,"s =",{"$f":"IF(pop=1,Sheet2!C3,IF(pop=2,Sheet2!F3,IF(pop=3,Sheet2!H3,Sheet2!J3)))","v":{"v":0.4654176833769856,"d":"0.465"}}]
[]
[{"$f":"Sheet4!G28& \" of 80, or \"&TEXT(Sheet4!H27,\"0.00%\")&\", of the \"&TEXT(Sheet4!H24/100,\"0%\")&\" confidence intervals based \"","v":"79 of 80, or 98.75%, of the 99% confidence intervals based "}]
[null,{"$f":"\"on 80 samples of size 50 from the \"&TEXT(pop_name,\"\")&\" population\"","v":"on 80 samples of size 50 from the skewed population"}]
[null,"contained the population mean m.  "]
[]
[]
[{"$nulls":3},-1]
[]
[]
[]
["Click each item below for suggestions and investigations"]
[null,null,"   Item 1"]
[null,null,"   Item 2"]
[null,null,"   Item 3"]
[]
[]
[]
["To access/download all the DIGMath Apps for Statistics"]
["Click this link:",null,"DIGMath for Statistics and Probability"]
[]
["Created by:  Sheldon P. Gordon   &   Florence S. Gordon"]
["                  Farmingdale State College      NYIT"]
["Development of this module was supported by the "]
["NSF's Division of Undergraduate Education  "]
["under grants DUE-0310123 and DUE-0442160."]

{"sheet":"Sheet2","index":1,"n_rows":428,"n_cols":13,"rows_kept":428}
[null,"Normal data",null,null,"Uniform data",null,"U-shaped",null,"Skewed data"]
["mu, sigma,n=",68.07,null,null,68.47,null,68.61,null,71.19]
[null,2.762,{"$f":"B3/SQRT(50)","v":0.3906057859274488},null,4.162,{"$f":"E3/SQRT(50)","v":0.5885956846596822},4.801,{"$f":"G3/SQRT(50)","v":0.678963931295323},3.291,{"$f":"I3/SQRT(50)","v":0.4654176833769856}]
[null,210,null,null,424,null,397,null,410,{"$nulls":3},1]
[1,61,61,4,61,{"$f":"COUNTIF(E$5:E$502,\"=61\")","v":23},61,{"$f":"COUNTIF(G$5:G$502,\"=61\")","v":18},61,{"$f":"COUNTIF(I$5:I$502,\"=61\")","v":3}]
[2,61,62,12,61,{"$f":"COUNTIF(E$5:E$502,\"=62\")","v":28},61,{"$f":"COUNTIF(G$5:G$502,\"=62\")","v":22},61,{"$f":"COUNTIF(I$5:I$502,\"=62\")","v":5}]
[3,62,63,6,61,{"$f":"COUNTIF(E$5:E$502,\"=63\")","v":19},61,{"$f":"COUNTIF(G$5:G$502,\"=63\")","v":35},61,{"$f":"COUNTIF(I$5:I$502,\"=63\")","v":6}]
[4,62,64,16,61,{"$f":"COUNTIF(E$5:E$502,\"=64\")","v":24},61,{"$f":"COUNTIF(G$5:G$502,\"=64\")","v":44},62,{"$f":"COUNTIF(I$5:I$502,\"=64\")","v":15}]
[5,62,65,28,61,{"$f":"COUNTIF(E$5:E$502,\"=65\")","v":25},61,{"$f":"COUNTIF(G$5:G$502,\"=65\")","v":36},62,{"$f":"COUNTIF(I$5:I$502,\"=65\")","v":11}]
[6,62,66,54,61,{"$f":"COUNTIF(E$5:E$502,\"=66\")","v":27},61,{"$f":"COUNTIF(G$5:G$502,\"=66\")","v":21},62,{"$f":"COUNTIF(I$5:I$502,\"=66\")","v":10}]
[7,62,67,60,61,{"$f":"COUNTIF(E$5:E$502,\"=67\")","v":21},61,{"$f":"COUNTIF(G$5:G$502,\"=67\")","v":7},62,{"$f":"COUNTIF(I$5:I$502,\"=67\")","v":15}]
[8,62,68,70,61,{"$f":"COUNTIF(E$5:E$502,\"=68\")","v":29},61,{"$f":"COUNTIF(G$5:G$502,\"=68\")","v":8},62,{"$f":"COUNTIF(I$5:I$502,\"=68\")","v":14}]
[9,63,69,56,61,{"$f":"COUNTIF(E$5:E$502,\"=69\")","v":34},61,{"$f":"COUNTIF(G$5:G$502,\"=69\")","v":9},63,{"$f":"COUNTIF(I$5:I$502,\"=69\")","v":23}]
[10,63,70,32,61,{"$f":"COUNTIF(E$5:E$502,\"=70\")","v":29},61,{"$f":"COUNTIF(G$5:G$502,\"=70\")","v":10},63,{"$f":"COUNTIF(I$5:I$502,\"=70\")","v":20}]
[11,63,71,28,61,{"$f":"COUNTIF(E$5:E$502,\"=71\")","v":44},61,{"$f":"COUNTIF(G$5:G$502,\"=71\")","v":24},63,{"$f":"COUNTIF(I$5:I$502,\"=71\")","v":54}]
[12,64,72,20,61,{"$f":"COUNTIF(E$5:E$502,\"=72\")","v":37},61,{"$f":"COUNTIF(G$5:G$502,\"=72\")","v":34},63,{"$f":"COUNTIF(I$5:I$502,\"=72\")","v":58}]
[13,64,73,18,61,{"$f":"COUNTIF(E$5:E$502,\"=73\")","v":28},61,{"$f":"COUNTIF(G$5:G$502,\"=73\")","v":45},63,{"$f":"COUNTIF(I$5:I$502,\"=73\")","v":60}]
[14,64,74,12,61,{"$f":"COUNTIF(E$5:E$502,\"=74\")","v":35},61,{"$f":"COUNTIF(G$5:G$502,\"=74\")","v":41},63,{"$f":"COUNTIF(I$5:I$502,\"=74\")","v":54}]
[15,64,75,4,61,{"$f":"COUNTIF(E$5:E$502,\"=75\")","v":21},61,{"$f":"COUNTIF(G$5:G$502,\"=75\")","v":43},64,{"$f":"COUNTIF(I$5:I$502,\"=75\")","v":62}]
[16,64,null,null,61,null,61,null,64]
[17,64,null,null,61,null,61,null,64]
[18,64,null,null,61,null,61,null,64]
[19,64,null,null,61,null,62,null,64]
[20,65,null,null,61,null,62,null,64]
[21,65,null,null,61,null,62,null,64]
[22,65,null,null,61,null,62,null,64]
[23,65,null,null,61,null,62,null,64]
[24,65,null,null,62,null,62,null,64]
[25,65,null,null,62,null,62,null,64]
[26,65,null,null,62,null,62,null,64]
[27,65,null,null,62,null,62,null,64]
[28,65,null,null,62,null,62,null,64]
[29,65,null,null,62,null,62,null,64]
[30,65,null,null,62,null,62,null,65]
[31,65,null,null,62,null,62,null,65]
[32,65,null,null,62,null,62,null,65]
[33,65,null,null,62,null,62,null,65]
[34,66,null,null,62,null,62,null,65]
[35,66,null,null,62,null,62,null,65]
[36,66,null,null,62,null,62,null,65]
[37,66,null,null,62,null,62,null,65]
[38,66,null,null,62,null,62,null,65]
[39,66,null,null,62,null,62,null,65]
[40,66,null,null,62,null,62,null,65]
[41,66,null,null,62,null,63,null,66]
[42,66,null,null,62,null,63,null,66]
[43,66,null,null,62,null,63,null,66]
[44,66,null,null,62,null,63,null,66]
[45,66,null,null,62,null,63,null,66]
[46,66,null,null,62,null,63,null,66]
[47,66,null,null,62,null,63,null,66]
[48,66,null,null,62,null,63,null,66]
[49,66,null,null,62,null,63,null,66]
[50,66,null,null,62,null,63,null,66]
[51,66,null,null,62,null,63,null,67]
[52,66,null,null,63,null,63,null,67]
[53,66,null,null,63,null,63,null,67]
[54,66,null,null,63,null,63,null,67]
[55,66,null,null,63,null,63,null,67]
[56,66,null,null,63,null,63,null,67]
[57,66,null,null,63,null,63,null,67]
[58,66,null,null,63,null,63,null,67]
[59,66,null,null,63,null,63,null,67]
[60,66,null,null,63,null,63,null,67]
[61,67,null,null,63,null,63,null,67]
[62,67,null,null,63,null,63,null,67]
[63,67,null,null,63,null,63,null,67]
[64,67,null,null,63,null,63,null,67]
[65,67,null,null,63,null,63,null,67]
[66,67,null,null,63,null,63,null,68]
[67,67,null,null,63,null,63,null,68]
[68,67,null,null,63,null,63,null,68]
[69,67,null,null,63,null,63,null,68]
[70,67,null,null,63,null,63,null,68]
[71,67,null,null,64,null,63,null,68]
[72,67,null,null,64,null,63,null,68]
[73,67,null,null,64,null,63,null,68]
[74,67,null,null,64,null,63,null,68]
[75,67,null,null,64,null,63,null,68]
[76,67,null,null,64,null,64,null,68]
[77,67,null,null,64,null,64,null,68]
[78,67,null,null,64,null,64,null,68]
[79,67,null,null,64,null,64,null,68]
[80,67,null,null,64,null,64,null,69]
[81,67,null,null,64,null,64,null,69]
[82,67,null,null,64,null,64,null,69]
[83,67,null,null,64,null,64,null,69]
[84,67,null,null,64,null,64,null,69]
[85,67,null,null,64,null,64,null,69]
[86,67,null,null,64,null,64,null,69]
[87,67,null,null,64,null,64,null,69]
[88,67,null,null,64,null,64,null,69]
[89,67,null,null,64,null,64,null,69]
[90,67,null,null,64,null,64,null,69]
[91,68,null,null,64,null,64,null,69]
[92,68,null,null,64,null,64,null,69]
[93,68,null,null,64,null,64,null,69]
[94,68,null,null,64,null,64,null,69]
[95,68,null,null,65,null,64,null,69]
[96,68,null,null,65,null,64,null,69]
[97,68,null,null,65,null,64,null,69]
[98,68,null,null,65,null,64,null,69]
[99,68,null,null,65,null,64,null,69]
[100,68,null,null,65,null,64,null,69]
[101,68,null,null,65,null,64,null,69]
[102,68,null,null,65,null,64,null,69]
[103,68,null,null,65,null,64,null,70]
[104,68,null,null,65,null,64,null,70]
[105,68,null,null,65,null,64,null,70]
[106,68,null,null,65,null,64,null,70]
[107,68,null,null,65,null,64,null,70]
[108,68,null,null,65,null,64,null,70]
[109,68,null,null,65,null,64,null,70]
[110,68,null,null,65,null,64,null,70]
[111,68,null,null,65,null,64,null,70]
[112,68,null,null,65,null,64,null,70]
[113,68,null,null,65,null,64,null,70]
[114,68,null,null,65,null,64,null,70]
[115,68,null,null,65,null,64,null,70]
[116,68,null,null,65,null,64,null,70]
[117,68,null,null,65,null,64,null,70]
[118,68,null,null,65,null,64,null,70]
[119,68,null,null,65,null,64,null,70]
[120,68,null,null,66,null,65,null,70]
[121,68,null,null,66,null,65,null,70]
[122,68,null,null,66,null,65,null,70]
[123,68,null,null,66,null,65,null,71]
[124,68,null,null,66,null,65,null,71]
[125,68,null,null,66,null,65,null,71]
[126,69,null,null,66,null,65,null,71]
[127,69,null,null,66,null,65,null,71]
[128,69,null,null,66,null,65,null,71]
[129,69,null,null,66,null,65,null,71]
[130,69,null,null,66,null,65,null,71]
[131,69,null,null,66,null,65,null,71]
[132,69,null,null,66,null,65,null,71]
[133,69,null,null,66,null,65,null,71]
[134,69,null,null,66,null,65,null,71]
[135,69,null,null,66,null,65,null,71]
[136,69,null,null,66,null,65,null,71]
[137,69,null,null,66,null,65,null,71]
[138,69,null,null,66,null,65,null,71]
[139,69,null,null,66,null,65,null,71]
[140,69,null,null,66,null,65,null,71]
[141,69,null,null,66,null,65,null,71]
[142,69,null,null,66,null,65,null,71]
[143,69,null,null,66,null,65,null,71]
[144,69,null,null,66,null,65,null,71]
[145,69,null,null,66,null,65,null,71]
[146,69,null,null,66,null,65,null,71]
[147,69,null,null,67,null,65,null,71]
[148,69,null,null,67,null,65,null,71]
[149,69,null,null,67,null,65,null,71]
[150,69,null,null,67,null,65,null,71]
[151,69,null,null,67,null,65,null,71]
[152,69,null,null,67,null,65,null,71]
[153,69,null,null,67,null,65,null,71]
[154,70,null,null,67,null,65,null,71]
[155,70,null,null,67,null,65,null,71]
[156,70,null,null,67,null,66,null,71]
[157,70,null,null,67,null,66,null,71]
[158,70,null,null,67,null,66,null,71]
[159,70,null,null,67,null,66,null,71]
[160,70,null,null,67,null,66,null,71]
[161,70,null,null,67,null,66,null,71]
[162,70,null,null,67,null,66,null,71]
[163,70,null,null,67,null,66,null,71]
[164,70,null,null,67,null,66,null,71]
[165,70,null,null,67,null,66,null,71]
[166,70,null,null,67,null,66,null,71]
[167,70,null,null,67,null,66,null,71]
[168,70,null,null,68,null,66,null,71]
[169,70,null,null,68,null,66,null,71]
[170,71,null,null,68,null,66,null,71]
[171,71,null,null,68,null,66,null,71]
[172,71,null,null,68,null,66,null,71]
[173,71,null,null,68,null,66,null,71]
[174,71,null,null,68,null,66,null,71]
[175,71,null,null,68,null,66,null,71]
[176,71,null,null,68,null,66,null,71]
[177,71,null,null,68,null,67,null,72]
[178,71,null,null,68,null,67,null,72]
[179,71,null,null,68,null,67,null,72]
[180,71,null,null,68,null,67,null,72]
[181,71,null,null,68,null,67,null,72]
[182,71,null,null,68,null,67,null,72]
[183,71,null,null,68,null,67,null,72]
[184,72,null,null,68,null,68,null,72]
[185,72,null,null,68,null,68,null,72]
[186,72,null,null,68,null,68,null,72]
[187,72,null,null,68,null,68,null,72]
[188,72,null,null,68,null,68,null,72]
[189,72,null,null,68,null,68,null,72]
[190,72,null,null,68,null,68,null,72]
[191,72,null,null,68,null,68,null,72]
[192,72,null,null,68,null,69,null,72]
[193,72,null,null,68,null,69,null,72]
[194,73,null,null,68,null,69,null,72]
[195,73,null,null,68,null,69,null,72]
[196,73,null,null,68,null,69,null,72]
[197,73,null,null,69,null,69,null,72]
[198,73,null,null,69,null,69,null,72]
[199,73,null,null,69,null,69,null,72]
[200,73,null,null,69,null,69,null,72]
[201,73,null,null,69,null,70,null,72]
[202,73,null,null,69,null,70,null,72]
[203,74,null,null,69,null,70,null,72]
[204,74,null,null,69,null,70,null,72]
[205,74,null,null,69,null,70,null,72]
[206,74,null,null,69,null,70,null,72]
[207,74,null,null,69,null,70,null,72]
[208,74,null,null,69,null,70,null,72]
[209,75,null,null,69,null,70,null,72]
[210,75,null,null,69,null,70,null,72]
[211,{"$nulls":3},69,null,71,null,72]
[212,{"$nulls":3},69,null,71,null,72]
[213,{"$nulls":3},69,null,71,null,72]
[214,{"$nulls":3},69,null,71,null,72]
[215,{"$nulls":3},69,null,71,null,72]
[216,{"$nulls":3},69,null,71,null,72]
[217,{"$nulls":3},69,null,71,null,72]
[218,{"$nulls":3},69,null,71,null,72]
[219,{"$nulls":3},69,null,71,null,72]
[220,{"$nulls":3},69,null,71,null,72]
[221,{"$nulls":3},69,null,71,null,72]
[222,{"$nulls":3},69,null,71,null,72]
[223,{"$nulls":3},69,null,71,null,72]
[224,{"$nulls":3},69,null,71,null,72]
[225,{"$nulls":3},69,null,71,null,72]
[226,{"$nulls":3},69,null,71,null,72]
[227,{"$nulls":3},69,null,71,null,72]
[228,{"$nulls":3},69,null,71,null,72]
[229,{"$nulls":3},69,null,71,null,72]
[230,{"$nulls":3},69,null,71,null,72]
[231,{"$nulls":3},70,null,71,null,72]
[232,{"$nulls":3},70,null,71,null,72]
[233,{"$nulls":3},70,null,71,null,72]
[234,{"$nulls":3},70,null,71,null,72]
[235,{"$nulls":3},70,null,72,null,73]
[236,{"$nulls":3},70,null,72,null,73]
[237,{"$nulls":3},70,null,72,null,73]
[238,{"$nulls":3},70,null,72,null,73]
[239,{"$nulls":3},70,null,72,null,73]
[240,{"$nulls":3},70,null,72,null,73]
[241,{"$nulls":3},70,null,72,null,73]
[242,{"$nulls":3},70,null,72,null,73]
[243,{"$nulls":3},70,null,72,null,73]
[244,{"$nulls":3},70,null,72,null,73]
[245,{"$nulls":3},70,null,72,null,73]
[246,{"$nulls":3},70,null,72,null,73]
[247,{"$nulls":3},70,null,72,null,73]
[248,{"$nulls":3},70,null,72,null,73]
[249,{"$nulls":3},70,null,72,null,73]
[250,{"$nulls":3},70,null,72,null,73]
[251,{"$nulls":3},70,null,72,null,73]
[252,{"$nulls":3},70,null,72,null,73]
[253,{"$nulls":3},70,null,72,null,73]
[254,{"$nulls":3},70,null,72,null,73]
[255,{"$nulls":3},70,null,72,null,73]
[256,{"$nulls":3},70,null,72,null,73]
[257,{"$nulls":3},70,null,72,null,73]
[258,{"$nulls":3},70,null,72,null,73]
[259,{"$nulls":3},70,null,72,null,73]
[260,{"$nulls":3},71,null,72,null,73]
[261,{"$nulls":3},71,null,72,null,73]
[262,{"$nulls":3},71,null,72,null,73]
[263,{"$nulls":3},71,null,72,null,73]
[264,{"$nulls":3},71,null,72,null,73]
[265,{"$nulls":3},71,null,72,null,73]
[266,{"$nulls":3},71,null,72,null,73]
[267,{"$nulls":3},71,null,72,null,73]
[268,{"$nulls":3},71,null,72,null,73]
[269,{"$nulls":3},71,null,73,null,73]
[270,{"$nulls":3},71,null,73,null,73]
[271,{"$nulls":3},71,null,73,null,73]
[272,{"$nulls":3},71,null,73,null,73]
[273,{"$nulls":3},71,null,73,null,73]
[274,{"$nulls":3},71,null,73,null,73]
[275,{"$nulls":3},71,null,73,null,73]
[276,{"$nulls":3},71,null,73,null,73]
[277,{"$nulls":3},71,null,73,null,73]
[278,{"$nulls":3},71,null,73,null,73]
[279,{"$nulls":3},71,null,73,null,73]
[280,{"$nulls":3},71,null,73,null,73]
[281,{"$nulls":3},71,null,73,null,73]
[282,{"$nulls":3},71,null,73,null,73]
[283,{"$nulls":3},71,null,73,null,73]
[284,{"$nulls":3},71,null,73,null,73]
[285,{"$nulls":3},71,null,73,null,73]
[286,{"$nulls":3},71,null,73,null,73]
[287,{"$nulls":3},71,null,73,null,73]
[288,{"$nulls":3},71,null,73,null,73]
[289,{"$nulls":3},71,null,73,null,73]
[290,{"$nulls":3},71,null,73,null,73]
[291,{"$nulls":3},71,null,73,null,73]
[292,{"$nulls":3},71,null,73,null,73]
[293,{"$nulls":3},71,null,73,null,73]
[294,{"$nulls":3},71,null,73,null,73]
[295,{"$nulls":3},71,null,73,null,74]
[296,{"$nulls":3},71,null,73,null,74]
[297,{"$nulls":3},71,null,73,null,74]
[298,{"$nulls":3},71,null,73,null,74]
[299,{"$nulls":3},71,null,73,null,74]
[300,{"$nulls":3},71,null,73,null,74]
[301,{"$nulls":3},71,null,73,null,74]
[302,{"$nulls":3},71,null,73,null,74]
[303,{"$nulls":3},71,null,73,null,74]
[304,{"$nulls":3},72,null,73,null,74]
[305,{"$nulls":3},72,null,73,null,74]
[306,{"$nulls":3},72,null,73,null,74]
[307,{"$nulls":3},72,null,73,null,74]
[308,{"$nulls":3},72,null,73,null,74]
[309,{"$nulls":3},72,null,73,null,74]
[310,{"$nulls":3},72,null,73,null,74]
[311,{"$nulls":3},72,null,73,null,74]
[312,{"$nulls":3},72,null,73,null,74]
[313,{"$nulls":3},72,null,73,null,74]
[314,{"$nulls":3},72,null,74,null,74]
[315,{"$nulls":3},72,null,74,null,74]
[316,{"$nulls":3},72,null,74,null,74]
[317,{"$nulls":3},72,null,74,null,74]
[318,{"$nulls":3},72,null,74,null,74]
[319,{"$nulls":3},72,null,74,null,74]
[320,{"$nulls":3},72,null,74,null,74]
[321,{"$nulls":3},72,null,74,null,74]
[322,{"$nulls":3},72,null,74,null,74]
[323,{"$nulls":3},72,null,74,null,74]
[324,{"$nulls":3},72,null,74,null,74]
[325,{"$nulls":3},72,null,74,null,74]
[326,{"$nulls":3},72,null,74,null,74]
[327,{"$nulls":3},72,null,74,null,74]
[328,{"$nulls":3},72,null,74,null,74]
[329,{"$nulls":3},72,null,74,null,74]
[330,{"$nulls":3},72,null,74,null,74]
[331,{"$nulls":3},72,null,74,null,74]
[332,{"$nulls":3},72,null,74,null,74]
[333,{"$nulls":3},72,null,74,null,74]
[334,{"$nulls":3},72,null,74,null,74]
[335,{"$nulls":3},72,null,74,null,74]
[336,{"$nulls":3},72,null,74,null,74]
[337,{"$nulls":3},72,null,74,null,74]
[338,{"$nulls":3},72,null,74,null,74]
[339,{"$nulls":3},72,null,74,null,74]
[340,{"$nulls":3},72,null,74,null,74]
[341,{"$nulls":3},73,null,74,null,74]
[342,{"$nulls":3},73,null,74,null,74]
[343,{"$nulls":3},73,null,74,null,74]
[344,{"$nulls":3},73,null,74,null,74]
[345,{"$nulls":3},73,null,74,null,74]
[346,{"$nulls":3},73,null,74,null,74]
[347,{"$nulls":3},73,null,74,null,74]
[348,{"$nulls":3},73,null,74,null,74]
[349,{"$nulls":3},73,null,74,null,75]
[350,{"$nulls":3},73,null,74,null,75]
[351,{"$nulls":3},73,null,74,null,75]
[352,{"$nulls":3},73,null,74,null,75]
[353,{"$nulls":3},73,null,74,null,75]
[354,{"$nulls":3},73,null,74,null,75]
[355,{"$nulls":3},73,null,75,null,75]
[356,{"$nulls":3},73,null,75,null,75]
[357,{"$nulls":3},73,null,75,null,75]
[358,{"$nulls":3},73,null,75,null,75]
[359,{"$nulls":3},73,null,75,null,75]
[360,{"$nulls":3},73,null,75,null,75]
[361,{"$nulls":3},73,null,75,null,75]
[362,{"$nulls":3},73,null,75,null,75]
[363,{"$nulls":3},73,null,75,null,75]
[364,{"$nulls":3},73,null,75,null,75]
[365,{"$nulls":3},73,null,75,null,75]
[366,{"$nulls":3},73,null,75,null,75]
[367,{"$nulls":3},73,null,75,null,75]
[368,{"$nulls":3},73,null,75,null,75]
[369,{"$nulls":3},74,null,75,null,75]
[370,{"$nulls":3},74,null,75,null,75]
[371,{"$nulls":3},74,null,75,null,75]
[372,{"$nulls":3},74,null,75,null,75]
[373,{"$nulls":3},74,null,75,null,75]
[374,{"$nulls":3},74,null,75,null,75]
[375,{"$nulls":3},74,null,75,null,75]
[376,{"$nulls":3},74,null,75,null,75]
[377,{"$nulls":3},74,null,75,null,75]
[378,{"$nulls":3},74,null,75,null,75]
[379,{"$nulls":3},74,null,75,null,75]
[380,{"$nulls":3},74,null,75,null,75]
[381,{"$nulls":3},74,null,75,null,75]
[382,{"$nulls":3},74,null,75,null,75]
[383,{"$nulls":3},74,null,75,null,75]
[384,{"$nulls":3},74,null,75,null,75]
[385,{"$nulls":3},74,null,75,null,75]
[386,{"$nulls":3},74,null,75,null,75]
[387,{"$nulls":3},74,null,75,null,75]
[388,{"$nulls":3},74,null,75,null,75]
[389,{"$nulls":3},74,null,75,null,75]
[390,{"$nulls":3},74,null,75,null,75]
[391,{"$nulls":3},74,null,75,null,75]
[392,{"$nulls":3},74,null,75,null,75]
[393,{"$nulls":3},74,null,75,null,75]
[394,{"$nulls":3},74,null,75,null,75]
[395,{"$nulls":3},74,null,75,null,75]
[396,{"$nulls":3},74,null,75,null,75]
[397,{"$nulls":3},74,null,75,null,75]
[398,{"$nulls":3},74,{"$nulls":3},75]
[399,{"$nulls":3},74,{"$nulls":3},75]
[400,{"$nulls":3},74,{"$nulls":3},75]
[401,{"$nulls":3},74,{"$nulls":3},75]
[402,{"$nulls":3},74,{"$nulls":3},75]
[403,{"$nulls":3},74,{"$nulls":3},75]
[404,{"$nulls":3},75,{"$nulls":3},75]
[405,{"$nulls":3},75,{"$nulls":3},75]
[406,{"$nulls":3},75,{"$nulls":3},75]
[407,{"$nulls":3},75,{"$nulls":3},75]
[408,{"$nulls":3},75,{"$nulls":3},75]
[409,{"$nulls":3},75,{"$nulls":3},75]
[410,{"$nulls":3},75,{"$nulls":3},75]
[411,{"$nulls":3},75]
[412,{"$nulls":3},75]
[413,{"$nulls":3},75]
[414,{"$nulls":3},75]
[415,{"$nulls":3},75]
[416,{"$nulls":3},75]
[417,{"$nulls":3},75]
[418,{"$nulls":3},75]
[419,{"$nulls":3},75]
[420,{"$nulls":3},75]
[421,{"$nulls":3},75]
[422,{"$nulls":3},75]
[423,{"$nulls":3},75]
[424,{"$nulls":3},75]

{"sheet":"samples","index":2,"n_rows":53,"n_cols":100,"rows_kept":53}
[{"$f":"sampx(pop, popsize,confLevel,NewSample)","v":75},70,70,61,75,62,71,72,72,68,{"$f":"sampx(pop, popsize,confLevel,NewSample)","v":62},72,73,72,73,75,61,70,74,72,{"$f":"sampx(pop, popsize,confLevel,NewSample)","v":73},63,61,71,68,74,75,69,64,74,{"$f":"sampx(pop, popsize,confLevel,NewSample)","v":66},74,74,75,70,64,66,61,64,65,{"$f":"sampx(pop, popsize,confLevel,NewSample)","v":64},73,73,63,75,72,67,75,75,72,{"$f":"sampx(pop, popsize,confLevel,NewSample)","v":65},73,68,64,69,75,75,75,72,64,{"$f":"sampx(pop, popsize,confLevel,NewSample)","v":69},72,74,75,75,74,74,74,72,74,{"$f":"sampx(pop, popsize,confLevel,NewSample)","v":72},70,75,70,74,74,75,75,75,73,{"$f":"sampx(pop, popsize,confLevel,NewSample)","v":71},71,75,75,73,68,69,75,72,71,{"$f":"sampx(pop, popsize,confLevel,NewSample)","v":74},72,64,74,66,74,75,71,73,64]
[70,62,70,74,69,71,73,75,73,74,72,75,71,74,71,72,69,74,75,74,75,75,74,73,70,73,75,72,73,73,71,66,71,70,75,72,75,71,73,75,75,72,66,73,66,72,71,67,71,73,72,73,74,71,75,75,71,73,69,71,73,73,74,75,67,64,67,71,64,71,71,75,71,64,75,72,67,75,70,75,69,73,71,74,75,74,75,73,73,73,73,71,75,67,70,73,74,66,75,73]
[74,75,67,70,72,73,65,75,63,66,67,75,72,71,70,72,70,71,67,71,75,72,75,74,66,75,73,75,71,75,65,73,72,64,75,71,61,68,71,72,65,73,70,75,67,75,74,71,67,68,74,72,63,71,72,74,75,70,71,75,70,73,68,74,75,75,75,63,75,72,64,73,68,71,73,75,72,73,62,70,65,75,72,73,71,73,71,73,73,72,69,65,69,75,68,70,71,72,72,68]
[73,72,62,75,75,70,69,74,71,71,75,74,69,67,68,72,75,74,64,74,75,72,73,65,69,71,71,73,71,71,73,71,61,72,74,74,72,70,75,75,72,75,74,72,64,74,74,71,75,73,74,71,69,74,71,75,74,72,74,74,68,74,66,71,73,75,74,73,75,75,65,71,65,71,69,75,73,71,73,69,74,74,70,75,75,73,73,69,75,73,68,71,69,67,74,73,71,75,68,75]
[64,74,71,63,71,73,67,69,70,74,70,69,65,66,71,72,73,69,73,71,75,75,71,73,72,61,65,75,74,70,70,75,72,69,72,71,74,69,74,69,71,70,73,74,75,72,75,65,74,71,71,73,67,61,68,69,75,75,68,74,65,75,71,73,72,73,71,74,73,75,72,71,71,66,74,71,73,66,67,68,69,73,73,72,68,73,75,75,71,67,71,64,75,75,75,69,75,69,75,72]
[72,62,74,71,70,69,65,72,73,75,68,68,66,74,69,71,69,70,69,75,64,74,70,71,68,72,66,73,71,74,73,71,70,74,74,68,64,74,66,72,71,72,75,69,73,73,72,72,70,68,75,74,71,73,69,72,75,71,75,72,72,67,72,72,65,75,75,72,71,75,74,73,72,74,72,69,69,74,62,75,74,73,74,73,71,74,73,65,73,67,71,72,69,75,70,72,72,69,74,69]
[75,74,73,73,73,75,70,72,73,72,71,75,75,72,72,73,68,64,73,71,74,75,75,72,72,73,70,72,63,70,72,67,68,75,75,72,72,71,72,65,71,72,73,74,74,74,73,72,72,74,75,72,72,62,71,71,75,72,74,72,70,74,73,68,62,72,62,66,74,73,72,75,75,75,73,72,71,67,71,67,75,65,73,73,70,69,66,70,75,64,68,71,68,72,75,72,71,73,63,65]
[73,71,73,75,73,74,70,73,67,71,67,74,67,69,74,75,74,73,69,75,64,66,75,71,65,73,70,69,72,68,73,74,73,74,73,75,64,69,73,66,71,71,73,73,64,72,71,73,66,63,71,74,70,75,63,71,69,74,75,69,63,66,75,73,71,69,75,65,73,72,61,73,68,74,72,70,73,67,74,72,72,75,70,67,67,70,67,71,73,73,72,72,75,72,73,73,72,71,69,71]
[65,75,75,71,71,74,61,72,72,64,73,68,69,71,72,67,69,72,72,69,68,68,75,75,68,69,73,70,69,73,73,72,71,65,73,73,69,69,75,74,69,71,71,72,73,65,72,68,71,71,75,73,71,73,74,66,69,72,73,64,72,65,75,70,74,73,73,73,74,75,73,75,73,70,62,75,73,62,62,75,72,75,75,71,74,75,63,71,72,75,75,71,75,66,67,64,73,75,74,63]
[74,72,71,75,72,64,68,72,74,75,66,71,71,71,71,67,74,75,71,66,71,70,71,69,70,72,71,69,70,73,66,68,65,69,70,71,70,67,72,72,74,74,70,72,72,71,65,73,73,72,75,75,73,73,75,64,65,74,73,69,67,73,75,73,73,70,64,74,74,69,73,73,71,75,64,64,74,75,73,72,71,71,68,70,63,74,74,69,71,62,74,72,75,68,64,69,72,73,73,71]
[{"$f":"sampx(pop, popsize,confLevel,NewSample)","v":72},75,75,73,64,73,72,64,65,74,{"$f":"sampx(pop, popsize,confLevel,NewSample)","v":64},73,75,62,75,74,74,74,67,72,{"$f":"sampx(pop, popsize,confLevel,NewSample)","v":71},73,68,75,65,73,71,66,68,71,{"$f":"sampx(pop, popsize,confLevel,NewSample)","v":64},75,73,71,72,64,65,73,68,74,{"$f":"sampx(pop, popsize,confLevel,NewSample)","v":72},74,73,71,72,73,73,71,75,73,{"$f":"sampx(pop, popsize,confLevel,NewSample)","v":71},73,66,73,75,64,74,68,69,62,{"$f":"sampx(pop, popsize,confLevel,NewSample)","v":75},75,73,73,74,67,74,71,72,75,{"$f":"sampx(pop, popsize,confLevel,NewSample)","v":74},72,72,71,72,75,72,70,75,74,{"$f":"sampx(pop, popsize,confLevel,NewSample)","v":72},72,73,68,73,68,63,67,67,74,{"$f":"sampx(pop, popsize,confLevel,NewSample)","v":72},75,75,64,75,75,72,69,61,69]
[75,72,74,73,72,73,65,75,72,75,73,70,74,72,62,75,70,72,70,64,73,70,69,71,69,71,74,69,72,71,74,74,69,72,72,75,75,71,75,74,71,70,74,74,75,65,71,65,72,74,73,74,69,67,72,72,68,64,70,71,74,69,74,71,73,71,75,75,73,75,69,68,72,73,65,75,75,68,71,73,73,74,71,71,64,73,67,72,73,71,74,74,75,66,75,68,71,72,75,71]
[69,65,71,75,66,74,68,67,72,75,72,72,75,71,75,71,71,72,71,75,73,73,72,75,74,75,61,68,72,75,75,66,72,73,65,72,72,75,74,75,71,67,73,71,73,64,72,74,73,71,74,74,69,75,74,71,65,75,73,74,74,74,72,72,74,72,73,74,62,72,71,72,69,68,71,73,75,66,75,73,62,72,69,74,74,72,71,69,73,73,73,71,72,71,72,72,65,72,68,69]
[68,71,68,67,71,65,65,74,70,64,73,73,73,71,71,72,75,75,71,73,71,70,71,73,74,66,72,74,64,75,75,71,75,72,72,64,74,73,72,63,72,71,72,64,73,68,64,71,70,67,75,74,73,73,72,75,74,67,73,73,73,68,61,69,73,63,66,72,72,74,64,72,72,72,71,63,72,69,71,72,74,73,64,64,70,72,71,65,74,75,67,73,75,74,72,64,71,70,75,73]
[66,75,64,70,75,73,69,75,73,73,73,72,73,74,73,63,74,72,71,71,73,71,75,74,69,74,68,71,71,69,61,70,64,69,74,70,69,69,73,65,72,74,73,71,70,64,71,74,75,74,75,73,74,73,67,73,61,74,74,63,71,74,67,75,67,75,71,72,67,73,74,62,74,72,73,71,67,72,71,72,75,73,64,74,67,67,67,72,73,74,67,67,71,75,72,75,74,71,67,73]
[69,75,75,74,71,72,69,75,69,66,74,71,71,69,72,66,61,64,65,69,72,72,71,75,75,73,71,74,69,75,74,70,72,74,75,74,71,73,72,75,75,75,70,66,75,75,64,68,75,69,73,69,75,70,73,72,72,71,73,71,73,67,70,75,75,64,75,68,63,75,68,72,73,71,66,64,72,65,75,69,75,71,62,62,74,74,72,74,75,75,72,71,67,71,74,75,72,75,74,75]
[74,64,69,65,74,69,69,75,68,71,74,71,75,71,73,73,69,64,71,62,69,72,72,69,72,67,75,74,70,71,74,74,74,61,75,75,71,72,75,75,72,73,75,71,73,75,74,70,69,75,64,62,68,71,67,71,74,75,74,75,72,69,73,72,74,72,72,74,73,75,64,75,74,73,69,70,70,70,66,75,71,72,69,72,74,71,73,71,71,74,69,75,72,72,71,64,69,75,74,74]
[63,72,75,67,71,74,74,70,72,73,73,74,71,72,69,71,65,72,72,70,71,69,71,75,72,72,72,74,62,70,67,71,75,62,70,72,75,75,75,64,72,71,62,71,64,71,71,71,72,71,75,70,73,75,67,66,75,68,73,73,75,73,74,72,67,71,73,74,66,74,72,74,72,71,71,75,75,71,73,75,71,74,74,69,73,75,64,61,75,72,72,72,73,74,74,73,74,73,73,75]
[69,69,71,64,75,74,65,75,71,69,71,72,75,72,63,72,73,70,70,74,72,65,72,75,69,66,74,72,71,74,72,69,74,73,73,71,73,70,69,69,73,74,73,75,72,74,69,72,72,61,71,73,65,70,72,70,73,70,64,71,71,75,72,73,73,73,74,73,67,74,73,74,71,74,75,75,68,75,73,75,67,74,67,74,71,64,74,73,73,69,65,71,73,68,70,65,71,73,63,72]
[75,69,74,68,71,74,74,72,74,73,67,68,73,75,65,74,71,75,62,71,73,74,68,74,73,71,75,69,65,71,72,75,75,68,74,72,75,67,73,72,71,66,73,70,70,69,73,74,71,72,72,72,72,73,75,71,73,67,71,71,71,71,64,74,73,66,75,72,74,68,66,72,73,67,70,74,74,73,71,73,69,64,66,73,71,75,75,72,67,73,71,69,67,73,72,70,64,74,72,72]
[{"$f":"sampx(pop, popsize,confLevel,NewSample)","v":75},72,75,69,72,71,73,71,65,67,{"$f":"sampx(pop, popsize,confLevel,NewSample)","v":74},72,73,66,72,69,74,74,73,74,{"$f":"sampx(pop, popsize,confLevel,NewSample)","v":75},75,68,75,74,75,64,71,70,74,{"$f":"sampx(pop, popsize,confLevel,NewSample)","v":75},73,68,73,73,67,64,72,71,65,{"$f":"sampx(pop, popsize,confLevel,NewSample)","v":69},73,71,72,72,72,71,73,72,70,{"$f":"sampx(pop, popsize,confLevel,NewSample)","v":62},72,72,73,71,73,67,63,74,74,{"$f":"sampx(pop, popsize,confLevel,NewSample)","v":74},73,74,63,68,74,71,67,62,73,{"$f":"sampx(pop, popsize,confLevel,NewSample)","v":67},68,66,68,73,69,72,74,67,71,{"$f":"sampx(pop, popsize,confLevel,NewSample)","v":70},74,74,68,68,74,66,71,73,70,{"$f":"sampx(pop, popsize,confLevel,NewSample)","v":63},71,73,64,70,71,73,75,75,73]
[74,74,71,64,71,72,67,68,75,75,71,68,75,73,73,73,74,74,74,70,73,64,68,67,72,75,74,75,73,72,74,71,75,71,68,74,64,71,73,74,62,69,71,73,66,68,72,73,74,65,71,69,70,74,67,75,70,64,71,71,70,68,74,75,73,69,67,69,75,75,71,69,70,69,74,74,70,69,71,69,75,73,72,73,72,74,74,61,69,73,66,67,72,72,66,65,69,66,73,70]
[72,70,72,67,75,71,72,72,74,73,71,75,64,68,74,75,72,75,74,75,75,66,69,74,73,75,71,75,72,71,67,74,72,64,73,71,75,75,67,74,69,74,74,72,71,74,73,70,74,75,75,66,73,72,74,74,72,75,66,65,69,66,65,75,72,66,67,74,72,67,75,71,74,67,71,74,73,74,69,69,75,67,67,69,73,68,74,72,71,64,75,73,72,75,72,75,74,64,70,74]
[70,68,72,74,61,74,72,73,75,75,73,68,74,70,66,73,72,72,64,73,74,73,62,72,64,73,71,71,74,64,75,74,72,70,64,72,72,72,74,62,71,75,69,69,71,70,73,67,73,75,75,75,73,67,73,75,71,72,74,63,70,72,71,71,72,75,75,64,72,65,73,70,64,72,75,64,73,74,74,64,75,73,73,71,65,73,73,67,75,73,69,67,72,69,73,72,72,74,61,68]
[72,75,71,64,73,68,64,64,71,71,64,75,75,68,71,72,72,68,65,65,74,71,70,72,75,65,72,72,75,71,70,72,67,63,67,75,73,75,71,75,75,68,70,72,73,75,67,73,69,71,73,64,72,74,73,75,71,74,71,71,72,70,66,72,68,72,71,71,72,72,72,71,74,74,72,73,71,68,73,69,72,72,75,70,64,75,69,72,72,73,70,75,66,71,75,72,75,71,61,75]
[74,72,74,69,69,73,70,68,73,75,74,69,75,72,72,71,73,73,72,73,74,68,73,68,74,75,75,71,68,64,68,72,72,75,70,74,72,63,71,72,71,71,64,71,67,67,68,73,74,74,72,71,75,71,67,71,67,74,75,67,75,74,72,69,71,73,74,75,69,64,67,75,75,68,71,75,75,65,69,66,64,75,75,72,67,74,73,73,70,74,69,67,73,75,74,74,74,74,62,66]
[71,72,74,75,75,73,73,74,74,72,73,73,73,72,73,75,65,73,71,72,72,69,70,72,73,64,74,74,73,71,73,74,74,71,70,72,72,71,73,71,71,67,75,71,71,75,73,73,70,74,75,69,74,67,64,64,71,73,68,72,71,62,71,75,75,65,72,75,75,67,64,61,73,63,73,75,69,74,71,64,74,74,75,73,69,64,73,71,73,70,74,75,73,72,62,72,69,74,73,71]
[68,74,74,73,65,74,74,74,73,68,75,74,68,72,74,70,72,65,75,73,74,73,75,73,66,63,75,71,72,71,65,64,75,72,71,74,75,73,75,64,73,75,75,68,69,65,75,70,73,72,64,74,72,71,71,72,73,64,72,72,72,74,69,75,72,71,74,74,72,71,66,69,68,70,72,64,75,73,64,75,70,71,72,71,73,69,74,71,71,75,73,73,62,68,72,67,71,72,74,74]
[72,68,72,75,70,74,74,75,71,73,75,74,73,68,68,74,69,67,70,67,69,71,75,74,68,73,71,72,73,73,73,71,72,66,71,71,73,71,71,72,71,75,74,64,69,69,70,74,69,70,72,66,73,73,72,67,71,72,74,70,69,62,75,74,67,73,64,75,73,71,72,66,69,71,64,73,72,72,72,71,73,74,75,72,66,74,73,75,71,74,75,75,71,74,72,72,74,63,75,64]
[73,70,74,72,74,64,73,74,75,69,68,73,74,72,73,74,73,65,74,73,73,75,73,75,71,67,75,75,71,71,71,66,75,65,71,74,69,66,68,72,75,69,68,69,71,70,72,71,75,74,72,73,69,61,73,74,66,73,67,67,72,72,71,70,75,74,71,70,73,74,75,74,75,67,69,70,74,75,74,70,75,70,64,75,74,73,74,73,75,64,75,75,75,66,73,72,75,73,75,73]
[{"$f":"sampx(pop, popsize,confLevel,NewSample)","v":71},71,73,74,72,73,74,74,73,75,{"$f":"sampx(pop, popsize,confLevel,NewSample)","v":74},71,72,71,75,65,63,73,64,71,{"$f":"sampx(pop, popsize,confLevel,NewSample)","v":68},72,71,68,74,72,75,66,73,74,{"$f":"sampx(pop, popsize,confLevel,NewSample)","v":73},65,66,69,74,73,72,68,74,65,{"$f":"sampx(pop, popsize,confLevel,NewSample)","v":71},74,75,73,75,74,73,72,69,75,{"$f":"sampx(pop, popsize,confLevel,NewSample)","v":71},69,75,73,72,68,74,72,69,75,{"$f":"sampx(pop, popsize,confLevel,NewSample)","v":66},75,71,73,68,75,70,68,71,70,{"$f":"sampx(pop, popsize,confLevel,NewSample)","v":64},75,65,66,74,73,64,72,74,65,{"$f":"sampx(pop, popsize,confLevel,NewSample)","v":75},74,72,66,75,66,74,75,75,73,{"$f":"sampx(pop, popsize,confLevel,NewSample)","v":71},69,75,72,71,75,75,71,72,68]
[69,72,73,65,64,71,75,71,75,65,64,73,72,73,72,70,69,75,75,74,66,72,74,73,74,70,74,74,74,74,73,73,68,72,71,70,71,72,75,69,72,74,69,74,73,75,63,71,68,71,72,71,64,71,74,70,69,71,69,74,68,69,73,71,67,70,72,69,64,73,73,73,73,68,65,61,65,71,70,70,72,72,73,72,75,74,71,75,71,64,69,64,74,74,70,65,72,75,71,72]
[62,69,72,75,74,74,68,71,75,70,73,72,73,75,66,65,71,72,73,72,72,67,74,74,71,74,71,72,68,70,68,72,73,72,75,67,75,70,64,66,72,72,74,71,73,73,71,72,62,67,74,72,64,69,71,68,72,74,71,75,67,64,71,74,74,69,65,72,74,73,75,74,73,69,71,74,75,65,75,64,65,74,66,72,69,66,68,74,73,66,65,73,72,74,75,71,73,74,73,70]
[75,71,75,61,71,74,71,75,73,75,75,71,72,71,75,72,73,73,73,75,75,70,72,64,75,75,74,74,67,70,75,75,70,67,72,64,72,69,75,72,74,75,71,73,75,72,67,72,69,69,73,67,71,71,67,69,73,72,74,74,73,74,74,71,73,72,74,73,69,74,72,69,65,66,75,71,67,73,75,69,73,75,64,75,72,65,71,71,72,65,65,73,75,75,69,65,74,75,71,73]
[69,75,70,66,75,73,61,75,73,64,73,75,75,74,74,74,72,73,67,74,72,71,70,69,68,74,66,72,73,70,74,73,75,75,72,69,72,72,71,73,75,72,67,73,71,68,72,74,72,74,72,71,75,72,74,67,74,75,72,64,70,65,72,75,75,67,73,67,73,65,72,70,71,73,75,71,73,73,71,75,69,62,69,72,74,71,74,71,73,72,71,69,73,72,71,74,71,73,73,75]
[74,72,72,72,73,75,69,64,71,73,75,73,71,72,74,75,69,75,74,74,72,75,74,75,72,73,73,71,69,70,74,65,62,73,73,64,74,64,74,75,67,70,65,72,71,75,69,72,71,74,64,70,72,72,74,65,73,75,74,64,64,73,75,75,75,73,70,75,75,73,72,72,71,72,66,64,73,74,70,74,63,69,75,74,70,71,64,70,72,62,66,73,72,75,71,66,64,71,71,75]
[74,75,72,74,71,71,73,74,73,64,73,75,71,72,67,72,67,75,75,73,62,75,75,73,75,71,63,72,67,74,73,73,71,74,74,75,71,72,66,67,75,71,67,73,75,64,75,70,61,74,75,70,67,73,74,73,71,75,72,72,73,72,66,67,73,74,73,67,71,75,71,74,61,75,70,71,71,71,70,71,75,72,73,74,64,74,64,72,75,68,70,73,74,72,69,71,75,71,64,63]
[72,74,74,67,72,71,71,71,71,67,74,75,71,66,68,66,71,62,66,66,68,71,72,66,73,71,63,73,73,72,70,74,74,73,75,75,70,74,68,74,69,75,67,75,71,64,71,68,74,71,65,65,63,74,74,68,70,72,71,63,71,65,75,67,75,63,69,65,71,71,73,75,67,72,68,63,75,73,65,71,68,74,74,62,73,71,73,72,64,73,72,75,74,73,75,65,62,74,72,66]
[72,71,68,71,73,72,72,73,72,73,71,68,75,73,71,74,72,71,72,67,75,69,74,73,75,63,69,70,71,67,74,71,69,71,75,63,74,74,68,70,67,74,72,69,65,68,73,71,71,73,65,75,71,65,75,74,63,69,66,70,72,68,63,69,68,75,75,74,75,73,72,71,68,73,73,62,75,73,75,67,75,75,66,73,65,75,75,71,66,73,67,73,73,69,66,75,69,74,75,74]
[73,69,70,72,75,73,74,64,72,71,75,75,74,74,64,70,72,75,63,73,64,71,70,73,69,75,66,74,69,74,72,70,71,72,71,71,71,72,72,73,74,69,74,68,69,73,75,74,73,75,75,72,73,73,74,71,74,69,71,70,74,72,73,71,73,75,70,64,72,67,68,75,75,72,75,74,71,72,71,75,69,71,69,75,73,75,73,74,65,73,74,72,74,71,71,72,71,72,66,75]
[{"$f":"sampx(pop, popsize,confLevel,NewSample)","v":73},74,62,75,73,72,73,71,71,74,{"$f":"sampx(pop, popsize,confLevel,NewSample)","v":71},70,74,73,68,72,73,63,67,68,{"$f":"sampx(pop, popsize,confLevel,NewSample)","v":67},74,68,75,74,75,70,71,72,72,{"$f":"sampx(pop, popsize,confLevel,NewSample)","v":71},72,75,67,65,74,67,72,64,71,{"$f":"sampx(pop, popsize,confLevel,NewSample)","v":71},75,68,73,65,74,73,70,67,68,{"$f":"sampx(pop, popsize,confLevel,NewSample)","v":74},71,71,73,72,67,73,74,72,73,{"$f":"sampx(pop, popsize,confLevel,NewSample)","v":75},72,73,71,70,71,75,74,71,64,{"$f":"sampx(pop, popsize,confLevel,NewSample)","v":66},68,72,73,68,73,72,71,69,69,{"$f":"sampx(pop, popsize,confLevel,NewSample)","v":75},73,72,71,73,74,71,74,72,73,{"$f":"sampx(pop, popsize,confLevel,NewSample)","v":69},74,75,69,75,64,71,71,71,70]
[75,72,68,68,70,73,67,73,65,71,72,71,71,68,64,75,67,65,67,72,70,74,75,70,74,75,73,72,75,71,75,68,73,68,73,75,70,71,74,75,75,71,75,64,73,71,73,74,71,62,73,71,72,72,74,69,72,75,75,73,63,73,72,71,75,69,74,69,74,67,73,71,64,71,73,75,73,71,71,73,69,66,75,73,74,73,69,74,72,75,74,74,73,72,74,63,73,75,73,69]
[69,70,70,72,74,72,63,73,72,74,72,75,73,73,73,74,67,73,72,75,73,73,72,75,71,75,65,71,75,75,75,72,70,68,71,71,74,73,72,70,75,67,72,67,72,72,74,72,73,73,75,69,68,69,75,71,73,75,66,74,70,69,72,73,74,68,71,69,75,68,71,75,74,73,74,75,71,72,75,73,65,75,71,70,68,73,74,73,75,74,71,73,68,64,73,71,73,64,72,74]
[62,72,61,72,63,74,70,71,75,71,73,74,72,71,63,64,73,75,64,71,69,74,73,71,62,75,72,75,64,71,65,69,73,71,64,69,70,73,72,73,69,75,69,72,73,73,70,75,75,71,70,72,66,74,72,71,65,71,73,67,71,73,72,75,71,71,69,71,65,66,71,75,72,71,73,74,72,69,73,74,63,63,71,71,74,72,73,72,72,75,73,75,69,66,70,69,74,64,72,67]
[75,69,72,67,72,74,75,74,75,74,71,67,62,72,68,68,74,73,62,74,75,72,69,71,67,62,72,70,63,74,74,72,73,71,74,61,71,69,75,71,73,71,72,73,75,69,74,62,72,63,70,75,74,74,73,73,74,75,67,72,73,72,71,73,74,73,64,75,67,72,75,71,74,65,66,63,70,73,72,72,73,75,74,70,75,71,74,74,71,75,72,70,71,72,66,70,72,74,70,73]
[73,72,65,67,69,72,75,72,74,64,69,69,73,64,71,74,72,71,71,73,65,70,71,73,70,75,74,75,68,75,62,65,63,75,70,74,72,74,71,72,71,72,73,75,70,73,65,72,70,72,74,75,69,71,66,74,70,71,72,69,72,64,72,72,71,67,74,75,72,75,73,73,72,73,71,72,70,74,73,70,75,69,72,73,73,65,73,75,71,62,72,75,66,75,72,63,71,73,73,71]
[72,70,74,74,73,74,74,65,66,74,70,72,75,69,75,75,64,75,69,72,63,68,62,70,72,73,73,73,75,74,73,73,66,64,71,75,75,74,72,74,75,71,75,73,63,75,64,72,70,62,69,72,75,64,75,73,66,73,75,69,70,72,72,72,75,72,73,73,73,64,71,74,73,72,72,61,74,71,71,73,72,71,75,71,66,74,73,74,74,75,62,66,75,74,75,75,71,71,72,73]
[75,72,72,72,71,74,64,69,67,67,68,74,69,73,72,67,65,75,68,69,75,69,62,64,71,71,72,72,73,75,68,69,75,74,70,71,73,66,70,71,71,70,74,74,65,71,65,75,72,75,75,71,70,74,73,71,74,72,74,73,72,73,75,64,71,75,71,63,73,74,72,73,74,72,75,71,70,71,75,69,74,70,73,71,69,67,64,74,72,71,69,73,70,74,72,73,71,69,74,73]
[73,72,72,69,71,72,70,73,75,74,67,74,71,64,73,64,75,71,71,71,72,73,64,71,71,72,72,74,65,63,73,64,73,72,74,75,66,73,72,71,63,70,75,75,71,65,75,75,67,74,74,74,73,72,68,72,71,69,66,73,72,69,74,65,72,75,64,74,75,72,75,71,68,71,67,68,71,65,70,71,68,74,75,72,73,75,72,67,74,72,74,71,70,71,75,72,75,74,71,71]
[72,67,74,69,72,73,69,66,71,73,74,70,68,75,71,61,70,70,72,64,65,74,73,65,74,73,69,69,74,74,74,75,74,65,72,75,72,65,72,71,73,71,71,74,64,75,74,73,71,71,74,74,74,66,74,72,71,74,65,73,74,74,70,70,75,72,67,71,69,71,67,70,65,73,68,73,72,70,68,72,72,67,72,71,73,70,72,73,72,73,66,65,65,73,73,72,66,72,70,73]
[]
[{"$f":"AVERAGE(A1:A50)","v":71.32},71.16,71.2,70.16,71.28,71.94,69.78,71.6,71.58,71.08,71.14,{"$f":"AVERAGE(L1:L50)","v":72.04},71.82,70.8,70.58,71,70.4,71.26,69.88,71.24,71.06,71.16,70.94,71.7,70.84,71.4,71,71.9,70.22,71.68,71.14,70.94,71.12,70.1,71.74,71.1,70.96,{"$f":"AVERAGE(AL1:AL50)","v":70.66},71.52,70.7,71.26,71.86,71.44,71.26,70.58,70.94,70.92,71.4,71.18,70.92,71.9,71.38,70.64,70.84,71.54,70.86,71.06,71.68,71.28,70.34,70.84,70.56,71.34,71.76,71.84,71.04,71.14,71.04,71.16,71.44,70.4,71.7,70.72,70.62,70.88,70.64,71.76,70.92,70.94,71.04,71.08,71.76,71.06,71.32,70.74,71.48,70.96,71.36,72,71.02,70.36,71.34,71.62,71.24,71.42,70.26,71.56,71.62,70.86,70.94]
[{"$f":"STDEVA(A1:A50)/SQRT(50)","v":0.5025973354810518},{"$f":"STDEVA(B1:B50)/SQRT(50)","v":0.4520790972872796},0.4981598792617912,0.5745344166526211,0.4668959592186398,0.4094894780736879,0.5385467974663154,0.47207747548166606,0.42770388383190777,0.5173243564688581,0.47638948222595173,0.34636302767295396,0.437702722711874,0.42666241494480217,0.5023130172979183,0.524501707162452,0.5103020314140502,0.5305445796730075,0.5327173313325191,0.4620804771324349,0.5302367588239836,0.43270388611754396,0.5224823012332962,0.44652856023107956,0.46013307746736903,0.5576920370269466,0.5198115828188643,0.32857142857142846,0.5040974962388582,0.4065183179847407,0.5306984231430604,0.45750878211711493,0.5218804304373461,0.5400302334695943,0.4088909839244367,0.5369984608346429,0.500579256298875,0.4585781040902635,0.4391457384420767,0.5385164807134504,0.4396752047981394,0.34993877015435554,0.450994366225729,0.4359460741787186,0.5103740125173511,0.5090286868945921,0.48050993321508695,0.3927922024247862,0.44049137682958606,0.5366867364312485,0.5048742013449227,0.4236768117519848,0.47445780010621874,0.520878379004433,0.4464919954946744,0.4535663666759165,0.48940613742263067,0.46285714285714274,0.4295607628492058,0.5387892700778483,0.4279614707052064,0.5222869646749644,0.48116355571358366,0.41753406313443586,0.44387900539287883,{"$f":"STDEVA(BN1:BN50)/SQRT(50)","v":0.5022073724050249},0.520604044767779,0.511867329749913,0.5232239150747247,0.49252369672609114,0.518238775634773,0.4391550328268399,0.49982854203073623,0.42174564343345883,0.48541167043646427,0.6380838662810424,0.3785687331440431,0.4605586669625116,0.5033844637723209,0.44717708677745943,0.5290268308461321,0.4664761515876241,0.5154035470643665,0.4308889719202023,0.5020854468298872,0.46619606981419753,0.514253967274092,0.46577563136719613,0.36477558099439156,0.5674792093647347,0.4753172946698288,0.44410883019956343,0.4728463529196222,0.47514552013685496,0.44911704760449656,0.5389407600628691,0.4296747702195992,0.4525573590886643,0.588328660057368,0.4843763084248293]

{"sheet":"Sheet4","index":3,"n_rows":202,"n_cols":11,"rows_kept":202}
[null,"x's",{"$f":"samples!A52-$H$25*samples!A53","v":70.02832484781369},{"$f":"samples!A52+$H$25*samples!A53","v":72.6116751521863},{"$f":"IF(OR(C1>ConfInts!$F$17,D1<ConfInts!$F$17),1,0)","v":0}]
[null,"y's",1,1]
[null,null,{"$f":"samples!B$52-$H$25*samples!B$53","v":69.99815671997169},{"$f":"samples!B$52+$H$25*samples!B$53","v":72.3218432800283},{"$f":"IF(OR(C3>ConfInts!$F$17,D3<ConfInts!$F$17),1,0)","v":0},null,null,"For Pop'n Histogram"]
[null,null,2,2,{"$nulls":3},"      Pop Freqs"]
[null,null,{"$f":"samples!C$52-$H$25*samples!C$53","v":69.9197291102972},{"$f":"samples!C$52+$H$25*samples!C$53","v":72.48027088970281},{"$f":"IF(OR(C5>ConfInts!$F$17,D5<ConfInts!$F$17),1,0)","v":0},null,null,61,{"$f":"IF(pop=1,Sheet2!D5,IF(pop=2,Sheet2!F5,IF(pop=3,Sheet2!H5,Sheet2!J5)))","v":3}]
[null,null,3,3,{"$nulls":3},62,{"$f":"IF(pop=1,Sheet2!D6,IF(pop=2,Sheet2!F6,IF(pop=3,Sheet2!H6,Sheet2!J6)))","v":5}]
[null,null,{"$f":"samples!D$52-$H$25*samples!D$53","v":68.68344654920276},{"$f":"samples!D$52+$H$25*samples!D$53","v":71.63655345079724},{"$f":"IF(OR(C7>ConfInts!$F$17,D7<ConfInts!$F$17),1,0)","v":0},null,null,63,{"$f":"IF(pop=1,Sheet2!D7,IF(pop=2,Sheet2!F7,IF(pop=3,Sheet2!H7,Sheet2!J7)))","v":6}]
[null,null,4,4,{"$nulls":3},64,{"$f":"IF(pop=1,Sheet2!D8,IF(pop=2,Sheet2!F8,IF(pop=3,Sheet2!H8,Sheet2!J8)))","v":15}]
[null,"series 5",{"$f":"samples!E$52-$H$25*samples!E$53","v":70.08007738480809},{"$f":"samples!E$52+$H$25*samples!E$53","v":72.47992261519191},{"$f":"IF(OR(C9>ConfInts!$F$17,D9<ConfInts!$F$17),1,0)","v":0},null,null,65,{"$f":"IF(pop=1,Sheet2!D9,IF(pop=2,Sheet2!F9,IF(pop=3,Sheet2!H9,Sheet2!J9)))","v":11}]
[null,null,5,5,{"$nulls":3},66,{"$f":"IF(pop=1,Sheet2!D10,IF(pop=2,Sheet2!F10,IF(pop=3,Sheet2!H10,Sheet2!J10)))","v":10}]
[null,14,{"$f":"samples!F$52-$H$25*samples!F$53","v":70.88761204135062},{"$f":"samples!F$52+$H$25*samples!F$53","v":72.99238795864937},{"$f":"IF(OR(C11>ConfInts!$F$17,D11<ConfInts!$F$17),1,0)","v":0},null,null,67,{"$f":"IF(pop=1,Sheet2!D11,IF(pop=2,Sheet2!F11,IF(pop=3,Sheet2!H11,Sheet2!J11)))","v":15}]
[null,null,6,6,{"$nulls":3},68,{"$f":"IF(pop=1,Sheet2!D12,IF(pop=2,Sheet2!F12,IF(pop=3,Sheet2!H12,Sheet2!J12)))","v":14}]
[null,16,{"$f":"samples!G$52-$H$25*samples!G$53","v":68.39593473051157},{"$f":"samples!G$52+$H$25*samples!G$53","v":71.16406526948843},{"$f":"IF(OR(C13>ConfInts!$F$17,D13<ConfInts!$F$17),1,0)","v":1},null,null,69,{"$f":"IF(pop=1,Sheet2!D13,IF(pop=2,Sheet2!F13,IF(pop=3,Sheet2!H13,Sheet2!J13)))","v":23}]
[null,null,7,7,{"$nulls":3},70,{"$f":"IF(pop=1,Sheet2!D14,IF(pop=2,Sheet2!F14,IF(pop=3,Sheet2!H14,Sheet2!J14)))","v":20}]
[null,18,{"$f":"samples!H$52-$H$25*samples!H$53","v":70.3867608880121},{"$f":"samples!H$52+$H$25*samples!H$53","v":72.81323911198788},{"$f":"IF(OR(C15>ConfInts!$F$17,D15<ConfInts!$F$17),1,0)","v":0},null,null,71,{"$f":"IF(pop=1,Sheet2!D15,IF(pop=2,Sheet2!F15,IF(pop=3,Sheet2!H15,Sheet2!J15)))","v":54}]
[null,null,8,8,{"$nulls":3},72,{"$f":"IF(pop=1,Sheet2!D16,IF(pop=2,Sheet2!F16,IF(pop=3,Sheet2!H16,Sheet2!J16)))","v":58}]
[null,20,{"$f":"samples!I$52-$H$25*samples!I$53","v":70.480801018552},{"$f":"samples!I$52+$H$25*samples!I$53","v":72.679198981448},{"$f":"IF(OR(C17>ConfInts!$F$17,D17<ConfInts!$F$17),1,0)","v":0},null,null,73,{"$f":"IF(pop=1,Sheet2!D17,IF(pop=2,Sheet2!F17,IF(pop=3,Sheet2!H17,Sheet2!J17)))","v":60}]
[null,null,9,9,{"$nulls":3},74,{"$f":"IF(pop=1,Sheet2!D18,IF(pop=2,Sheet2!F18,IF(pop=3,Sheet2!H18,Sheet2!J18)))","v":54}]
[null,22,{"$f":"samples!J$52-$H$25*samples!J$53","v":69.75047640387503},{"$f":"samples!J$52+$H$25*samples!J$53","v":72.40952359612497},{"$f":"IF(OR(C19>ConfInts!$F$17,D19<ConfInts!$F$17),1,0)","v":0},null,null,75,{"$f":"IF(pop=1,Sheet2!D19,IF(pop=2,Sheet2!F19,IF(pop=3,Sheet2!H19,Sheet2!J19)))","v":62}]
[null,null,10,10]
[null,24,{"$f":"samples!K$52-$H$25*samples!K$53","v":69.9156790306793},{"$f":"samples!K$52+$H$25*samples!K$53","v":72.3643209693207},{"$f":"IF(OR(C21>ConfInts!$F$17,D21<ConfInts!$F$17),1,0)","v":0},"pop=",{"$f":"IF(pop=1,\"normal\",IF(pop=2,\"uniform\",IF(pop=3,\"U-shaped\",\"skewed\")))","v":"skewed"}]
[null,null,11,11,null,"pop n=",{"$f":"IF(pop=1, 210,IF(pop=2,424,IF(pop=3,397,410)))","v":410}]
[null,26,{"$f":"samples!L$52-$H$25*samples!L$53","v":71.14984701888052},{"$f":"samples!L$52+$H$25*samples!L$53","v":72.93015298111949},{"$f":"IF(OR(C23>ConfInts!$F$17,D23<ConfInts!$F$17),1,0)","v":0},null,{"$f":"IF(pop=1, 210,IF(pop=2,424,IF(pop=3,397,410)))","v":410}]
[null,null,12,12,null,null,"confLevel=",{"$f":"IF(ConfInts!D12=TRUE, 90,IF(ConfInts!D13=TRUE, 95,IF(ConfInts!D14=TRUE,98,99)))","v":99}]
[null,28,{"$f":"samples!M$52-$H$25*samples!M$53","v":70.69510400263047},{"$f":"samples!M$52+$H$25*samples!M$53","v":72.94489599736951},{"$f":"IF(OR(C25>ConfInts!$F$17,D25<ConfInts!$F$17),1,0)","v":0},null,"z-value=",{"$f":"IF(ConfInts!D12=TRUE, 1.645,IF(ConfInts!D13=TRUE, 1.96,IF(ConfInts!D14=TRUE,2.33,2.57)))","v":2.57}]
[null,null,13,13]
[null,30,{"$f":"samples!N$52-$H$25*samples!N$53","v":69.70347759359186},{"$f":"samples!N$52+$H$25*samples!N$53","v":71.89652240640814},{"$f":"IF(OR(C27>ConfInts!$F$17,D27<ConfInts!$F$17),1,0)","v":0},"misses=",{"$f":"SUM(E1:E160)","v":1},{"$f":"(80-G27)/80","v":{"v":0.9875,"d":"98.75%"}}]
[null,null,14,14,null,"hits=",{"$f":"80-G27","v":79}]
[null,32,{"$f":"samples!O$52-$H$25*samples!O$53","v":69.28905554554434},{"$f":"samples!O$52+$H$25*samples!O$53","v":71.87094445445565},{"$f":"IF(OR(C29>ConfInts!$F$17,D29<ConfInts!$F$17),1,0)","v":0}]
[null,null,15,15]
[null,34,{"$f":"samples!P$52-$H$25*samples!P$53","v":69.6520306125925},{"$f":"samples!P$52+$H$25*samples!P$53","v":72.3479693874075},{"$f":"IF(OR(C31>ConfInts!$F$17,D31<ConfInts!$F$17),1,0)","v":0},{"$nulls":3},"      New Sample =",null,{"$f":"IF(ConfInts!D25=TRUE,1,-1)","v":-1}]
[null,null,16,16]
[null,36,{"$f":"samples!Q$52-$H$25*samples!Q$53","v":69.0885237792659},{"$f":"samples!Q$52+$H$25*samples!Q$53","v":71.71147622073411},{"$f":"IF(OR(C33>ConfInts!$F$17,D33<ConfInts!$F$17),1,0)","v":0}]
[null,null,17,17]
[null,38,{"$f":"samples!R$52-$H$25*samples!R$53","v":69.89650043024038},{"$f":"samples!R$52+$H$25*samples!R$53","v":72.62349956975963},{"$f":"IF(OR(C35>ConfInts!$F$17,D35<ConfInts!$F$17),1,0)","v":0}]
[null,null,18,18]
[null,40,{"$f":"samples!S$52-$H$25*samples!S$53","v":68.51091645847542},{"$f":"samples!S$52+$H$25*samples!S$53","v":71.24908354152457},{"$f":"IF(OR(C37>ConfInts!$F$17,D37<ConfInts!$F$17),1,0)","v":0}]
[null,null,19,19]
[null,42,{"$f":"samples!T$52-$H$25*samples!T$53","v":70.05245317376963},{"$f":"samples!T$52+$H$25*samples!T$53","v":72.42754682623035},{"$f":"IF(OR(C39>ConfInts!$F$17,D39<ConfInts!$F$17),1,0)","v":0}]
[null,null,20,20]
[null,44,{"$f":"samples!U$52-$H$25*samples!U$53","v":69.69729152982237},{"$f":"samples!U$52+$H$25*samples!U$53","v":72.42270847017764},{"$f":"IF(OR(C41>ConfInts!$F$17,D41<ConfInts!$F$17),1,0)","v":0}]
[null,null,21,21]
[null,46,{"$f":"samples!V$52-$H$25*samples!V$53","v":70.04795101267791},{"$f":"samples!V$52+$H$25*samples!V$53","v":72.27204898732208},{"$f":"IF(OR(C43>ConfInts!$F$17,D43<ConfInts!$F$17),1,0)","v":0}]
[null,null,22,22]
[null,48,{"$f":"samples!W$52-$H$25*samples!W$53","v":69.59722048583043},{"$f":"samples!W$52+$H$25*samples!W$53","v":72.28277951416956},{"$f":"IF(OR(C45>ConfInts!$F$17,D45<ConfInts!$F$17),1,0)","v":0}]
[null,null,23,23]
[null,50,{"$f":"samples!X$52-$H$25*samples!X$53","v":70.55242160020613},{"$f":"samples!X$52+$H$25*samples!X$53","v":72.84757839979387},{"$f":"IF(OR(C47>ConfInts!$F$17,D47<ConfInts!$F$17),1,0)","v":0}]
[null,null,24,24]
[null,52,{"$f":"samples!Y$52-$H$25*samples!Y$53","v":69.65745799090887},{"$f":"samples!Y$52+$H$25*samples!Y$53","v":72.02254200909114},{"$f":"IF(OR(C49>ConfInts!$F$17,D49<ConfInts!$F$17),1,0)","v":0}]
[null,null,25,25]
[null,54,{"$f":"samples!Z$52-$H$25*samples!Z$53","v":69.96673146484075},{"$f":"samples!Z$52+$H$25*samples!Z$53","v":72.83326853515926},{"$f":"IF(OR(C51>ConfInts!$F$17,D51<ConfInts!$F$17),1,0)","v":0}]
[null,null,26,26]
[null,56,{"$f":"samples!AA$52-$H$25*samples!AA$53","v":69.66408423215552},{"$f":"samples!AA$52+$H$25*samples!AA$53","v":72.33591576784448},{"$f":"IF(OR(C53>ConfInts!$F$17,D53<ConfInts!$F$17),1,0)","v":0}]
[null,null,27,27]
[null,58,{"$f":"samples!AB$52-$H$25*samples!AB$53","v":71.05557142857144},{"$f":"samples!AB$52+$H$25*samples!AB$53","v":72.74442857142857},{"$f":"IF(OR(C55>ConfInts!$F$17,D55<ConfInts!$F$17),1,0)","v":0}]
[null,null,28,28]
[null,60,{"$f":"samples!AC$52-$H$25*samples!AC$53","v":68.92446943466614},{"$f":"samples!AC$52+$H$25*samples!AC$53","v":71.51553056533386},{"$f":"IF(OR(C57>ConfInts!$F$17,D57<ConfInts!$F$17),1,0)","v":0}]
[null,null,29,29]
[null,62,{"$f":"samples!AD$52-$H$25*samples!AD$53","v":70.63524792277923},{"$f":"samples!AD$52+$H$25*samples!AD$53","v":72.72475207722078},{"$f":"IF(OR(C59>ConfInts!$F$17,D59<ConfInts!$F$17),1,0)","v":0}]
[null,null,30,30]
[null,64,{"$f":"samples!AE$52-$H$25*samples!AE$53","v":69.77610505252234},{"$f":"samples!AE$52+$H$25*samples!AE$53","v":72.50389494747766},{"$f":"IF(OR(C61>ConfInts!$F$17,D61<ConfInts!$F$17),1,0)","v":0}]
[null,null,31,31]
[null,66,{"$f":"samples!AF$52-$H$25*samples!AF$53","v":69.76420242995901},{"$f":"samples!AF$52+$H$25*samples!AF$53","v":72.11579757004098},{"$f":"IF(OR(C63>ConfInts!$F$17,D63<ConfInts!$F$17),1,0)","v":0}]
[null,null,32,32]
[null,68,{"$f":"samples!AG$52-$H$25*samples!AG$53","v":69.77876729377603},{"$f":"samples!AG$52+$H$25*samples!AG$53","v":72.46123270622398},{"$f":"IF(OR(C65>ConfInts!$F$17,D65<ConfInts!$F$17),1,0)","v":0}]
[null,null,33,33]
[null,70,{"$f":"samples!AH$52-$H$25*samples!AH$53","v":68.71212229998314},{"$f":"samples!AH$52+$H$25*samples!AH$53","v":71.48787770001685},{"$f":"IF(OR(C67>ConfInts!$F$17,D67<ConfInts!$F$17),1,0)","v":0}]
[null,null,34,34]
[null,72,{"$f":"samples!AI$52-$H$25*samples!AI$53","v":70.6891501713142},{"$f":"samples!AI$52+$H$25*samples!AI$53","v":72.7908498286858},{"$f":"IF(OR(C69>ConfInts!$F$17,D69<ConfInts!$F$17),1,0)","v":0}]
[null,null,35,35]
[null,74,{"$f":"samples!AJ$52-$H$25*samples!AJ$53","v":69.71991395565496},{"$f":"samples!AJ$52+$H$25*samples!AJ$53","v":72.48008604434503},{"$f":"IF(OR(C71>ConfInts!$F$17,D71<ConfInts!$F$17),1,0)","v":0}]
[null,null,36,36]
[null,76,{"$f":"samples!AK$52-$H$25*samples!AK$53","v":69.67351131131188},{"$f":"samples!AK$52+$H$25*samples!AK$53","v":72.2464886886881},{"$f":"IF(OR(C73>ConfInts!$F$17,D73<ConfInts!$F$17),1,0)","v":0}]
[null,null,37,37]
[null,78,{"$f":"samples!AL$52-$H$25*samples!AL$53","v":69.48145427248802},{"$f":"samples!AL$52+$H$25*samples!AL$53","v":71.83854572751197},{"$f":"IF(OR(C75>ConfInts!$F$17,D75<ConfInts!$F$17),1,0)","v":0}]
[null,null,38,38]
[null,80,{"$f":"samples!AM$52-$H$25*samples!AM$53","v":70.39139545220385},{"$f":"samples!AM$52+$H$25*samples!AM$53","v":72.64860454779614},{"$f":"IF(OR(C77>ConfInts!$F$17,D77<ConfInts!$F$17),1,0)","v":0}]
[null,null,39,39]
[null,82,{"$f":"samples!AN$52-$H$25*samples!AN$53","v":69.31601264456644},{"$f":"samples!AN$52+$H$25*samples!AN$53","v":72.08398735543356},{"$f":"IF(OR(C79>ConfInts!$F$17,D79<ConfInts!$F$17),1,0)","v":0}]
[null,null,40,40]
[null,84,{"$f":"samples!AO$52-$H$25*samples!AO$53","v":70.13003472366879},{"$f":"samples!AO$52+$H$25*samples!AO$53","v":72.38996527633122},{"$f":"IF(OR(C81>ConfInts!$F$17,D81<ConfInts!$F$17),1,0)","v":0}]
[null,null,41,41]
[null,86,{"$f":"samples!AP$52-$H$25*samples!AP$53","v":70.96065736070331},{"$f":"samples!AP$52+$H$25*samples!AP$53","v":72.75934263929669},{"$f":"IF(OR(C83>ConfInts!$F$17,D83<ConfInts!$F$17),1,0)","v":0}]
[null,null,42,42]
[null,88,{"$f":"samples!AQ$52-$H$25*samples!AQ$53","v":70.28094447879988},{"$f":"samples!AQ$52+$H$25*samples!AQ$53","v":72.59905552120011},{"$f":"IF(OR(C85>ConfInts!$F$17,D85<ConfInts!$F$17),1,0)","v":0}]
[null,null,43,43]
[null,90,{"$f":"samples!AR$52-$H$25*samples!AR$53","v":70.1396185893607},{"$f":"samples!AR$52+$H$25*samples!AR$53","v":72.38038141063932},{"$f":"IF(OR(C87>ConfInts!$F$17,D87<ConfInts!$F$17),1,0)","v":0}]
[null,null,44,44]
[null,92,{"$f":"samples!AS$52-$H$25*samples!AS$53","v":69.2683387878304},{"$f":"samples!AS$52+$H$25*samples!AS$53","v":71.8916612121696},{"$f":"IF(OR(C89>ConfInts!$F$17,D89<ConfInts!$F$17),1,0)","v":0}]
[null,null,45,45]
[null,94,{"$f":"samples!AT$52-$H$25*samples!AT$53","v":69.6317962746809},{"$f":"samples!AT$52+$H$25*samples!AT$53","v":72.2482037253191},{"$f":"IF(OR(C91>ConfInts!$F$17,D91<ConfInts!$F$17),1,0)","v":0}]
[null,null,46,46]
[null,96,{"$f":"samples!AU$52-$H$25*samples!AU$53","v":69.68508947163723},{"$f":"samples!AU$52+$H$25*samples!AU$53","v":72.15491052836278},{"$f":"IF(OR(C93>ConfInts!$F$17,D93<ConfInts!$F$17),1,0)","v":0}]
[null,null,47,47]
[null,98,{"$f":"samples!AV$52-$H$25*samples!AV$53","v":70.39052403976831},{"$f":"samples!AV$52+$H$25*samples!AV$53","v":72.4094759602317},{"$f":"IF(OR(C95>ConfInts!$F$17,D95<ConfInts!$F$17),1,0)","v":0}]
[null,null,48,48]
[null,100,{"$f":"samples!AW$52-$H$25*samples!AW$53","v":70.04793716154796},{"$f":"samples!AW$52+$H$25*samples!AW$53","v":72.31206283845205},{"$f":"IF(OR(C97>ConfInts!$F$17,D97<ConfInts!$F$17),1,0)","v":0}]
[null,null,49,49]
[null,102,{"$f":"samples!AX$52-$H$25*samples!AX$53","v":69.5407150873717},{"$f":"samples!AX$52+$H$25*samples!AX$53","v":72.29928491262831},{"$f":"IF(OR(C99>ConfInts!$F$17,D99<ConfInts!$F$17),1,0)","v":0}]
[null,null,50,50]
[null,104,{"$f":"samples!AY$52-$H$25*samples!AY$53","v":70.60247330254356},{"$f":"samples!AY$52+$H$25*samples!AY$53","v":73.19752669745645},{"$f":"IF(OR(C101>ConfInts!$F$17,D101<ConfInts!$F$17),1,0)","v":0}]
[null,null,51,51]
[null,106,{"$f":"samples!AZ$52-$H$25*samples!AZ$53","v":70.2911505937974},{"$f":"samples!AZ$52+$H$25*samples!AZ$53","v":72.4688494062026},{"$f":"IF(OR(C103>ConfInts!$F$17,D103<ConfInts!$F$17),1,0)","v":0}]
[null,null,52,52]
[null,108,{"$f":"samples!BA$52-$H$25*samples!BA$53","v":69.42064345372702},{"$f":"samples!BA$52+$H$25*samples!BA$53","v":71.85935654627298},{"$f":"IF(OR(C105>ConfInts!$F$17,D105<ConfInts!$F$17),1,0)","v":0}]
[null,null,53,53]
[null,110,{"$f":"samples!BB$52-$H$25*samples!BB$53","v":69.50134256595861},{"$f":"samples!BB$52+$H$25*samples!BB$53","v":72.1786574340414},{"$f":"IF(OR(C107>ConfInts!$F$17,D107<ConfInts!$F$17),1,0)","v":0}]
[null,null,54,54]
[null,112,{"$f":"samples!BC$52-$H$25*samples!BC$53","v":70.3925155715787},{"$f":"samples!BC$52+$H$25*samples!BC$53","v":72.68748442842131},{"$f":"IF(OR(C109>ConfInts!$F$17,D109<ConfInts!$F$17),1,0)","v":0}]
[null,null,55,55]
[null,114,{"$f":"samples!BD$52-$H$25*samples!BD$53","v":69.6943344376429},{"$f":"samples!BD$52+$H$25*samples!BD$53","v":72.0256655623571},{"$f":"IF(OR(C111>ConfInts!$F$17,D111<ConfInts!$F$17),1,0)","v":0}]
[null,null,56,56]
[null,116,{"$f":"samples!BE$52-$H$25*samples!BE$53","v":69.80222622682385},{"$f":"samples!BE$52+$H$25*samples!BE$53","v":72.31777377317616},{"$f":"IF(OR(C113>ConfInts!$F$17,D113<ConfInts!$F$17),1,0)","v":0}]
[null,null,57,57]
[null,118,{"$f":"samples!BF$52-$H$25*samples!BF$53","v":70.49045714285715},{"$f":"samples!BF$52+$H$25*samples!BF$53","v":72.86954285714286},{"$f":"IF(OR(C115>ConfInts!$F$17,D115<ConfInts!$F$17),1,0)","v":0}]
[null,null,58,58]
[null,120,{"$f":"samples!BG$52-$H$25*samples!BG$53","v":70.17602883947754},{"$f":"samples!BG$52+$H$25*samples!BG$53","v":72.38397116052246},{"$f":"IF(OR(C117>ConfInts!$F$17,D117<ConfInts!$F$17),1,0)","v":0}]
[null,null,59,59]
[null,122,{"$f":"samples!BH$52-$H$25*samples!BH$53","v":68.95531157589993},{"$f":"samples!BH$52+$H$25*samples!BH$53","v":71.72468842410008},{"$f":"IF(OR(C119>ConfInts!$F$17,D119<ConfInts!$F$17),1,0)","v":0}]
[null,null,60,60]
[null,124,{"$f":"samples!BI$52-$H$25*samples!BI$53","v":69.74013902028763},{"$f":"samples!BI$52+$H$25*samples!BI$53","v":71.93986097971238},{"$f":"IF(OR(C121>ConfInts!$F$17,D121<ConfInts!$F$17),1,0)","v":0}]
[null,null,61,61]
[null,126,{"$f":"samples!BJ$52-$H$25*samples!BJ$53","v":69.21772250078534},{"$f":"samples!BJ$52+$H$25*samples!BJ$53","v":71.90227749921466},{"$f":"IF(OR(C123>ConfInts!$F$17,D123<ConfInts!$F$17),1,0)","v":0}]
[null,null,62,62]
[null,128,{"$f":"samples!BK$52-$H$25*samples!BK$53","v":70.10340966181609},{"$f":"samples!BK$52+$H$25*samples!BK$53","v":72.57659033818392},{"$f":"IF(OR(C125>ConfInts!$F$17,D125<ConfInts!$F$17),1,0)","v":0}]
[null,null,63,63]
[null,130,{"$f":"samples!BL$52-$H$25*samples!BL$53","v":70.6869374577445},{"$f":"samples!BL$52+$H$25*samples!BL$53","v":72.8330625422555},{"$f":"IF(OR(C127>ConfInts!$F$17,D127<ConfInts!$F$17),1,0)","v":0}]
[null,null,64,64]
[null,132,{"$f":"samples!BM$52-$H$25*samples!BM$53","v":70.69923095614031},{"$f":"samples!BM$52+$H$25*samples!BM$53","v":72.9807690438597},{"$f":"IF(OR(C129>ConfInts!$F$17,D129<ConfInts!$F$17),1,0)","v":0}]
[null,null,65,65]
[null,134,{"$f":"samples!BN$52-$H$25*samples!BN$53","v":69.74932705291909},{"$f":"samples!BN$52+$H$25*samples!BN$53","v":72.33067294708093},{"$f":"IF(OR(C131>ConfInts!$F$17,D131<ConfInts!$F$17),1,0)","v":0}]
[null,null,66,66]
[null,136,{"$f":"samples!BO$52-$H$25*samples!BO$53","v":69.80204760494681},{"$f":"samples!BO$52+$H$25*samples!BO$53","v":72.4779523950532},{"$f":"IF(OR(C133>ConfInts!$F$17,D133<ConfInts!$F$17),1,0)","v":0}]
[null,null,67,67]
[null,138,{"$f":"samples!BP$52-$H$25*samples!BP$53","v":69.72450096254273},{"$f":"samples!BP$52+$H$25*samples!BP$53","v":72.35549903745728},{"$f":"IF(OR(C135>ConfInts!$F$17,D135<ConfInts!$F$17),1,0)","v":0}]
[null,null,68,68]
[null,140,{"$f":"samples!BQ$52-$H$25*samples!BQ$53","v":69.81531453825795},{"$f":"samples!BQ$52+$H$25*samples!BQ$53","v":72.50468546174204},{"$f":"IF(OR(C137>ConfInts!$F$17,D137<ConfInts!$F$17),1,0)","v":0}]
[null,null,69,69]
[null,142,{"$f":"samples!BR$52-$H$25*samples!BR$53","v":70.17421409941394},{"$f":"samples!BR$52+$H$25*samples!BR$53","v":72.70578590058605},{"$f":"IF(OR(C139>ConfInts!$F$17,D139<ConfInts!$F$17),1,0)","v":0}]
[null,null,70,70]
[null,144,{"$f":"samples!BS$52-$H$25*samples!BS$53","v":69.06812634661864},{"$f":"samples!BS$52+$H$25*samples!BS$53","v":71.73187365338137},{"$f":"IF(OR(C141>ConfInts!$F$17,D141<ConfInts!$F$17),1,0)","v":0}]
[null,null,71,71]
[null,146,{"$f":"samples!BT$52-$H$25*samples!BT$53","v":70.57137156563502},{"$f":"samples!BT$52+$H$25*samples!BT$53","v":72.82862843436499},{"$f":"IF(OR(C143>ConfInts!$F$17,D143<ConfInts!$F$17),1,0)","v":0}]
[null,null,72,72]
[null,148,{"$f":"samples!BU$52-$H$25*samples!BU$53","v":69.43544064698101},{"$f":"samples!BU$52+$H$25*samples!BU$53","v":72.00455935301899},{"$f":"IF(OR(C145>ConfInts!$F$17,D145<ConfInts!$F$17),1,0)","v":0}]
[null,null,73,73]
[null,150,{"$f":"samples!BV$52-$H$25*samples!BV$53","v":69.53611369637602},{"$f":"samples!BV$52+$H$25*samples!BV$53","v":71.70388630362399},{"$f":"IF(OR(C147>ConfInts!$F$17,D147<ConfInts!$F$17),1,0)","v":0}]
[null,null,74,74]
[null,152,{"$f":"samples!BW$52-$H$25*samples!BW$53","v":69.63249200697828},{"$f":"samples!BW$52+$H$25*samples!BW$53","v":72.12750799302171},{"$f":"IF(OR(C149>ConfInts!$F$17,D149<ConfInts!$F$17),1,0)","v":0}]
[null,null,75,75]
[null,154,{"$f":"samples!BX$52-$H$25*samples!BX$53","v":69.00012446365773},{"$f":"samples!BX$52+$H$25*samples!BX$53","v":72.27987553634227},{"$f":"IF(OR(C151>ConfInts!$F$17,D151<ConfInts!$F$17),1,0)","v":0}]
[null,null,76,76]
[null,156,{"$f":"samples!BY$52-$H$25*samples!BY$53","v":70.78707835581982},{"$f":"samples!BY$52+$H$25*samples!BY$53","v":72.7329216441802},{"$f":"IF(OR(C153>ConfInts!$F$17,D153<ConfInts!$F$17),1,0)","v":0}]
[null,null,77,77]
[null,158,{"$f":"samples!BZ$52-$H$25*samples!BZ$53","v":69.73636422590634},{"$f":"samples!BZ$52+$H$25*samples!BZ$53","v":72.10363577409366},{"$f":"IF(OR(C155>ConfInts!$F$17,D155<ConfInts!$F$17),1,0)","v":0}]
[null,null,78,78]
[null,160,{"$f":"samples!CA$52-$H$25*samples!CA$53","v":69.64630192810513},{"$f":"samples!CA$52+$H$25*samples!CA$53","v":72.23369807189486},{"$f":"IF(OR(C157>ConfInts!$F$17,D157<ConfInts!$F$17),1,0)","v":0}]
[null,null,79,79]
[null,162,{"$f":"samples!CB$52-$H$25*samples!CB$53","v":69.89075488698194},{"$f":"samples!CB$52+$H$25*samples!CB$53","v":72.18924511301807},{"$f":"IF(OR(C159>ConfInts!$F$17,D159<ConfInts!$F$17),1,0)","v":0}]
[null,null,80,80]
[{"$nulls":4},{"$f":"IF(OR(C161>ConfInts!$F$17,D161<ConfInts!$F$17),1,0)","v":1}]
[]
[{"$nulls":4},{"$f":"IF(OR(C163>ConfInts!$F$17,D163<ConfInts!$F$17),1,0)","v":1}]
[]
[{"$nulls":4},{"$f":"IF(OR(C165>ConfInts!$F$17,D165<ConfInts!$F$17),1,0)","v":1}]
[]
[{"$nulls":4},{"$f":"IF(OR(C167>ConfInts!$F$17,D167<ConfInts!$F$17),1,0)","v":1}]
[]
[{"$nulls":4},{"$f":"IF(OR(C169>ConfInts!$F$17,D169<ConfInts!$F$17),1,0)","v":1}]
[]
[{"$nulls":4},{"$f":"IF(OR(C171>ConfInts!$F$17,D171<ConfInts!$F$17),1,0)","v":1}]
[]
[{"$nulls":4},{"$f":"IF(OR(C173>ConfInts!$F$17,D173<ConfInts!$F$17),1,0)","v":1}]
[]
[{"$nulls":4},{"$f":"IF(OR(C175>ConfInts!$F$17,D175<ConfInts!$F$17),1,0)","v":1}]
[]
[{"$nulls":4},{"$f":"IF(OR(C177>ConfInts!$F$17,D177<ConfInts!$F$17),1,0)","v":1}]
[]
[{"$nulls":4},{"$f":"IF(OR(C179>ConfInts!$F$17,D179<ConfInts!$F$17),1,0)","v":1}]
[]
[{"$nulls":4},{"$f":"IF(OR(C181>ConfInts!$F$17,D181<ConfInts!$F$17),1,0)","v":1}]
[]
[{"$nulls":4},{"$f":"IF(OR(C183>ConfInts!$F$17,D183<ConfInts!$F$17),1,0)","v":1}]
[]
[{"$nulls":4},{"$f":"IF(OR(C185>ConfInts!$F$17,D185<ConfInts!$F$17),1,0)","v":1}]
[]
[{"$nulls":4},{"$f":"IF(OR(C187>ConfInts!$F$17,D187<ConfInts!$F$17),1,0)","v":1}]
[]
[{"$nulls":4},{"$f":"IF(OR(C189>ConfInts!$F$17,D189<ConfInts!$F$17),1,0)","v":1}]
[]
[{"$nulls":4},{"$f":"IF(OR(C191>ConfInts!$F$17,D191<ConfInts!$F$17),1,0)","v":1}]
[]
[{"$nulls":4},{"$f":"IF(OR(C193>ConfInts!$F$17,D193<ConfInts!$F$17),1,0)","v":1}]
[]
[{"$nulls":4},{"$f":"IF(OR(C195>ConfInts!$F$17,D195<ConfInts!$F$17),1,0)","v":1}]
[]
[{"$nulls":4},{"$f":"IF(OR(C197>ConfInts!$F$17,D197<ConfInts!$F$17),1,0)","v":1}]
[]
[{"$nulls":4},{"$f":"IF(OR(C199>ConfInts!$F$17,D199<ConfInts!$F$17),1,0)","v":1}]
[]
[null,null,{"$f":"ConfInts!F17","v":71.19},{"$f":"ConfInts!F17","v":71.19}]
[null,null,{"v":0,"d":"0.00"},80]