{"text_format":"3","workbook":"xlsx","n_sheets":4,"sheets":["HypoTests","Sheet2","samples","Sheet4"],"not_rendered":{"charts":2,"macros":1,"defined_names":22,"comments":1},"read":"whole","date_system":"1900"}

{"sheet":"HypoTests","index":0,"n_rows":50,"n_cols":9,"rows_kept":50}
[null,"        Simulating Hypothesis Testing"]
[]
[null,null,"This program generates 80 random samples from"]
[null,null,"  various population patterns and compares the"]
[null,null,"                sample means to m as a set of "]
[null,null,"                  two-sided hypothesis tests."]
[]
["Which population do you want?"]
[{"$nulls":3},2,{"$nulls":3},1]
[]
[]
[]
[]
["What is the level of significance a?"]
[{"$nulls":3},4]
[{"$nulls":3},2,{"$nulls":3},1,3]
[]
[]
[]
[]
[]
[]
["The mean and standard deviation ",{"$nulls":3},"m =     ",{"$f":"IF(pop=1,Sheet2!B2,IF(pop=2,Sheet2!E2,IF(pop=3,Sheet2!G2,Sheet2!I2)))","v":{"v":68.06666666666666,"d":"68.07"}}]
[null,"of the sampling distribution are:",null,null,"  s =",{"$f":"IF(pop=1,Sheet2!C3,IF(pop=2,Sheet2!F3,IF(pop=3,Sheet2!H3,Sheet2!J3)))","v":{"v":0.40202661208606194,"d":"0.402"}}]
[]
[{"$f":"\"       \" &Sheet4!I27&\" of the 80 random sample means, or \"&TEXT(Sheet4!J27,\"0.00%\")&\", \"","v":"       1 of the 80 random sample means, or 1.25%, "}]
[null,{"$f":"\"based on samples of size 50 from the \"&TEXT(pop_name,\"\")&\" population\"","v":"based on samples of size 50 from the normal population"}]
[null,{"$f":"\"fell in the rejection region at the \"&TEXT(Sheet4!J24,\"0%\")&\" significance level.\"","v":"fell in the rejection region at the 2% significance level."}]
[]
[]
[null,null,"Run a New Random Sample",null,false]
[]
[]
[]
["Click each item below for suggestions and investigations"]
[null,null,"   Item 1"]
[null,null,"   Item 2"]
[null,null,"   Item 3"]
[null,null,"   Item 4"]
[null,null,"   Item 5"]
[]
[]
["To access/download all the DIGMath Apps for Statistics"]
[null,null,"        Click this link:","DIGMath for Statistics and Probability"]
[]
["Created by:  Sheldon P. Gordon   &   Florence S. Gordon    © 2025"]
["                  Farmingdale State College      NYIT"]
["Development of this module was supported by the "]
["NSF's Division of Undergraduate Education  "]
["under grants DUE-0310123 and DUE-0442160."]

{"sheet":"Sheet2","index":1,"n_rows":428,"n_cols":12,"rows_kept":428}
[null,"Normal data",null,null,"Uniform data",null,"U-shaped",null,"Skewed data",null,null,"Pop"]
["mu, sigma,n=",{"$f":"AVERAGE(B5:B424)","v":68.06666666666666},null,null,68.47,null,68.61,null,71.19]
[null,{"$f":"_xlfn.STDEV.P(B5:B424420)","v":2.8427574362350803},{"$f":"B3/SQRT(50)","v":0.40202661208606194},null,4.162,{"$f":"E3/SQRT(50)","v":0.5885956846596822},4.801,{"$f":"G3/SQRT(50)","v":0.678963931295323},3.291,{"$f":"I3/SQRT(50)","v":0.4654176833769856}]
[null,420,null,null,424,null,397,null,410]
[1,61,61,4,61,{"$f":"COUNTIF(E$5:E$502,\"=61\")","v":23},61,{"$f":"COUNTIF(G$5:G$502,\"=61\")","v":18},61,{"$f":"COUNTIF(I$5:I$502,\"=61\")","v":3},null,{"$f":"IF(pop=1,D5,IF(pop=2,F5, IF(pop=3,H5,J5)))","v":4}]
[2,61,62,12,61,{"$f":"COUNTIF(E$5:E$502,\"=62\")","v":28},61,{"$f":"COUNTIF(G$5:G$502,\"=62\")","v":22},61,{"$f":"COUNTIF(I$5:I$502,\"=62\")","v":5},null,{"$f":"IF(pop=1,D6,IF(pop=2,F6, IF(pop=3,H6,J6)))","v":12}]
[3,61,63,6,61,{"$f":"COUNTIF(E$5:E$502,\"=63\")","v":19},61,{"$f":"COUNTIF(G$5:G$502,\"=63\")","v":35},61,{"$f":"COUNTIF(I$5:I$502,\"=63\")","v":6},null,{"$f":"IF(pop=1,D7,IF(pop=2,F7, IF(pop=3,H7,J7)))","v":6}]
[4,61,64,16,61,{"$f":"COUNTIF(E$5:E$502,\"=64\")","v":24},61,{"$f":"COUNTIF(G$5:G$502,\"=64\")","v":44},62,{"$f":"COUNTIF(I$5:I$502,\"=64\")","v":15},null,{"$f":"IF(pop=1,D8,IF(pop=2,F8, IF(pop=3,H8,J8)))","v":16}]
[5,62,65,28,61,{"$f":"COUNTIF(E$5:E$502,\"=65\")","v":25},61,{"$f":"COUNTIF(G$5:G$502,\"=65\")","v":36},62,{"$f":"COUNTIF(I$5:I$502,\"=65\")","v":11},null,{"$f":"IF(pop=1,D9,IF(pop=2,F9, IF(pop=3,H9,J9)))","v":28}]
[6,62,66,54,61,{"$f":"COUNTIF(E$5:E$502,\"=66\")","v":27},61,{"$f":"COUNTIF(G$5:G$502,\"=66\")","v":21},62,{"$f":"COUNTIF(I$5:I$502,\"=66\")","v":10},null,{"$f":"IF(pop=1,D10,IF(pop=2,F10, IF(pop=3,H10,J10)))","v":54}]
[7,62,67,60,61,{"$f":"COUNTIF(E$5:E$502,\"=67\")","v":21},61,{"$f":"COUNTIF(G$5:G$502,\"=67\")","v":7},62,{"$f":"COUNTIF(I$5:I$502,\"=67\")","v":15},null,{"$f":"IF(pop=1,D11,IF(pop=2,F11, IF(pop=3,H11,J11)))","v":60}]
[8,62,68,70,61,{"$f":"COUNTIF(E$5:E$502,\"=68\")","v":29},61,{"$f":"COUNTIF(G$5:G$502,\"=68\")","v":8},62,{"$f":"COUNTIF(I$5:I$502,\"=68\")","v":14},null,{"$f":"IF(pop=1,D12,IF(pop=2,F12, IF(pop=3,H12,J12)))","v":70}]
[9,62,69,56,61,{"$f":"COUNTIF(E$5:E$502,\"=69\")","v":34},61,{"$f":"COUNTIF(G$5:G$502,\"=69\")","v":9},63,{"$f":"COUNTIF(I$5:I$502,\"=69\")","v":23},null,{"$f":"IF(pop=1,D13,IF(pop=2,F13, IF(pop=3,H13,J13)))","v":56}]
[10,62,70,32,61,{"$f":"COUNTIF(E$5:E$502,\"=70\")","v":29},61,{"$f":"COUNTIF(G$5:G$502,\"=70\")","v":10},63,{"$f":"COUNTIF(I$5:I$502,\"=70\")","v":20},null,{"$f":"IF(pop=1,D14,IF(pop=2,F14, IF(pop=3,H14,J14)))","v":32}]
[11,62,71,28,61,{"$f":"COUNTIF(E$5:E$502,\"=71\")","v":44},61,{"$f":"COUNTIF(G$5:G$502,\"=71\")","v":24},63,{"$f":"COUNTIF(I$5:I$502,\"=71\")","v":54},null,{"$f":"IF(pop=1,D15,IF(pop=2,F15, IF(pop=3,H15,J15)))","v":28}]
[12,62,72,20,61,{"$f":"COUNTIF(E$5:E$502,\"=72\")","v":37},61,{"$f":"COUNTIF(G$5:G$502,\"=72\")","v":34},63,{"$f":"COUNTIF(I$5:I$502,\"=72\")","v":58},null,{"$f":"IF(pop=1,D16,IF(pop=2,F16, IF(pop=3,H16,J16)))","v":20}]
[13,62,73,18,61,{"$f":"COUNTIF(E$5:E$502,\"=73\")","v":28},61,{"$f":"COUNTIF(G$5:G$502,\"=73\")","v":45},63,{"$f":"COUNTIF(I$5:I$502,\"=73\")","v":60},null,{"$f":"IF(pop=1,D17,IF(pop=2,F17, IF(pop=3,H17,J17)))","v":18}]
[14,62,74,12,61,{"$f":"COUNTIF(E$5:E$502,\"=74\")","v":35},61,{"$f":"COUNTIF(G$5:G$502,\"=74\")","v":41},63,{"$f":"COUNTIF(I$5:I$502,\"=74\")","v":54},null,{"$f":"IF(pop=1,D18,IF(pop=2,F18, IF(pop=3,H18,J18)))","v":12}]
[15,62,75,4,61,{"$f":"COUNTIF(E$5:E$502,\"=75\")","v":21},61,{"$f":"COUNTIF(G$5:G$502,\"=75\")","v":43},64,{"$f":"COUNTIF(I$5:I$502,\"=75\")","v":62},null,{"$f":"IF(pop=1,D19,IF(pop=2,F19, IF(pop=3,H19,J19)))","v":4}]
[16,62,null,null,61,null,61,null,64]
[17,63,null,null,61,null,61,null,64]
[18,63,null,null,61,null,61,null,64]
[19,63,null,null,61,null,62,null,64]
[20,63,null,null,61,null,62,null,64]
[21,63,null,null,61,null,62,null,64]
[22,63,null,null,61,null,62,null,64]
[23,64,null,null,61,null,62,null,64]
[24,64,null,null,62,null,62,null,64]
[25,64,null,null,62,null,62,null,64]
[26,64,null,null,62,null,62,null,64]
[27,64,null,null,62,null,62,null,64]
[28,64,null,null,62,null,62,null,64]
[29,64,null,null,62,null,62,null,64]
[30,64,null,null,62,null,62,null,65]
[31,64,null,null,62,null,62,null,65]
[32,64,null,null,62,null,62,null,65]
[33,64,null,null,62,null,62,null,65]
[34,64,null,null,62,null,62,null,65]
[35,64,null,null,62,null,62,null,65]
[36,64,null,null,62,null,62,null,65]
[37,64,null,null,62,null,62,null,65]
[38,64,null,null,62,null,62,null,65]
[39,65,null,null,62,null,62,null,65]
[40,65,null,null,62,null,62,null,65]
[41,65,null,null,62,null,63,null,66]
[42,65,null,null,62,null,63,null,66]
[43,65,null,null,62,null,63,null,66]
[44,65,null,null,62,null,63,null,66]
[45,65,null,null,62,null,63,null,66]
[46,65,null,null,62,null,63,null,66]
[47,65,null,null,62,null,63,null,66]
[48,65,null,null,62,null,63,null,66]
[49,65,null,null,62,null,63,null,66]
[50,65,null,null,62,null,63,null,66]
[51,65,null,null,62,null,63,null,67]
[52,65,null,null,63,null,63,null,67]
[53,65,null,null,63,null,63,null,67]
[54,65,null,null,63,null,63,null,67]
[55,65,null,null,63,null,63,null,67]
[56,65,null,null,63,null,63,null,67]
[57,65,null,null,63,null,63,null,67]
[58,65,null,null,63,null,63,null,67]
[59,65,null,null,63,null,63,null,67]
[60,65,null,null,63,null,63,null,67]
[61,65,null,null,63,null,63,null,67]
[62,65,null,null,63,null,63,null,67]
[63,65,null,null,63,null,63,null,67]
[64,65,null,null,63,null,63,null,67]
[65,65,null,null,63,null,63,null,67]
[66,65,null,null,63,null,63,null,68]
[67,66,null,null,63,null,63,null,68]
[68,66,null,null,63,null,63,null,68]
[69,66,null,null,63,null,63,null,68]
[70,66,null,null,63,null,63,null,68]
[71,66,null,null,64,null,63,null,68]
[72,66,null,null,64,null,63,null,68]
[73,66,null,null,64,null,63,null,68]
[74,66,null,null,64,null,63,null,68]
[75,66,null,null,64,null,63,null,68]
[76,66,null,null,64,null,64,null,68]
[77,66,null,null,64,null,64,null,68]
[78,66,null,null,64,null,64,null,68]
[79,66,null,null,64,null,64,null,68]
[80,66,null,null,64,null,64,null,69]
[81,66,null,null,64,null,64,null,69]
[82,66,null,null,64,null,64,null,69]
[83,66,null,null,64,null,64,null,69]
[84,66,null,null,64,null,64,null,69]
[85,66,null,null,64,null,64,null,69]
[86,66,null,null,64,null,64,null,69]
[87,66,null,null,64,null,64,null,69]
[88,66,null,null,64,null,64,null,69]
[89,66,null,null,64,null,64,null,69]
[90,66,null,null,64,null,64,null,69]
[91,66,null,null,64,null,64,null,69]
[92,66,null,null,64,null,64,null,69]
[93,66,null,null,64,null,64,null,69]
[94,66,null,null,64,null,64,null,69]
[95,66,null,null,65,null,64,null,69]
[96,66,null,null,65,null,64,null,69]
[97,66,null,null,65,null,64,null,69]
[98,66,null,null,65,null,64,null,69]
[99,66,null,null,65,null,64,null,69]
[100,66,null,null,65,null,64,null,69]
[101,66,null,null,65,null,64,null,69]
[102,66,null,null,65,null,64,null,69]
[103,66,null,null,65,null,64,null,70]
[104,66,null,null,65,null,64,null,70]
[105,66,null,null,65,null,64,null,70]
[106,66,null,null,65,null,64,null,70]
[107,66,null,null,65,null,64,null,70]
[108,66,null,null,65,null,64,null,70]
[109,66,null,null,65,null,64,null,70]
[110,66,null,null,65,null,64,null,70]
[111,66,null,null,65,null,64,null,70]
[112,66,null,null,65,null,64,null,70]
[113,66,null,null,65,null,64,null,70]
[114,66,null,null,65,null,64,null,70]
[115,66,null,null,65,null,64,null,70]
[116,66,null,null,65,null,64,null,70]
[117,66,null,null,65,null,64,null,70]
[118,66,null,null,65,null,64,null,70]
[119,66,null,null,65,null,64,null,70]
[120,66,null,null,66,null,65,null,70]
[121,67,null,null,66,null,65,null,70]
[122,67,null,null,66,null,65,null,70]
[123,67,null,null,66,null,65,null,71]
[124,67,null,null,66,null,65,null,71]
[125,67,null,null,66,null,65,null,71]
[126,67,null,null,66,null,65,null,71]
[127,67,null,null,66,null,65,null,71]
[128,67,null,null,66,null,65,null,71]
[129,67,null,null,66,null,65,null,71]
[130,67,null,null,66,null,65,null,71]
[131,67,null,null,66,null,65,null,71]
[132,67,null,null,66,null,65,null,71]
[133,67,null,null,66,null,65,null,71]
[134,67,null,null,66,null,65,null,71]
[135,67,null,null,66,null,65,null,71]
[136,67,null,null,66,null,65,null,71]
[137,67,null,null,66,null,65,null,71]
[138,67,null,null,66,null,65,null,71]
[139,67,null,null,66,null,65,null,71]
[140,67,null,null,66,null,65,null,71]
[141,67,null,null,66,null,65,null,71]
[142,67,null,null,66,null,65,null,71]
[143,67,null,null,66,null,65,null,71]
[144,67,null,null,66,null,65,null,71]
[145,67,null,null,66,null,65,null,71]
[146,67,null,null,66,null,65,null,71]
[147,67,null,null,67,null,65,null,71]
[148,67,null,null,67,null,65,null,71]
[149,67,null,null,67,null,65,null,71]
[150,67,null,null,67,null,65,null,71]
[151,67,null,null,67,null,65,null,71]
[152,67,null,null,67,null,65,null,71]
[153,67,null,null,67,null,65,null,71]
[154,67,null,null,67,null,65,null,71]
[155,67,null,null,67,null,65,null,71]
[156,67,null,null,67,null,66,null,71]
[157,67,null,null,67,null,66,null,71]
[158,67,null,null,67,null,66,null,71]
[159,67,null,null,67,null,66,null,71]
[160,67,null,null,67,null,66,null,71]
[161,67,null,null,67,null,66,null,71]
[162,67,null,null,67,null,66,null,71]
[163,67,null,null,67,null,66,null,71]
[164,67,null,null,67,null,66,null,71]
[165,67,null,null,67,null,66,null,71]
[166,67,null,null,67,null,66,null,71]
[167,67,null,null,67,null,66,null,71]
[168,67,null,null,68,null,66,null,71]
[169,67,null,null,68,null,66,null,71]
[170,67,null,null,68,null,66,null,71]
[171,67,null,null,68,null,66,null,71]
[172,67,null,null,68,null,66,null,71]
[173,67,null,null,68,null,66,null,71]
[174,67,null,null,68,null,66,null,71]
[175,67,null,null,68,null,66,null,71]
[176,67,null,null,68,null,66,null,71]
[177,67,null,null,68,null,67,null,72]
[178,67,null,null,68,null,67,null,72]
[179,67,null,null,68,null,67,null,72]
[180,67,null,null,68,null,67,null,72]
[181,68,null,null,68,null,67,null,72]
[182,68,null,null,68,null,67,null,72]
[183,68,null,null,68,null,67,null,72]
[184,68,null,null,68,null,68,null,72]
[185,68,null,null,68,null,68,null,72]
[186,68,null,null,68,null,68,null,72]
[187,68,null,null,68,null,68,null,72]
[188,68,null,null,68,null,68,null,72]
[189,68,null,null,68,null,68,null,72]
[190,68,null,null,68,null,68,null,72]
[191,68,null,null,68,null,68,null,72]
[192,68,null,null,68,null,69,null,72]
[193,68,null,null,68,null,69,null,72]
[194,68,null,null,68,null,69,null,72]
[195,68,null,null,68,null,69,null,72]
[196,68,null,null,68,null,69,null,72]
[197,68,null,null,69,null,69,null,72]
[198,68,null,null,69,null,69,null,72]
[199,68,null,null,69,null,69,null,72]
[200,68,null,null,69,null,69,null,72]
[201,68,null,null,69,null,70,null,72]
[202,68,null,null,69,null,70,null,72]
[203,68,null,null,69,null,70,null,72]
[204,68,null,null,69,null,70,null,72]
[205,68,null,null,69,null,70,null,72]
[206,68,null,null,69,null,70,null,72]
[207,68,null,null,69,null,70,null,72]
[208,68,null,null,69,null,70,null,72]
[209,68,null,null,69,null,70,null,72]
[210,68,null,null,69,null,70,null,72]
[211,68,null,null,69,null,71,null,72]
[212,68,null,null,69,null,71,null,72]
[213,68,null,null,69,null,71,null,72]
[214,68,null,null,69,null,71,null,72]
[215,68,null,null,69,null,71,null,72]
[216,68,null,null,69,null,71,null,72]
[217,68,null,null,69,null,71,null,72]
[218,68,null,null,69,null,71,null,72]
[219,68,null,null,69,null,71,null,72]
[220,68,null,null,69,null,71,null,72]
[221,68,null,null,69,null,71,null,72]
[222,68,null,null,69,null,71,null,72]
[223,68,null,null,69,null,71,null,72]
[224,68,null,null,69,null,71,null,72]
[225,68,null,null,69,null,71,null,72]
[226,68,null,null,69,null,71,null,72]
[227,68,null,null,69,null,71,null,72]
[228,68,null,null,69,null,71,null,72]
[229,68,null,null,69,null,71,null,72]
[230,68,null,null,69,null,71,null,72]
[231,68,null,null,70,null,71,null,72]
[232,68,null,null,70,null,71,null,72]
[233,68,null,null,70,null,71,null,72]
[234,68,null,null,70,null,71,null,72]
[235,68,null,null,70,null,72,null,73]
[236,68,null,null,70,null,72,null,73]
[237,68,null,null,70,null,72,null,73]
[238,68,null,null,70,null,72,null,73]
[239,68,null,null,70,null,72,null,73]
[240,68,null,null,70,null,72,null,73]
[241,68,null,null,70,null,72,null,73]
[242,68,null,null,70,null,72,null,73]
[243,68,null,null,70,null,72,null,73]
[244,68,null,null,70,null,72,null,73]
[245,68,null,null,70,null,72,null,73]
[246,68,null,null,70,null,72,null,73]
[247,68,null,null,70,null,72,null,73]
[248,68,null,null,70,null,72,null,73]
[249,68,null,null,70,null,72,null,73]
[250,68,null,null,70,null,72,null,73]
[251,69,null,null,70,null,72,null,73]
[252,69,null,null,70,null,72,null,73]
[253,69,null,null,70,null,72,null,73]
[254,69,null,null,70,null,72,null,73]
[255,69,null,null,70,null,72,null,73]
[256,69,null,null,70,null,72,null,73]
[257,69,null,null,70,null,72,null,73]
[258,69,null,null,70,null,72,null,73]
[259,69,null,null,70,null,72,null,73]
[260,69,null,null,71,null,72,null,73]
[261,69,null,null,71,null,72,null,73]
[262,69,null,null,71,null,72,null,73]
[263,69,null,null,71,null,72,null,73]
[264,69,null,null,71,null,72,null,73]
[265,69,null,null,71,null,72,null,73]
[266,69,null,null,71,null,72,null,73]
[267,69,null,null,71,null,72,null,73]
[268,69,null,null,71,null,72,null,73]
[269,69,null,null,71,null,73,null,73]
[270,69,null,null,71,null,73,null,73]
[271,69,null,null,71,null,73,null,73]
[272,69,null,null,71,null,73,null,73]
[273,69,null,null,71,null,73,null,73]
[274,69,null,null,71,null,73,null,73]
[275,69,null,null,71,null,73,null,73]
[276,69,null,null,71,null,73,null,73]
[277,69,null,null,71,null,73,null,73]
[278,69,null,null,71,null,73,null,73]
[279,69,null,null,71,null,73,null,73]
[280,69,null,null,71,null,73,null,73]
[281,69,null,null,71,null,73,null,73]
[282,69,null,null,71,null,73,null,73]
[283,69,null,null,71,null,73,null,73]
[284,69,null,null,71,null,73,null,73]
[285,69,null,null,71,null,73,null,73]
[286,69,null,null,71,null,73,null,73]
[287,69,null,null,71,null,73,null,73]
[288,69,null,null,71,null,73,null,73]
[289,69,null,null,71,null,73,null,73]
[290,69,null,null,71,null,73,null,73]
[291,69,null,null,71,null,73,null,73]
[292,69,null,null,71,null,73,null,73]
[293,69,null,null,71,null,73,null,73]
[294,69,null,null,71,null,73,null,73]
[295,69,null,null,71,null,73,null,74]
[296,69,null,null,71,null,73,null,74]
[297,69,null,null,71,null,73,null,74]
[298,69,null,null,71,null,73,null,74]
[299,69,null,null,71,null,73,null,74]
[300,69,null,null,71,null,73,null,74]
[301,69,null,null,71,null,73,null,74]
[302,69,null,null,71,null,73,null,74]
[303,69,null,null,71,null,73,null,74]
[304,69,null,null,72,null,73,null,74]
[305,69,null,null,72,null,73,null,74]
[306,69,null,null,72,null,73,null,74]
[307,70,null,null,72,null,73,null,74]
[308,70,null,null,72,null,73,null,74]
[309,70,null,null,72,null,73,null,74]
[310,70,null,null,72,null,73,null,74]
[311,70,null,null,72,null,73,null,74]
[312,70,null,null,72,null,73,null,74]
[313,70,null,null,72,null,73,null,74]
[314,70,null,null,72,null,74,null,74]
[315,70,null,null,72,null,74,null,74]
[316,70,null,null,72,null,74,null,74]
[317,70,null,null,72,null,74,null,74]
[318,70,null,null,72,null,74,null,74]
[319,70,null,null,72,null,74,null,74]
[320,70,null,null,72,null,74,null,74]
[321,70,null,null,72,null,74,null,74]
[322,70,null,null,72,null,74,null,74]
[323,70,null,null,72,null,74,null,74]
[324,70,null,null,72,null,74,null,74]
[325,70,null,null,72,null,74,null,74]
[326,70,null,null,72,null,74,null,74]
[327,70,null,null,72,null,74,null,74]
[328,70,null,null,72,null,74,null,74]
[329,70,null,null,72,null,74,null,74]
[330,70,null,null,72,null,74,null,74]
[331,70,null,null,72,null,74,null,74]
[332,70,null,null,72,null,74,null,74]
[333,70,null,null,72,null,74,null,74]
[334,70,null,null,72,null,74,null,74]
[335,70,null,null,72,null,74,null,74]
[336,70,null,null,72,null,74,null,74]
[337,70,null,null,72,null,74,null,74]
[338,70,null,null,72,null,74,null,74]
[339,71,null,null,72,null,74,null,74]
[340,71,null,null,72,null,74,null,74]
[341,71,null,null,73,null,74,null,74]
[342,71,null,null,73,null,74,null,74]
[343,71,null,null,73,null,74,null,74]
[344,71,null,null,73,null,74,null,74]
[345,71,null,null,73,null,74,null,74]
[346,71,null,null,73,null,74,null,74]
[347,71,null,null,73,null,74,null,74]
[348,71,null,null,73,null,74,null,74]
[349,71,null,null,73,null,74,null,75]
[350,71,null,null,73,null,74,null,75]
[351,71,null,null,73,null,74,null,75]
[352,71,null,null,73,null,74,null,75]
[353,71,null,null,73,null,74,null,75]
[354,71,null,null,73,null,74,null,75]
[355,71,null,null,73,null,75,null,75]
[356,71,null,null,73,null,75,null,75]
[357,71,null,null,73,null,75,null,75]
[358,71,null,null,73,null,75,null,75]
[359,71,null,null,73,null,75,null,75]
[360,71,null,null,73,null,75,null,75]
[361,71,null,null,73,null,75,null,75]
[362,71,null,null,73,null,75,null,75]
[363,71,null,null,73,null,75,null,75]
[364,71,null,null,73,null,75,null,75]
[365,71,null,null,73,null,75,null,75]
[366,71,null,null,73,null,75,null,75]
[367,72,null,null,73,null,75,null,75]
[368,72,null,null,73,null,75,null,75]
[369,72,null,null,74,null,75,null,75]
[370,72,null,null,74,null,75,null,75]
[371,72,null,null,74,null,75,null,75]
[372,72,null,null,74,null,75,null,75]
[373,72,null,null,74,null,75,null,75]
[374,72,null,null,74,null,75,null,75]
[375,72,null,null,74,null,75,null,75]
[376,72,null,null,74,null,75,null,75]
[377,72,null,null,74,null,75,null,75]
[378,72,null,null,74,null,75,null,75]
[379,72,null,null,74,null,75,null,75]
[380,72,null,null,74,null,75,null,75]
[381,72,null,null,74,null,75,null,75]
[382,72,null,null,74,null,75,null,75]
[383,72,null,null,74,null,75,null,75]
[384,72,null,null,74,null,75,null,75]
[385,72,null,null,74,null,75,null,75]
[386,72,null,null,74,null,75,null,75]
[387,73,null,null,74,null,75,null,75]
[388,73,null,null,74,null,75,null,75]
[389,73,null,null,74,null,75,null,75]
[390,73,null,null,74,null,75,null,75]
[391,73,null,null,74,null,75,null,75]
[392,73,null,null,74,null,75,null,75]
[393,73,null,null,74,null,75,null,75]
[394,73,null,null,74,null,75,null,75]
[395,73,null,null,74,null,75,null,75]
[396,73,null,null,74,null,75,null,75]
[397,73,null,null,74,null,75,null,75]
[398,73,null,null,74,{"$nulls":3},75]
[399,73,null,null,74,{"$nulls":3},75]
[400,73,null,null,74,{"$nulls":3},75]
[401,73,null,null,74,{"$nulls":3},75]
[402,73,null,null,74,{"$nulls":3},75]
[403,73,null,null,74,{"$nulls":3},75]
[404,73,null,null,75,{"$nulls":3},75]
[405,74,null,null,75,{"$nulls":3},75]
[406,74,null,null,75,{"$nulls":3},75]
[407,74,null,null,75,{"$nulls":3},75]
[408,74,null,null,75,{"$nulls":3},75]
[409,74,null,null,75,{"$nulls":3},75]
[410,74,null,null,75,{"$nulls":3},75]
[411,74,null,null,75]
[412,74,null,null,75]
[413,74,null,null,75]
[414,74,null,null,75]
[415,74,null,null,75]
[416,74,null,null,75]
[417,75,null,null,75]
[418,75,null,null,75]
[419,75,null,null,75]
[420,75,null,null,75]
[421,{"$nulls":3},75]
[422,{"$nulls":3},75]
[423,{"$nulls":3},75]
[424,{"$nulls":3},75]

{"sheet":"samples","index":2,"n_rows":58,"n_cols":80,"rows_kept":58}
[{"$f":"sampx(pop, popsize,newSample)","v":67},74,62,69,64,73,68,74,66,68,{"$f":"sampx(pop, popsize,newSample)","v":62},68,66,72,67,68,67,69,64,70,{"$f":"sampx(pop, popsize,newSample)","v":67},69,70,70,64,70,70,72,74,66,{"$f":"sampx(pop, popsize,newSample)","v":69},68,69,65,68,69,70,67,61,69,{"$f":"sampx(pop, popsize,newSample)","v":70},68,73,71,74,67,70,70,75,64,{"$f":"sampx(pop, popsize,newSample)","v":66},66,69,61,68,68,69,62,74,73,{"$f":"sampx(pop, popsize,newSample)","v":67},67,66,66,69,73,71,71,67,69,{"$f":"sampx(pop, popsize,newSample)","v":62},66,70,68,71,64,74,71,68,67]
[73,67,64,71,70,67,72,64,71,72,70,68,66,68,72,68,65,66,62,69,68,64,64,69,72,64,68,68,66,68,66,66,66,66,69,62,73,66,63,68,72,70,71,65,68,71,71,71,64,69,71,68,72,67,68,68,66,71,68,68,69,67,69,69,72,68,70,67,70,65,73,69,73,69,63,66,69,71,73,65]
[67,69,68,64,74,72,68,66,69,68,70,71,73,71,69,68,66,67,66,65,67,69,65,70,63,68,66,68,65,74,63,67,66,69,70,70,71,65,69,74,72,65,66,68,69,68,69,68,73,73,68,66,73,66,71,70,68,64,68,68,64,71,66,69,65,65,67,71,69,72,69,62,72,66,62,66,67,64,68,73]
[68,70,67,61,71,69,70,64,67,69,64,66,69,67,67,74,69,69,66,73,68,72,72,68,69,70,72,74,73,66,68,70,68,68,62,67,65,67,69,72,73,71,69,72,63,72,68,67,71,68,69,71,69,67,67,68,70,73,65,72,67,71,65,66,68,66,73,72,62,67,68,68,69,71,65,67,67,67,72,68]
[67,67,68,70,68,63,64,70,70,66,62,72,68,68,68,69,67,71,66,66,68,68,71,64,65,69,64,73,68,65,65,71,72,74,70,68,69,68,66,71,65,69,69,70,72,73,64,72,66,66,66,66,63,62,68,69,72,69,69,75,67,65,66,63,75,71,68,68,67,69,67,70,64,62,66,72,67,63,72,70]
[67,70,65,67,70,69,65,68,68,67,65,68,67,62,74,73,68,71,70,66,64,75,63,67,71,71,66,71,64,65,69,66,72,69,66,74,74,68,72,65,68,70,70,73,67,66,65,71,69,69,66,70,68,68,65,67,64,73,69,66,66,74,73,69,62,64,67,62,63,69,69,65,71,71,68,74,70,69,66,63]
[68,66,66,73,65,67,65,66,67,67,69,71,71,70,66,74,69,71,64,70,66,73,68,65,67,73,67,68,68,65,68,67,70,69,66,68,71,74,69,72,67,69,68,68,69,67,64,71,68,65,66,70,72,73,67,66,71,69,67,65,65,66,68,69,66,61,71,67,69,67,64,71,61,69,71,66,68,74,69,67]
[69,66,65,66,68,69,70,68,64,66,68,67,68,70,67,68,67,68,68,66,68,72,66,61,66,74,64,66,69,66,66,62,67,63,70,66,65,69,62,65,67,68,71,66,69,69,73,66,68,63,70,74,64,66,66,63,68,71,66,74,65,69,69,67,68,67,66,69,65,71,62,69,68,68,72,70,69,69,65,65]
[62,68,66,71,69,67,67,67,67,65,66,69,68,64,62,69,70,67,66,67,69,68,64,67,74,67,66,67,67,66,65,68,68,74,66,66,68,69,66,66,72,67,73,68,66,65,72,66,72,68,73,71,69,68,70,62,73,62,69,65,71,67,68,66,64,68,66,67,69,65,62,75,68,71,61,65,70,65,74,70]
[68,74,75,68,68,67,71,72,67,72,68,68,66,68,75,69,69,65,69,66,70,66,63,68,67,69,68,72,67,65,67,67,67,68,72,69,68,67,69,69,65,70,70,70,66,64,66,67,67,66,68,68,66,66,62,66,67,62,69,69,71,62,75,66,68,68,67,69,72,61,67,69,68,68,67,66,69,71,66,68]
[{"$f":"sampx(pop, popsize,newSample)","v":68},69,68,70,73,69,73,69,73,67,{"$f":"sampx(pop, popsize,newSample)","v":71},67,68,68,69,66,69,67,69,71,{"$f":"sampx(pop, popsize,newSample)","v":68},68,69,68,67,66,72,72,71,62,{"$f":"sampx(pop, popsize,newSample)","v":62},69,71,66,69,68,71,69,64,70,{"$f":"sampx(pop, popsize,newSample)","v":67},69,67,62,71,66,69,66,69,68,{"$f":"sampx(pop, popsize,newSample)","v":67},68,68,71,67,68,67,71,66,67,{"$f":"sampx(pop, popsize,newSample)","v":66},67,69,65,69,70,67,66,74,67,{"$f":"sampx(pop, popsize,newSample)","v":68},65,66,69,64,69,69,69,66,66]
[68,71,72,65,65,68,70,66,67,68,71,69,67,66,75,70,67,64,72,67,66,64,67,68,69,69,70,66,72,68,71,72,66,68,66,67,69,66,73,69,66,68,64,67,73,72,67,67,68,68,70,67,68,71,69,69,72,70,67,72,70,71,66,65,66,66,65,70,65,66,70,68,67,66,69,66,70,71,68,68]
[69,68,71,67,72,66,62,67,68,68,71,65,67,67,63,70,69,67,72,69,67,67,69,71,66,70,69,68,69,71,69,67,69,69,68,69,68,64,65,72,67,70,62,69,74,64,68,72,64,62,66,72,74,71,70,72,68,68,74,67,68,64,71,67,68,69,69,68,68,67,70,68,73,67,72,68,66,73,66,66]
[67,62,70,64,67,70,65,71,70,62,65,70,65,68,67,69,68,70,68,69,69,69,72,69,65,74,72,69,68,67,73,64,67,65,67,67,71,67,66,69,70,68,68,75,64,70,67,66,64,74,62,70,67,68,68,70,67,71,62,72,69,69,65,69,67,67,73,72,65,72,71,67,71,68,71,68,67,68,68,66]
[64,67,68,71,67,66,70,67,67,72,73,68,71,66,69,66,62,71,72,68,74,68,61,69,66,62,65,69,66,70,69,73,71,62,61,73,68,69,67,69,62,69,69,72,66,69,70,70,68,66,68,65,68,68,71,70,68,65,65,69,71,68,70,68,72,72,65,74,69,67,68,68,74,69,63,68,66,66,69,67]
[74,68,66,66,74,68,65,73,65,66,70,67,65,68,69,61,66,69,67,70,71,68,67,67,67,67,70,73,66,67,67,68,63,68,65,66,61,68,66,66,66,73,68,69,63,74,68,75,68,67,69,69,70,69,69,66,67,70,69,71,67,63,65,68,68,68,67,69,65,68,69,69,62,65,68,64,68,72,67,75]
[70,66,67,70,67,66,68,70,67,68,71,69,73,66,69,70,74,68,71,68,72,66,70,68,72,71,65,70,68,67,67,68,69,66,66,72,72,69,67,67,68,67,69,67,65,67,67,68,69,68,66,70,72,72,72,61,67,65,69,69,71,66,67,67,69,73,71,64,68,67,67,73,65,73,63,69,67,70,70,71]
[69,72,73,71,66,68,73,69,69,64,69,74,67,67,72,75,73,65,62,66,66,67,65,66,68,66,68,70,72,73,69,68,72,67,70,66,69,66,68,70,61,66,67,73,67,75,65,67,66,70,67,73,69,70,66,67,67,71,70,64,67,73,65,69,66,68,65,67,72,73,67,72,66,69,73,68,65,71,64,68]
[68,63,67,64,68,67,61,66,67,65,68,64,67,66,63,66,67,68,67,69,68,67,69,68,68,65,66,67,66,64,67,66,65,75,68,67,62,69,69,66,69,68,69,61,69,65,66,69,67,66,66,67,64,69,67,63,68,70,69,64,67,67,68,70,72,61,71,66,67,66,67,68,68,71,69,62,74,69,72,68]
[67,62,71,62,68,65,71,66,70,71,66,64,64,75,69,69,72,71,67,73,68,67,69,66,66,70,67,67,68,71,68,68,68,70,69,71,72,74,66,69,72,62,69,70,69,72,67,68,63,71,66,64,68,67,68,72,71,71,75,67,68,62,73,71,67,68,68,72,68,68,69,65,67,64,69,66,69,66,75,61]
[{"$f":"sampx(pop, popsize,newSample)","v":69},65,68,67,68,67,70,72,66,66,{"$f":"sampx(pop, popsize,newSample)","v":70},67,70,63,70,64,69,66,67,68,{"$f":"sampx(pop, popsize,newSample)","v":64},69,68,71,71,68,69,68,64,68,{"$f":"sampx(pop, popsize,newSample)","v":72},66,62,73,74,74,66,66,71,70,{"$f":"sampx(pop, popsize,newSample)","v":70},69,69,71,68,71,72,66,66,69,{"$f":"sampx(pop, popsize,newSample)","v":69},68,69,71,66,68,64,62,68,71,{"$f":"sampx(pop, popsize,newSample)","v":63},68,68,66,67,61,73,67,67,68,{"$f":"sampx(pop, popsize,newSample)","v":65},69,71,66,71,72,69,72,69,70]
[69,67,68,64,69,70,68,64,65,69,69,68,68,73,71,64,68,73,66,67,75,66,71,64,66,66,70,69,70,65,68,68,68,65,68,71,73,68,68,68,67,70,66,66,66,70,64,68,70,66,64,72,65,67,66,66,68,68,69,73,74,66,68,72,69,67,65,66,67,66,69,62,70,72,69,68,68,70,69,64]
[67,68,69,65,67,67,69,68,66,69,68,67,64,66,67,64,69,67,67,70,72,73,66,67,69,67,69,67,70,66,71,73,67,66,68,73,67,73,70,73,68,65,73,74,66,70,68,68,69,66,62,72,73,73,67,68,75,69,68,74,65,64,66,72,69,67,66,70,71,71,68,72,70,65,67,67,66,70,65,66]
[72,66,73,71,67,69,64,69,67,66,72,71,75,67,70,68,67,65,72,66,66,67,67,69,67,67,67,72,67,61,70,65,68,66,69,68,68,62,70,61,69,69,66,68,66,75,68,66,66,66,63,69,71,68,67,67,70,63,67,67,63,72,73,63,72,73,70,68,65,62,74,67,65,66,66,69,69,68,61,69]
[64,68,69,66,71,72,66,67,67,72,66,75,67,71,68,70,67,66,66,65,68,67,68,66,68,67,65,75,70,70,69,62,67,66,65,72,65,70,62,69,65,70,72,67,67,67,65,72,69,67,67,67,66,69,66,72,67,69,68,67,67,65,66,65,70,67,72,72,69,64,65,66,68,65,69,70,69,71,69,68]
[68,66,68,68,67,69,70,69,66,68,66,66,71,65,75,66,70,67,68,73,73,72,66,65,70,61,61,72,69,73,70,73,68,65,62,68,65,65,67,66,69,72,69,67,64,66,71,71,70,62,68,67,67,68,68,68,67,71,69,74,64,71,71,68,67,65,68,66,69,72,66,74,69,66,64,70,66,70,70,71]
[68,74,66,66,65,64,73,68,64,68,69,69,67,75,71,68,64,69,67,67,71,66,70,68,62,69,69,62,69,69,65,67,66,69,62,72,66,65,69,62,68,64,65,66,64,70,64,67,70,66,73,69,66,66,69,69,65,67,68,65,72,65,71,68,73,62,74,67,71,68,70,69,64,68,71,71,67,62,65,67]
[66,74,70,62,68,71,66,71,66,66,72,71,67,73,66,66,68,66,70,65,66,69,68,68,67,62,69,68,71,73,63,71,70,64,61,67,67,71,70,73,69,68,68,65,69,66,69,66,74,67,68,63,65,65,72,67,65,65,63,73,71,72,66,67,70,72,69,65,72,67,75,67,67,67,67,66,68,67,62,68]
[68,67,67,66,67,71,72,65,66,68,65,68,67,65,67,72,71,70,70,66,66,72,68,66,69,73,68,72,66,68,67,71,73,65,72,67,70,65,68,67,66,69,68,69,72,68,63,69,68,65,66,67,73,67,70,70,65,67,69,69,69,69,65,73,72,67,69,63,66,71,65,73,72,62,68,68,63,73,75,68]
[64,70,69,66,69,70,69,68,66,68,66,68,62,69,68,73,73,67,67,71,73,69,71,71,66,66,68,62,74,67,69,72,67,69,62,71,72,66,67,64,72,67,71,65,74,68,69,67,68,65,73,74,65,68,70,66,68,66,70,69,66,72,67,68,66,68,72,66,68,66,68,66,71,68,69,68,68,66,71,69]
[{"$f":"sampx(pop, popsize,newSample)","v":67},64,66,68,64,68,72,64,66,69,{"$f":"sampx(pop, popsize,newSample)","v":68},66,66,69,70,68,64,70,67,66,{"$f":"sampx(pop, popsize,newSample)","v":67},68,64,66,67,65,67,68,75,70,{"$f":"sampx(pop, popsize,newSample)","v":63},70,73,66,68,68,69,67,67,69,{"$f":"sampx(pop, popsize,newSample)","v":75},68,65,66,72,67,69,67,68,66,{"$f":"sampx(pop, popsize,newSample)","v":66},69,73,72,65,68,69,62,67,68,{"$f":"sampx(pop, popsize,newSample)","v":70},64,69,69,68,74,64,66,61,67,{"$f":"sampx(pop, popsize,newSample)","v":68},71,65,71,74,66,68,67,65,73]
[69,68,64,69,66,69,68,67,68,65,69,68,69,67,69,66,68,71,69,69,66,69,73,69,65,73,67,66,68,66,62,70,74,69,68,73,67,66,66,71,64,71,73,63,68,69,67,68,73,64,66,65,67,66,66,73,64,72,65,68,69,67,66,65,66,67,66,69,74,66,68,70,66,66,69,67,67,65,68,71]
[64,66,67,68,75,67,73,68,68,69,67,67,68,67,71,66,68,71,65,67,74,74,68,65,64,67,67,70,66,64,71,66,68,65,69,62,70,65,65,69,66,68,68,66,67,71,68,68,68,65,66,65,67,62,62,71,67,65,69,66,67,69,69,66,68,68,67,71,74,69,71,69,73,72,70,72,68,66,72,70]
[66,68,65,65,73,68,69,74,67,67,69,71,68,65,68,68,70,66,66,68,71,68,65,72,67,63,65,68,69,68,67,72,68,66,66,65,73,65,73,68,68,68,63,71,67,65,66,65,65,70,65,73,72,69,69,70,68,75,69,62,68,71,70,70,68,65,66,67,70,75,66,68,70,68,61,67,72,67,67,70]
[67,67,62,65,68,67,69,66,66,74,70,68,69,67,66,68,70,66,69,70,67,66,68,62,68,69,71,68,72,71,70,67,66,70,69,67,66,69,68,66,72,69,73,66,73,67,68,70,72,73,70,67,65,68,68,64,74,68,68,68,65,71,69,67,64,71,71,70,70,67,66,70,66,68,69,66,73,69,71,69]
[68,67,70,65,70,69,67,67,67,71,66,68,69,66,65,71,66,65,71,72,67,71,67,69,73,71,67,68,72,67,69,62,68,68,61,67,62,69,67,64,67,70,68,72,68,66,69,62,68,61,71,69,68,68,61,67,71,71,64,67,67,70,69,67,67,66,67,68,65,69,65,63,70,65,70,71,69,73,69,67]
[66,66,73,69,69,70,66,68,67,64,67,69,67,69,69,62,72,67,69,67,66,69,72,66,62,62,71,69,65,69,67,73,67,65,70,68,66,67,71,70,67,61,65,67,65,69,67,74,65,68,68,62,69,71,67,68,69,69,66,70,66,61,70,69,68,70,69,66,68,66,68,70,70,71,64,71,71,68,71,67]
[65,62,66,67,69,71,66,68,69,65,69,70,67,66,65,69,66,67,69,71,66,70,68,72,68,68,69,68,67,65,70,74,73,66,71,69,70,66,63,68,68,69,70,66,68,69,69,70,71,72,67,75,68,62,65,71,71,67,66,66,69,68,65,69,66,73,68,70,70,67,69,65,70,66,66,68,69,62,72,68]
[69,68,67,68,71,63,67,71,68,62,69,67,65,67,68,69,65,70,68,72,69,70,73,65,62,68,66,67,73,66,69,69,70,68,68,64,68,65,66,64,70,62,67,75,74,69,68,71,66,69,66,72,72,66,65,65,62,68,66,66,69,66,66,64,65,65,68,67,66,68,75,69,67,71,65,64,71,71,69,71]
[71,67,70,67,62,69,67,64,70,68,67,67,72,70,67,62,65,65,69,65,69,70,71,67,68,72,68,66,68,67,72,70,68,67,73,67,68,67,66,72,63,74,72,64,65,67,69,67,70,68,68,68,72,66,64,68,65,70,72,65,73,68,67,74,65,64,66,72,71,69,68,68,67,69,69,71,67,66,71,65]
[{"$f":"sampx(pop, popsize,newSample)","v":75},74,68,68,68,65,68,70,69,69,{"$f":"sampx(pop, popsize,newSample)","v":68},69,72,67,73,67,74,66,66,64,{"$f":"sampx(pop, popsize,newSample)","v":64},72,67,74,66,71,62,67,68,68,{"$f":"sampx(pop, popsize,newSample)","v":70},65,73,71,66,68,69,70,72,62,{"$f":"sampx(pop, popsize,newSample)","v":67},66,64,67,68,68,64,66,70,62,{"$f":"sampx(pop, popsize,newSample)","v":74},66,73,69,73,73,61,74,67,64,{"$f":"sampx(pop, popsize,newSample)","v":64},63,69,65,68,70,73,68,71,66,{"$f":"sampx(pop, popsize,newSample)","v":67},69,66,67,66,66,68,65,68,64]
[69,64,66,72,71,62,65,68,62,69,69,68,74,67,64,72,72,69,61,70,69,67,68,69,69,64,71,68,75,74,69,71,74,68,69,68,66,66,72,75,69,69,69,67,71,68,61,69,72,68,70,67,67,72,68,67,62,75,74,74,72,69,71,69,62,70,73,63,70,66,71,72,70,67,68,67,73,69,70,64]
[69,70,68,75,69,68,68,71,68,68,66,64,69,67,66,68,66,72,67,66,73,66,66,74,69,68,74,63,73,71,66,74,69,65,61,67,68,66,66,66,67,66,66,72,73,70,70,71,68,63,66,67,72,68,66,67,69,71,62,64,69,62,66,68,66,61,67,69,67,69,62,68,70,69,71,67,66,66,71,64]
[68,69,73,72,69,66,68,65,68,74,67,72,70,66,67,64,66,72,68,70,71,67,70,70,66,69,71,68,67,65,69,66,69,68,66,70,67,67,71,64,69,69,70,72,68,68,63,69,74,67,66,67,62,71,65,69,68,67,74,68,69,66,66,67,68,67,66,69,66,68,63,64,70,65,72,73,67,67,65,65]
[71,66,69,68,73,66,70,68,65,68,71,66,75,71,70,69,66,64,67,70,72,67,64,70,68,67,71,66,72,68,72,67,68,70,69,69,69,70,70,70,72,65,68,69,68,73,70,66,64,66,65,68,66,70,69,73,73,68,67,68,69,71,64,72,68,71,67,68,68,73,66,68,69,69,67,66,70,70,67,73]
[68,71,70,72,69,68,68,71,64,64,69,66,70,66,70,69,72,68,69,62,68,74,65,65,70,69,69,71,70,72,66,66,68,66,68,70,67,66,70,75,69,65,68,74,67,65,68,62,68,65,68,69,73,64,68,66,67,67,62,66,72,68,67,69,69,61,66,68,69,72,67,65,66,71,65,68,74,72,66,64]
[68,65,67,67,64,69,69,68,73,68,70,67,65,68,66,65,69,67,68,68,68,70,66,71,72,62,68,69,66,65,68,64,66,65,73,66,68,72,67,65,67,67,74,68,67,67,66,68,67,62,72,67,67,68,67,72,74,68,66,68,62,67,67,69,69,71,70,69,73,66,67,69,67,71,69,71,64,67,66,66]
[68,73,67,67,62,66,69,68,70,67,66,71,69,72,70,69,67,67,65,66,68,67,72,67,68,68,64,66,64,61,66,70,69,69,69,71,66,73,69,64,66,70,64,68,66,69,64,65,66,67,73,73,62,64,66,70,66,68,68,64,71,69,69,72,70,68,67,71,67,67,65,70,66,66,65,69,69,68,69,69]
[64,66,67,68,72,74,65,74,66,69,66,72,71,63,69,69,68,69,65,70,73,65,69,67,69,70,65,66,68,67,69,64,67,66,65,66,66,71,68,69,67,68,68,68,64,69,67,64,63,71,69,65,73,67,74,65,65,69,67,69,69,67,73,69,69,70,73,66,67,75,74,68,68,65,66,70,67,70,69,62]
[67,67,68,66,68,71,67,69,66,67,73,69,67,68,67,61,68,66,70,67,71,67,64,66,67,65,65,66,62,67,69,67,68,73,69,72,62,71,69,70,70,67,70,68,68,65,69,66,67,65,68,67,68,72,68,69,68,66,69,68,70,69,67,68,68,69,68,69,68,68,68,69,66,71,69,62,65,68,65,74]
[]
[{"$f":"AVERAGE(A1:A50)","v":67.88},67.84,67.98,67.54,68.48,68.04,68.12,68.26,67.3,67.76,68.16,{"$f":"AVERAGE(L1:L50)","v":68.4},68.32,67.84,68.5,67.98,68.24,67.96,67.52,68.12,68.74,68.68,67.74,67.8,67.5,67.84,67.76,68.5,68.74,67.54,67.92,68.2,68.56,67.6,67.38,68.5,68.06,{"$f":"AVERAGE(AL1:AL50)","v":67.8},67.7,68.24,68.1,68.04,68.48,68.46,68.14,68.56,67.42,68.1,68.28,66.84,67.74,68.48,68.58,67.94,67.52,68.04,67.94,68.3,67.94,68.36,68,67.58,68.08,67.98,67.96,67.66,68.54,68.14,68.28,68.08,67.76,68.34,68.24,67.94,67.66,67.9,68.44,68.48,68.5,67.76]
[{"$f":"STDEVA(A1:A50)/SQRT(50)","v":0.35183484065970616},{"$f":"STDEVA(B1:B50)/SQRT(50)","v":0.4447975921238599},0.3912199652682489,0.42205522416491653,0.4211161069232618,0.35451605415419646,0.39963248422641995,0.3788381809518925,0.3040542379113253,0.37532027139824065,0.3584091835558107,0.33806170189140655,0.40248209492435033,0.40240095751904575,0.4220939057912616,0.456687272984613,0.37640620697998756,0.32696501716388493,0.35940994728037456,0.35529809272479573,0.39673154445713915,0.3708126761807455,0.40789154220709417,0.3822596617217043,0.38465462908103604,0.46278659074289147,0.38498343457603373,0.39821028185046725,0.43874589363739175,0.44097295025561695,0.3690473118278291,0.4453844933748542,0.3737946615183153,0.4020356365562942,0.46851044899375155,0.39512333388398085,0.42513863285151726,0.37579846965616864,0.40228936686653494,0.4742857142857142,0.40228936686653477,0.36584818977163697,0.40024482303628484,0.46088645730875216,0.4361332879957219,0.3919183588453086,0.3659931972156904,0.38359204520278706,0.4130918759297784,0.42316591043596835,0.39466855119976624,0.41819827345215965,0.45722320722431603,0.4104850291833717,0.37388200692469925,0.3968858366670935,0.4439249798728408,0.48170615143106743,0.4222485968609256,0.4587115940660451,0.3938299643454349,0.4445497607646622,0.36459650607884053,0.34816135128789394,0.3713846127833582,{"$f":"STDEVA(BN1:BN50)/SQRT(50)","v":0.4904059126720166},0.3824838265221425,0.3647867702577796,0.416045523411826,0.40991786135910746,0.447724405027404,0.4036668660857743,0.4046263078194394,0.36857142857142866,0.44868060545814326,0.37931194421005,0.34894593464621776,0.40931999357819937,0.4400834800214104,0.43758147929318053]
[{"$f":"(A52-mean)/A53","v":-0.5305519667030674},-0.5095950847763157,-0.2215292530053621,-1.2478619775616462,0.9815186988529534,-0.07521991276326792,0.1334559512512616,0.5103322290471378,-2.521479956777505,-0.8170799448806305,0.2604099939833156,0.9860132971832976,0.6294275857934657,-0.5632856046470298,1.0266277891906683,-0.18977245873365717,0.4604954172356346,-0.3262326581354253,-1.5210115101244372,0.15010869583995268,1.6972014016548047,1.6540247211893762,-0.8008664874468351,-0.6976060865684711,-1.4731830162046016,-0.4897865910565844,-0.7965710706601624,1.0882022717235087,1.534677231394942,-1.194328736856458,-0.3974196856772805,0.2993668062464875,{"$f":"(AG52-mean)/AG53","v":1.3197976967607572},-1.160759455713883,-1.4656378916232569,1.0967039811943269,-0.015681159394867285,-0.7096001931850561,-0.9114500577598085,0.3654618473895555,0.08285909615997941,-0.07288997844516328,1.0327012606878108,0.8534278391040533,0.16814431585891015,1.2587655622635927,-1.7668816567799803,0.08689787431777861,0.5164307161770542,-2.898784227214525,-0.827698750441663,0.9883669052991079,1.1227193310016992,-0.30857804222156093,-1.462136868161101,-0.06718976643408048,-0.285333496445611,0.48438935778615333,-0.2999812612956648,0.6394722460211079,-0.16927779169232646,-1.094740588386681,0.03657010725838445,-0.24892672993733414,{"$f":"(BM52-mean)/BM53","v":-0.287213478951783},-0.82924503183681,1.2375250939033926,0.2010306823394831,0.5127644003566614,0.032526841570474495,-0.684945165425788,0.6771260073529556,0.4283788028204047,-0.34366925064599063,-0.9063611435832468,-0.43939208667355567,1.0698887600219287,1.0098048954805698,0.9846616676278217,-0.7008218610212029]
[]
[1,2,3,4,5,6,7,8,9,10,11,12,13,14,15,16,17,18,19,20,21,22,23,24,25,26,27,28,29,30,31,32,33,34,35,36,37,38,39,40,41,42,43,44,45,46,47,48,49,50,51,52,53,54,55,56,57,58,59,60,61,62,63,64,65,66,67,68,69,70,71,72,73,74,75,76,77,78,79,80]
[]
[{"$nulls":11},{"$f":"MAX(A52:CB52)","v":68.74}]

{"sheet":"Sheet4","index":3,"n_rows":202,"n_cols":14,"rows_kept":202}
[null,{"$f":"mean-3.5*sd","v":66.65957352436544},{"$f":"NORMDIST(B1,mean,sd,FALSE)","v":2.1707087760123468E-3},"x's",{"$f":"samples!A52","v":67.88},{"$f":"samples!A52","v":67.88},{"$f":"IF(OR(samples!A$52>Right,samples!A$52<Left),1,0)","v":0},{"$f":"Left","v":67.12994466050614},{"$nulls":5},{"$f":"z","v":2.33}]
[null,{"$f":"B1+7*sd/100","v":66.68771538721147},0.002766557421396412,"y's",0,{"$f":"samples!A$53","v":0.35183484065970616},null,{"$f":"Right","v":69.00338867282719}]
[null,66.7158572500575,3.5087285630719224E-3,null,{"$f":"samples!B$52","v":67.84},{"$f":"samples!B$52","v":67.84},{"$f":"IF(OR(samples!B$52>Right,samples!B$52<Left),1,0)","v":0},null,null,"For Pop'n Histogram"]
[null,66.74399911290352,4.4282467539259315E-3,null,0,{"$f":"samples!B$53","v":0.4447975921238599},{"$nulls":3},"      Pop Freqs"]
[null,66.77214097574955,5.5614214892074024E-3,null,{"$f":"samples!C$52","v":67.98},{"$f":"samples!C$52","v":67.98},{"$f":"IF(OR(samples!C$52>Right,samples!C$52<Left),1,0)","v":0},null,null,61,{"$f":"IF(pop=1,Sheet2!D5,IF(pop=2,Sheet2!F5,IF(pop=3,Sheet2!H5,Sheet2!J5)))","v":4}]
[null,66.80028283859558,0.006950431466167475,null,0,{"$f":"samples!C$53","v":0.3912199652682489},{"$nulls":3},62,{"$f":"IF(pop=1,Sheet2!D6,IF(pop=2,Sheet2!F6,IF(pop=3,Sheet2!H6,Sheet2!J6)))","v":12}]
[null,66.8284247014416,0.008643898869837451,null,{"$f":"samples!D$52","v":67.54},{"$f":"samples!D$52","v":67.54},{"$f":"IF(OR(samples!D$52>Right,samples!D$52<Left),1,0)","v":0},null,null,63,{"$f":"IF(pop=1,Sheet2!D7,IF(pop=2,Sheet2!F7,IF(pop=3,Sheet2!H7,Sheet2!J7)))","v":6}]
[null,66.85656656428763,0.01069743228294132,null,0,{"$f":"samples!D$53","v":0.42205522416491653},{"$nulls":3},64,{"$f":"IF(pop=1,Sheet2!D8,IF(pop=2,Sheet2!F8,IF(pop=3,Sheet2!H8,Sheet2!J8)))","v":16}]
[null,66.88470842713366,0.013174112623614,"series 5",{"$f":"samples!E$52","v":68.48},{"$f":"samples!E$52","v":68.48},{"$f":"IF(OR(samples!E$52>Right,samples!E$52<Left),1,0)","v":0},null,null,65,{"$f":"IF(pop=1,Sheet2!D9,IF(pop=2,Sheet2!F9,IF(pop=3,Sheet2!H9,Sheet2!J9)))","v":28}]
[null,66.91285028997969,0.016144892392359635,null,0,{"$f":"samples!E$53","v":0.4211161069232618},{"$nulls":3},66,{"$f":"IF(pop=1,Sheet2!D10,IF(pop=2,Sheet2!F10,IF(pop=3,Sheet2!H10,Sheet2!J10)))","v":54}]
[null,66.94099215282571,0.019688874678989842,16,{"$f":"samples!F$52","v":68.04},{"$f":"samples!F$52","v":68.04},{"$f":"IF(OR(samples!F$52>Right,samples!F$52<Left),1,0)","v":0},null,null,67,{"$f":"IF(pop=1,Sheet2!D11,IF(pop=2,Sheet2!F11,IF(pop=3,Sheet2!H11,Sheet2!J11)))","v":60}]
[null,66.96913401567174,0.023893435097985728,null,0,{"$f":"samples!F$53","v":0.35451605415419646},{"$nulls":3},68,{"$f":"IF(pop=1,Sheet2!D12,IF(pop=2,Sheet2!F12,IF(pop=3,Sheet2!H12,Sheet2!J12)))","v":70}]
[null,66.99727587851777,0.0288541473747556,18,{"$f":"samples!G$52","v":68.12},{"$f":"samples!G$52","v":68.12},{"$f":"IF(OR(samples!G$52>Right,samples!G$52<Left),1,0)","v":0},null,null,69,{"$f":"IF(pop=1,Sheet2!D13,IF(pop=2,Sheet2!F13,IF(pop=3,Sheet2!H13,Sheet2!J13)))","v":56}]
[null,67.0254177413638,0.03467447200474054,null,0,{"$f":"samples!G$53","v":0.39963248422641995},{"$nulls":3},70,{"$f":"IF(pop=1,Sheet2!D14,IF(pop=2,Sheet2!F14,IF(pop=3,Sheet2!H14,Sheet2!J14)))","v":32}]
[null,67.05355960420982,0.041465167569096927,20,{"$f":"samples!H$52","v":68.26},{"$f":"samples!H$52","v":68.26},{"$f":"IF(OR(samples!H$52>Right,samples!H$52<Left),1,0)","v":0},null,null,71,{"$f":"IF(pop=1,Sheet2!D15,IF(pop=2,Sheet2!F15,IF(pop=3,Sheet2!H15,Sheet2!J15)))","v":28}]
[null,67.08170146705585,0.04934338622228699,null,0,{"$f":"samples!H$53","v":0.3788381809518925},{"$nulls":3},72,{"$f":"IF(pop=1,Sheet2!D16,IF(pop=2,Sheet2!F16,IF(pop=3,Sheet2!H16,Sheet2!J16)))","v":20}]
[null,67.10984332990188,0.058431418846418455,22,{"$f":"samples!I$52","v":67.3},{"$f":"samples!I$52","v":67.3},{"$f":"IF(OR(samples!I$52>Right,samples!I$52<Left),1,0)","v":0},null,null,73,{"$f":"IF(pop=1,Sheet2!D17,IF(pop=2,Sheet2!F17,IF(pop=3,Sheet2!H17,Sheet2!J17)))","v":18}]
[null,67.1379851927479,0.06885506162069194,null,0,{"$f":"samples!I$53","v":0.3040542379113253},{"$nulls":3},74,{"$f":"IF(pop=1,Sheet2!D18,IF(pop=2,Sheet2!F18,IF(pop=3,Sheet2!H18,Sheet2!J18)))","v":12}]
[null,67.16612705559393,0.08074158443212066,24,{"$f":"samples!J$52","v":67.76},{"$f":"samples!J$52","v":67.76},{"$f":"IF(OR(samples!J$52>Right,samples!J$52<Left),1,0)","v":0},null,null,75,{"$f":"IF(pop=1,Sheet2!D19,IF(pop=2,Sheet2!F19,IF(pop=3,Sheet2!H19,Sheet2!J19)))","v":4}]
[null,67.19426891843996,0.09421729270643266,null,0,{"$f":"samples!J$53","v":0.37532027139824065}]
[null,67.22241078128599,0.10940468779470766,26,{"$f":"samples!K$52","v":68.16},{"$f":"samples!K$52","v":68.16},{"$f":"IF(OR(samples!K$52>Right,samples!K$52<Left),1,0)","v":0},"pop=",{"$f":"IF(pop=1,\"normal\",IF(pop=2,\"uniform\",IF(pop=3,\"U-shaped\",\"skewed\")))","v":"normal"}]
[null,67.25055264413201,0.1264192468005724,null,0,{"$f":"samples!K$53","v":0.3584091835558107},null,"pop n=",{"$f":"IF(pop=1, 210,IF(pop=2,424,IF(pop=3,397,410)))","v":210}]
[null,67.27869450697804,0.14536586031015808,28,{"$f":"samples!L$52","v":68.4},{"$f":"samples!L$52","v":68.4},{"$f":"IF(OR(samples!L$52>Right,samples!L$52<Left),1,0)","v":0},null,{"$f":"IF(pop=1, 210,IF(pop=2,424,IF(pop=3,397,410)))","v":210}]
[null,67.30683636982407,0.16633498536910746,null,0,{"$f":"samples!L$53","v":0.33806170189140655},null,null,"SigLevel=",{"$f":"IF(alpha=1, 0.1,IF(alpha=2, 0.05,IF(alpha=3,0.02,0.01)))","v":{"v":0.02,"d":"2%"}},{"$f":"100*J24","v":2}]
[null,67.3349782326701,0.1893985905588012,30,{"$f":"samples!M$52","v":68.32},{"$f":"samples!M$52","v":68.32},{"$f":"IF(OR(samples!M$52>Right,samples!M$52<Left),1,0)","v":0},null,"z-value=",{"$f":"IF(alpha=1, 1.645,IF(alpha=2, 1.96,IF(alpha=3,2.33,2.57)))","v":2.33}]
[null,67.36312009551612,0.2146059893370142,null,0,{"$f":"samples!M$53","v":0.40248209492435033}]
[null,67.39126195836215,0.2419796759888906,32,{"$f":"samples!N$52","v":67.84},{"$f":"samples!N$52","v":67.84},{"$f":"IF(OR(samples!N$52>Right,samples!N$52<Left),1,0)","v":0},"misses=",{"$f":"COUNTIF(G1:G160,1)","v":1},{"$f":"I27/80","v":{"v":0.0125,"d":"1.25%"}}]
[null,67.41940382120818,0.27151129456403555,null,0,{"$f":"samples!N$53","v":0.40240095751904575},null,"hits=",{"$f":"80-I27","v":79}]
[null,67.4475456840542,0.3031578840018373,34,{"$f":"samples!O$52","v":68.5},{"$f":"samples!O$52","v":68.5},{"$f":"IF(OR(samples!O$52>Right,samples!O$52<Left),1,0)","v":0}]
[null,67.47568754690023,0.3368385512378027,null,0,{"$f":"samples!O$53","v":0.4220939057912616}]
[null,67.50382940974626,0.3724317274890653,36,{"$f":"samples!P$52","v":67.98},{"$f":"samples!P$52","v":67.98},{"$f":"IF(OR(samples!P$52>Right,samples!P$52<Left),1,0)","v":0},{"$nulls":3},"      New Sample =",null,{"$f":"IF(HypoTests!E31=1,-1,1)","v":1}]
[null,67.53197127259229,0.4097731603346151,null,0,{"$f":"samples!P$53","v":0.456687272984613}]
[null,67.56011313543831,{"$f":"NORMDIST(B33,mean,sd,FALSE)","v":0.4486547850432318},38,{"$f":"samples!Q$52","v":68.24},{"$f":"samples!Q$52","v":68.24},{"$f":"IF(OR(samples!Q$52>Right,samples!Q$52<Left),1,0)","v":0}]
[null,{"$f":"B33+7*sd/100","v":67.58825499828434},0.4888246025368118,null,0,{"$f":"samples!Q$53","v":0.37640620697998756}]
[null,67.61639686113037,0.5299876684038086,40,{"$f":"samples!R$52","v":67.96},{"$f":"samples!R$52","v":67.96},{"$f":"IF(OR(samples!R$52>Right,samples!R$52<Left),1,0)","v":0}]
[null,67.6445387239764,0.5718082678444208,null,0,{"$f":"samples!R$53","v":0.32696501716388493}]
[null,67.67268058682242,0.613913316052493,42,{"$f":"samples!S$52","v":67.52},{"$f":"samples!S$52","v":67.52},{"$f":"IF(OR(samples!S$52>Right,samples!S$52<Left),1,0)","v":0}]
[null,67.70082244966845,0.6558969834002741,null,0,{"$f":"samples!S$53","v":0.35940994728037456}]
[null,67.72896431251448,0.6973265013104902,44,{"$f":"samples!T$52","v":68.12},{"$f":"samples!T$52","v":68.12},{"$f":"IF(OR(samples!T$52>Right,samples!T$52<Left),1,0)","v":0}]
[null,67.7571061753605,0.7377490595831154,null,0,{"$f":"samples!T$53","v":0.35529809272479573}]
[null,67.78524803820653,0.7766996611159123,46,{"$f":"samples!U$52","v":68.74},{"$f":"samples!U$52","v":68.74},{"$f":"IF(OR(samples!U$52>Right,samples!U$52<Left),1,0)","v":0}]
[null,67.81338990105256,0.8137097574689517,null,0,{"$f":"samples!U$53","v":0.39673154445713915}]
[null,67.84153176389859,0.8483164506468075,48,{"$f":"samples!V$52","v":68.68},{"$f":"samples!V$52","v":68.68},{"$f":"IF(OR(samples!V$52>Right,samples!V$52<Left),1,0)","v":0}]
[null,67.86967362674461,0.880072014790134,null,0,{"$f":"samples!V$53","v":0.3708126761807455}]
[null,67.89781548959064,0.9085534679580107,50,{"$f":"samples!W$52","v":67.74},{"$f":"samples!W$52","v":67.74},{"$f":"IF(OR(samples!W$52>Right,samples!W$52<Left),1,0)","v":0}]
[null,67.92595735243667,0.9333719103069021,null,0,{"$f":"samples!W$53","v":0.40789154220709417}]
[null,67.9540992152827,0.9541813417848933,52,{"$f":"samples!X$52","v":67.8},{"$f":"samples!X$52","v":67.8},{"$f":"IF(OR(samples!X$52>Right,samples!X$52<Left),1,0)","v":0}]
[null,67.98224107812872,0.9706866805289055,null,0,{"$f":"samples!X$53","v":0.3822596617217043}]
[null,68.01038294097475,0.9826507225100342,54,{"$f":"samples!Y$52","v":67.5},{"$f":"samples!Y$52","v":67.5},{"$f":"IF(OR(samples!Y$52>Right,samples!Y$52<Left),1,0)","v":0}]
[null,68.03852480382078,0.9898998130938854,null,0,{"$f":"samples!Y$53","v":0.38465462908103604}]
[null,68.0666666666668,0.9923280410005073,56,{"$f":"samples!Z$52","v":67.84},{"$f":"samples!Z$52","v":67.84},{"$f":"IF(OR(samples!Z$52>Right,samples!Z$52<Left),1,0)","v":0}]
[null,68.09480852951283,0.9898998130938362,null,0,{"$f":"samples!Z$53","v":0.46278659074289147}]
[null,68.12295039235886,0.9826507225099369,58,{"$f":"samples!AA$52","v":67.76},{"$f":"samples!AA$52","v":67.76},{"$f":"IF(OR(samples!AA$52>Right,samples!AA$52<Left),1,0)","v":0}]
[null,68.15109225520489,0.9706866805287615,null,0,{"$f":"samples!AA$53","v":0.38498343457603373}]
[null,68.17923411805091,0.9541813417847045,60,{"$f":"samples!AB$52","v":68.5},{"$f":"samples!AB$52","v":68.5},{"$f":"IF(OR(samples!AB$52>Right,samples!AB$52<Left),1,0)","v":0}]
[null,68.20737598089694,0.9333719103066712,null,0,{"$f":"samples!AB$53","v":0.39821028185046725}]
[null,68.23551784374297,0.9085534679577408,62,{"$f":"samples!AC$52","v":68.74},{"$f":"samples!AC$52","v":68.74},{"$f":"IF(OR(samples!AC$52>Right,samples!AC$52<Left),1,0)","v":0}]
[null,68.263659706589,0.8800720147898291,null,0,{"$f":"samples!AC$53","v":0.43874589363739175}]
[null,68.29180156943502,0.8483164506464715,64,{"$f":"samples!AD$52","v":67.54},{"$f":"samples!AD$52","v":67.54},{"$f":"IF(OR(samples!AD$52>Right,samples!AD$52<Left),1,0)","v":0}]
[null,68.31994343228105,0.8137097574685894,null,0,{"$f":"samples!AD$53","v":0.44097295025561695}]
[null,68.34808529512708,0.7766996611155279,66,{"$f":"samples!AE$52","v":67.92},{"$f":"samples!AE$52","v":67.92},{"$f":"IF(OR(samples!AE$52>Right,samples!AE$52<Left),1,0)","v":0}]
[null,68.3762271579731,0.7377490595827139,null,0,{"$f":"samples!AE$53","v":0.3690473118278291}]
[null,68.40436902081913,0.6973265013100761,68,{"$f":"samples!AF$52","v":68.2},{"$f":"samples!AF$52","v":68.2},{"$f":"IF(OR(samples!AF$52>Right,samples!AF$52<Left),1,0)","v":0}]
[null,68.43251088366516,0.6558969833998523,null,0,{"$f":"samples!AF$53","v":0.4453844933748542}]
[null,68.46065274651119,{"$f":"NORMDIST(B65,mean,sd,FALSE)","v":0.6139133160520676},70,{"$f":"samples!AG$52","v":68.56},{"$f":"samples!AG$52","v":68.56},{"$f":"IF(OR(samples!AG$52>Right,samples!AG$52<Left),1,0)","v":0}]
[null,{"$f":"B65+7*sd/100","v":68.48879460935721},0.5718082678439963,null,0,{"$f":"samples!AG$53","v":0.3737946615183153}]
[null,68.51693647220324,0.5299876684033891,72,{"$f":"samples!AH$52","v":67.6},{"$f":"samples!AH$52","v":67.6},{"$f":"IF(OR(samples!AH$52>Right,samples!AH$52<Left),1,0)","v":0}]
[null,68.54507833504927,0.4888246025364005,null,0,{"$f":"samples!AH$53","v":0.4020356365562942}]
[null,68.5732201978953,0.4486547850428321,74,{"$f":"samples!AI$52","v":67.38},{"$f":"samples!AI$52","v":67.38},{"$f":"IF(OR(samples!AI$52>Right,samples!AI$52<Left),1,0)","v":0}]
[null,68.60136206074132,0.4097731603342297,null,0,{"$f":"samples!AI$53","v":0.46851044899375155}]
[null,68.62950392358735,0.37243172748869674,76,{"$f":"samples!AJ$52","v":68.5},{"$f":"samples!AJ$52","v":68.5},{"$f":"IF(OR(samples!AJ$52>Right,samples!AJ$52<Left),1,0)","v":0}]
[null,68.65764578643338,0.33683855123745265,null,0,{"$f":"samples!AJ$53","v":0.39512333388398085}]
[null,68.6857876492794,0.3031578840015073,78,{"$f":"samples!AK$52","v":68.06},{"$f":"samples!AK$52","v":68.06},{"$f":"IF(OR(samples!AK$52>Right,samples!AK$52<Left),1,0)","v":0}]
[null,68.71392951212543,0.2715112945637266,null,0,{"$f":"samples!AK$53","v":0.42513863285151726}]
[null,68.74207137497146,0.2419796759886032,80,{"$f":"samples!AL$52","v":67.8},{"$f":"samples!AL$52","v":67.8},{"$f":"IF(OR(samples!AL$52>Right,samples!AL$52<Left),1,0)","v":0}]
[null,68.77021323781749,0.2146059893367488,null,0,{"$f":"samples!AL$53","v":0.37579846965616864}]
[null,68.79835510066351,0.1893985905585575,82,{"$f":"samples!AM$52","v":67.7},{"$f":"samples!AM$52","v":67.7},{"$f":"IF(OR(samples!AM$52>Right,samples!AM$52<Left),1,0)","v":0}]
[null,68.82649696350954,0.1663349853688852,null,0,{"$f":"samples!AM$53","v":0.40228936686653494}]
[null,68.85463882635557,0.14536586030995663,84,{"$f":"samples!AN$52","v":68.24},{"$f":"samples!AN$52","v":68.24},{"$f":"IF(OR(samples!AN$52>Right,samples!AN$52<Left),1,0)","v":0}]
[null,68.8827806892016,0.12641924680039096,null,0,{"$f":"samples!AN$53","v":0.4742857142857142}]
[null,68.91092255204762,0.10940468779454525,86,{"$f":"samples!AO$52","v":68.1},{"$f":"samples!AO$52","v":68.1},{"$f":"IF(OR(samples!AO$52>Right,samples!AO$52<Left),1,0)","v":0}]
[null,68.93906441489365,0.0942172927062881,null,0,{"$f":"samples!AO$53","v":0.40228936686653477}]
[null,68.96720627773968,0.08074158443199281,88,{"$f":"samples!AP$52","v":68.04},{"$f":"samples!AP$52","v":68.04},{"$f":"IF(OR(samples!AP$52>Right,samples!AP$52<Left),1,0)","v":0}]
[null,68.9953481405857,0.06885506162057947,null,0,{"$f":"samples!AP$53","v":0.36584818977163697}]
[null,69.02349000343173,0.05843141884632013,90,{"$f":"samples!AQ$52","v":68.48},{"$f":"samples!AQ$52","v":68.48},{"$f":"IF(OR(samples!AQ$52>Right,samples!AQ$52<Left),1,0)","v":0}]
[null,69.05163186627776,0.04934338622220153,null,0,{"$f":"samples!AQ$53","v":0.40024482303628484}]
[null,69.07977372912379,0.04146516756902305,92,{"$f":"samples!AR$52","v":68.46},{"$f":"samples!AR$52","v":68.46},{"$f":"IF(OR(samples!AR$52>Right,samples!AR$52<Left),1,0)","v":0}]
[null,69.10791559196981,0.03467447200467708,null,0,{"$f":"samples!AR$53","v":0.46088645730875216}]
[null,69.13605745481584,0.028854147374701333,94,{"$f":"samples!AS$52","v":68.14},{"$f":"samples!AS$52","v":68.14},{"$f":"IF(OR(samples!AS$52>Right,samples!AS$52<Left),1,0)","v":0}]
[null,69.16419931766187,0.0238934350979396,null,0,{"$f":"samples!AS$53","v":0.4361332879957219}]
[null,69.1923411805079,0.019688874678950866,96,{"$f":"samples!AT$52","v":68.56},{"$f":"samples!AT$52","v":68.56},{"$f":"IF(OR(samples!AT$52>Right,samples!AT$52<Left),1,0)","v":0}]
[null,69.22048304335392,0.016144892392326884,null,0,{"$f":"samples!AT$53","v":0.3919183588453086}]
[null,69.24862490619995,0.013174112623586622,98,{"$f":"samples!AU$52","v":67.42},{"$f":"samples!AU$52","v":67.42},{"$f":"IF(OR(samples!AU$52>Right,samples!AU$52<Left),1,0)","v":0}]
[null,69.27676676904598,0.010697432282918555,null,0,{"$f":"samples!AU$53","v":0.3659931972156904}]
[null,69.304908631892,0.008643898869818624,100,{"$f":"samples!AV$52","v":68.1},{"$f":"samples!AV$52","v":68.1},{"$f":"IF(OR(samples!AV$52>Right,samples!AV$52<Left),1,0)","v":0}]
[null,69.33305049473803,0.006950431466151993,null,0,{"$f":"samples!AV$53","v":0.38359204520278706}]
[null,69.36119235758406,{"$f":"NORMDIST(B97,mean,sd,FALSE)","v":0.005561421489194738},102,{"$f":"samples!AW$52","v":68.28},{"$f":"samples!AW$52","v":68.28},{"$f":"IF(OR(samples!AW$52>Right,samples!AW$52<Left),1,0)","v":0}]
[null,69.38933422043009,{"$f":"NORMDIST(B98,mean,sd,FALSE)","v":0.004428246753915631},null,0,{"$f":"samples!AW$53","v":0.4130918759297784}]
[null,69.41747608327611,{"$f":"NORMDIST(B99,mean,sd,FALSE)","v":0.003508728563063586},104,{"$f":"samples!AX$52","v":66.84},{"$f":"samples!AX$52","v":66.84},{"$f":"IF(OR(samples!AX$52>Right,samples!AX$52<Left),1,0)","v":1}]
[null,69.44561794612214,{"$f":"NORMDIST(B100,mean,sd,FALSE)","v":2.7665574213897037E-3},null,0,{"$f":"samples!AX$53","v":0.42316591043596835}]
[null,69.47375980896817,{"$f":"NORMDIST(B101,mean,sd,FALSE)","v":0.002170708776006979},106,{"$f":"samples!AY$52","v":67.74},{"$f":"samples!AY$52","v":67.74},{"$f":"IF(OR(samples!AY$52>Right,samples!AY$52<Left),1,0)","v":0}]
[{"$nulls":4},0,{"$f":"samples!AY$53","v":0.39466855119976624}]
[{"$nulls":3},108,{"$f":"samples!AZ$52","v":68.48},{"$f":"samples!AZ$52","v":68.48},{"$f":"IF(OR(samples!AZ$52>Right,samples!AZ$52<Left),1,0)","v":0}]
[{"$nulls":4},0,{"$f":"samples!AZ$53","v":0.41819827345215965}]
[{"$nulls":3},110,{"$f":"samples!BA$52","v":68.58},{"$f":"samples!BA$52","v":68.58},{"$f":"IF(OR(samples!BA$52>Right,samples!BA$52<Left),1,0)","v":0}]
[{"$nulls":4},0,{"$f":"samples!BA$53","v":0.45722320722431603}]
[{"$nulls":3},112,{"$f":"samples!BB$52","v":67.94},{"$f":"samples!BB$52","v":67.94},{"$f":"IF(OR(samples!BB$52>Right,samples!BB$52<Left),1,0)","v":0}]
[{"$nulls":4},0,{"$f":"samples!BB$53","v":0.4104850291833717}]
[{"$nulls":3},114,{"$f":"samples!BC$52","v":67.52},{"$f":"samples!BC$52","v":67.52},{"$f":"IF(OR(samples!BC$52>Right,samples!BC$52<Left),1,0)","v":0}]
[{"$nulls":4},0,{"$f":"samples!BC$53","v":0.37388200692469925}]
[{"$nulls":3},116,{"$f":"samples!BD$52","v":68.04},{"$f":"samples!BD$52","v":68.04},{"$f":"IF(OR(samples!BD$52>Right,samples!BD$52<Left),1,0)","v":0}]
[{"$nulls":4},0,{"$f":"samples!BD$53","v":0.3968858366670935}]
[{"$nulls":3},118,{"$f":"samples!BE$52","v":67.94},{"$f":"samples!BE$52","v":67.94},{"$f":"IF(OR(samples!BE$52>Right,samples!BE$52<Left),1,0)","v":0}]
[{"$nulls":4},0,{"$f":"samples!BE$53","v":0.4439249798728408}]
[{"$nulls":3},120,{"$f":"samples!BF$52","v":68.3},{"$f":"samples!BF$52","v":68.3},{"$f":"IF(OR(samples!BF$52>Right,samples!BF$52<Left),1,0)","v":0}]
[{"$nulls":4},0,{"$f":"samples!BF$53","v":0.48170615143106743}]
[{"$nulls":3},122,{"$f":"samples!BG$52","v":67.94},{"$f":"samples!BG$52","v":67.94},{"$f":"IF(OR(samples!BG$52>Right,samples!BG$52<Left),1,0)","v":0}]
[{"$nulls":4},0,{"$f":"samples!BG$53","v":0.4222485968609256}]
[{"$nulls":3},124,{"$f":"samples!BH$52","v":68.36},{"$f":"samples!BH$52","v":68.36},{"$f":"IF(OR(samples!BH$52>Right,samples!BH$52<Left),1,0)","v":0}]
[{"$nulls":4},0,{"$f":"samples!BH$53","v":0.4587115940660451}]
[{"$nulls":3},126,{"$f":"samples!BI$52","v":68},{"$f":"samples!BI$52","v":68},{"$f":"IF(OR(samples!BI$52>Right,samples!BI$52<Left),1,0)","v":0}]
[{"$nulls":4},0,{"$f":"samples!BI$53","v":0.3938299643454349}]
[{"$nulls":3},128,{"$f":"samples!BJ$52","v":67.58},{"$f":"samples!BJ$52","v":67.58},{"$f":"IF(OR(samples!BJ$52>Right,samples!BJ$52<Left),1,0)","v":0}]
[{"$nulls":4},0,{"$f":"samples!BJ$53","v":0.4445497607646622}]
[{"$nulls":3},130,{"$f":"samples!BK$52","v":68.08},{"$f":"samples!BK$52","v":68.08},{"$f":"IF(OR(samples!BK$52>Right,samples!BK$52<Left),1,0)","v":0}]
[{"$nulls":4},0,{"$f":"samples!BK$53","v":0.36459650607884053}]
[{"$nulls":3},132,{"$f":"samples!BL$52","v":67.98},{"$f":"samples!BL$52","v":67.98},{"$f":"IF(OR(samples!BL$52>Right,samples!BL$52<Left),1,0)","v":0}]
[{"$nulls":4},0,{"$f":"samples!BL$53","v":0.34816135128789394}]
[{"$nulls":3},134,{"$f":"samples!BM$52","v":67.96},{"$f":"samples!BM$52","v":67.96},{"$f":"IF(OR(samples!BM$52>Right,samples!BM$52<Left),1,0)","v":0}]
[{"$nulls":4},0,{"$f":"samples!BM$53","v":0.3713846127833582}]
[{"$nulls":3},136,{"$f":"samples!BN$52","v":67.66},{"$f":"samples!BN$52","v":67.66},{"$f":"IF(OR(samples!BN$52>Right,samples!BN$52<Left),1,0)","v":0}]
[{"$nulls":4},0,{"$f":"samples!BN$53","v":0.4904059126720166}]
[{"$nulls":3},138,{"$f":"samples!BO$52","v":68.54},{"$f":"samples!BO$52","v":68.54},{"$f":"IF(OR(samples!BO$52>Right,samples!BO$52<Left),1,0)","v":0}]
[{"$nulls":4},0,{"$f":"samples!BO$53","v":0.3824838265221425}]
[{"$nulls":3},140,{"$f":"samples!BP$52","v":68.14},{"$f":"samples!BP$52","v":68.14},{"$f":"IF(OR(samples!BP$52>Right,samples!BP$52<Left),1,0)","v":0}]
[{"$nulls":4},0,{"$f":"samples!BP$53","v":0.3647867702577796}]
[{"$nulls":3},142,{"$f":"samples!BQ$52","v":68.28},{"$f":"samples!BQ$52","v":68.28},{"$f":"IF(OR(samples!BQ$52>Right,samples!BQ$52<Left),1,0)","v":0}]
[{"$nulls":4},0,{"$f":"samples!BQ$53","v":0.416045523411826}]
[{"$nulls":3},144,{"$f":"samples!BR$52","v":68.08},{"$f":"samples!BR$52","v":68.08},{"$f":"IF(OR(samples!BR$52>Right,samples!BR$52<Left),1,0)","v":0}]
[{"$nulls":4},0,{"$f":"samples!BR$53","v":0.40991786135910746}]
[{"$nulls":3},146,{"$f":"samples!BS$52","v":67.76},{"$f":"samples!BS$52","v":67.76},{"$f":"IF(OR(samples!BS$52>Right,samples!BS$52<Left),1,0)","v":0}]
[{"$nulls":4},0,{"$f":"samples!BS$53","v":0.447724405027404}]
[{"$nulls":3},148,{"$f":"samples!BT$52","v":68.34},{"$f":"samples!BT$52","v":68.34},{"$f":"IF(OR(samples!BT$52>Right,samples!BT$52<Left),1,0)","v":0}]
[{"$nulls":4},0,{"$f":"samples!BT$53","v":0.4036668660857743}]
[{"$nulls":3},150,{"$f":"samples!BU$52","v":68.24},{"$f":"samples!BU$52","v":68.24},{"$f":"IF(OR(samples!BU$52>Right,samples!BU$52<Left),1,0)","v":0}]
[{"$nulls":4},0,{"$f":"samples!BU$53","v":0.4046263078194394}]
[{"$nulls":3},152,{"$f":"samples!BV$52","v":67.94},{"$f":"samples!BV$52","v":67.94},{"$f":"IF(OR(samples!BV$52>Right,samples!BV$52<Left),1,0)","v":0}]
[{"$nulls":4},0,{"$f":"samples!BV$53","v":0.36857142857142866}]
[{"$nulls":3},154,{"$f":"samples!BW$52","v":67.66},{"$f":"samples!BW$52","v":67.66},{"$f":"IF(OR(samples!BW$52>Right,samples!BW$52<Left),1,0)","v":0}]
[{"$nulls":4},0,{"$f":"samples!BW$53","v":0.44868060545814326}]
[{"$nulls":3},156,{"$f":"samples!BX$52","v":67.9},{"$f":"samples!BX$52","v":67.9},{"$f":"IF(OR(samples!BX$52>Right,samples!BX$52<Left),1,0)","v":0}]
[{"$nulls":4},0,{"$f":"samples!BX$53","v":0.37931194421005}]
[{"$nulls":3},158,{"$f":"samples!BY$52","v":68.44},{"$f":"samples!BY$52","v":68.44},{"$f":"IF(OR(samples!BY$52>Right,samples!BY$52<Left),1,0)","v":0}]
[{"$nulls":4},0,{"$f":"samples!BY$53","v":0.34894593464621776}]
[{"$nulls":3},160,{"$f":"samples!BZ$52","v":68.48},{"$f":"samples!BZ$52","v":68.48},{"$f":"IF(OR(samples!BZ$52>Right,samples!BZ$52<Left),1,0)","v":0}]
[{"$nulls":4},0,{"$f":"samples!BZ$53","v":0.40931999357819937}]
[{"$nulls":3},162,{"$f":"samples!CA$52","v":68.5},{"$f":"samples!CA$52","v":68.5},{"$f":"IF(OR(samples!CA$52>Right,samples!CA$52<Left),1,0)","v":0}]
[{"$nulls":4},0,{"$f":"samples!CA$53","v":0.4400834800214104}]
[{"$nulls":3},164,{"$f":"samples!CB$52","v":67.76},{"$f":"samples!CB$52","v":67.76},{"$f":"IF(OR(samples!CB$52>Right,samples!CB$52<Left),1,0)","v":0}]
[{"$nulls":4},0,{"$f":"samples!CB$53","v":0.43758147929318053}]
{"$rows_empty":36}
["Left =",{"$f":"mean-$J$25*sd","v":67.12994466050614},{"$f":"mean-$J$25*sd","v":67.12994466050614}]
[null,0,0.75]
["Right=",{"$f":"mean+$J$25*sd","v":69.00338867282719},{"$f":"mean+$J$25*sd","v":69.00338867282719}]
[null,0,0.75]
[{"$nulls":4},{"$f":"HypoTests!F23","v":{"v":68.06666666666666,"d":"68.07"}},{"$f":"HypoTests!F23","v":{"v":68.06666666666666,"d":"68.07"}}]
[{"$nulls":4},{"v":0,"d":"0.00"},0.9]