{"text_format":"3","workbook":"xlsx","n_sheets":4,"sheets":["P-Values","Pops","samples","Calcs"],"not_rendered":{"charts":3,"images":7,"macros":1,"defined_names":24,"comments":1},"read":"whole","date_system":"1900"}

{"sheet":"P-Values","index":0,"n_rows":49,"n_cols":6,"rows_kept":49}
[null,null,"              Simulating P-Values for "]
[null,null,"     Hypothesis Tests on Proportions"]
[]
[null,null,"         This program simulates the P-Values of"]
[null,null,"    sample proportions based on repeated samples"]
[null,null,"of size n drawn from a population with proportion P"]
[]
[]
["For the underlying population:"]
[null,"What is the population proportion P (0.05 - 0.95) ?"]
[null,null,3,{"$f":"(5+5*C11)/100","v":{"v":0.2,"d":"0.20"}}]
[]
[null,"What is the sample size n (10 - 100)?"]
[null,null,56,{"$f":"C14","v":56}]
[]
["What is the level of significance a?",null,null,true]
[{"$nulls":3},false]
[{"$nulls":3},false]
[{"$nulls":3},false]
[]
["The mean and standard deviation ",{"$nulls":3},"       m =     ",{"$f":"n*pi","v":{"v":11.200000000000001,"d":"11.20"}}]
[null,"of the sampling distribution are:",null,null,"  s =",{"$f":"SQRT(pi*(1-pi)/n)","v":{"v":0.05345224838248488,"d":"0.053"}}]
[]
[{"$f":"\"       \" &Calcs!K27&\" of the 100 random sample means, or \"&TEXT(Calcs!L27,\"0.00%\")&\", \"","v":"       96 of the 100 random sample means, or 96.00%, "}]
[null,{"$f":"\"based on samples of size 50 from the \"&TEXT(pop_name,\"\")&\" population\"","v":"based on samples of size 50 from the skewed population"}]
[null,{"$f":"\"fell in the rejection region at the \"&TEXT(Calcs!L24,\"0%\")&\" significance level.\"","v":"fell in the rejection region at the 10% significance level."}]
[]
[]
[{"$nulls":3},-1]
[]
[]
["Click each item below for suggestions and investigations"]
[null,null,"   Item 1"]
[null,null,"   Item 2"]
[null,null,"   Item 3"]
[null,null,"   Item 4"]
[null,null,"   Item 5"]
[null,null,"   Item 6"]
[]
[]
[]
["To access/download all the DIGMath Apps for Statistics"]
["Click this link:",null,"DIGMath for Statistics and Probability"]
[]
["Created by:  Sheldon P. Gordon   &   Florence S. Gordon"]
["                  Farmingdale State College      NYIT"]
["Development of this module was supported by the "]
["NSF's Division of Undergraduate Education  "]
["under grants DUE-0310123 and DUE-0442160."]

{"sheet":"Pops","index":1,"n_rows":428,"n_cols":16,"rows_kept":428}
[null,"Normal data",null,null,"Uniform data",null,"U-shaped",null,"Skewed data",{"$nulls":5},{"$f":"mean-1","v":10.200000000000001},{"$f":"0.398942/EXP((O1-mean)^2/2/sd^2)/sd","v":7.437199812570305e-76}]
["mu, sigma,n=",68.07,null,null,68.47,null,68.61,null,71.19,{"$nulls":5},{"$f":"O1+0.01","v":10.21},2.4201371756958858E-74]
[null,2.762,{"$f":"B3/SQRT(50)","v":0.3906057859274488},null,4.162,{"$f":"E3/SQRT(50)","v":0.5885956846596822},4.801,{"$f":"G3/SQRT(50)","v":0.678963931295323},3.291,{"$f":"I3/SQRT(50)","v":0.4654176833769856},{"$nulls":4},{"$f":"O2+0.01","v":10.22},7.6044920336027e-73]
[null,210,null,null,424,null,397,null,410,{"$nulls":5},10.23,2.3072790821192213E-71]
[1,61,61,4,61,{"$f":"COUNTIF(E$5:E$502,\"=61\")","v":23},61,{"$f":"COUNTIF(G$5:G$502,\"=61\")","v":18},61,{"$f":"COUNTIF(I$5:I$502,\"=61\")","v":3},{"$nulls":4},10.24,6.759736099501464e-70]
[2,61,62,12,61,{"$f":"COUNTIF(E$5:E$502,\"=62\")","v":28},61,{"$f":"COUNTIF(G$5:G$502,\"=62\")","v":22},61,{"$f":"COUNTIF(I$5:I$502,\"=62\")","v":5},{"$nulls":4},10.25,1.912313307135028e-68]
[3,62,63,6,61,{"$f":"COUNTIF(E$5:E$502,\"=63\")","v":19},61,{"$f":"COUNTIF(G$5:G$502,\"=63\")","v":35},61,{"$f":"COUNTIF(I$5:I$502,\"=63\")","v":6},{"$nulls":4},10.26,5.223818102448131e-67]
[4,62,64,16,61,{"$f":"COUNTIF(E$5:E$502,\"=64\")","v":24},61,{"$f":"COUNTIF(G$5:G$502,\"=64\")","v":44},62,{"$f":"COUNTIF(I$5:I$502,\"=64\")","v":15},{"$nulls":4},10.27,1.3778969476371381E-65]
[5,62,65,28,61,{"$f":"COUNTIF(E$5:E$502,\"=65\")","v":25},61,{"$f":"COUNTIF(G$5:G$502,\"=65\")","v":36},62,{"$f":"COUNTIF(I$5:I$502,\"=65\")","v":11},{"$nulls":4},10.28,3.509499001914804e-64]
[6,62,66,54,61,{"$f":"COUNTIF(E$5:E$502,\"=66\")","v":27},61,{"$f":"COUNTIF(G$5:G$502,\"=66\")","v":21},62,{"$f":"COUNTIF(I$5:I$502,\"=66\")","v":10},{"$nulls":4},10.29,8.631240174392982e-63]
[7,62,67,60,61,{"$f":"COUNTIF(E$5:E$502,\"=67\")","v":21},61,{"$f":"COUNTIF(G$5:G$502,\"=67\")","v":7},62,{"$f":"COUNTIF(I$5:I$502,\"=67\")","v":15},{"$nulls":4},10.299999999999999,2.0497503675542446E-61]
[8,62,68,70,61,{"$f":"COUNTIF(E$5:E$502,\"=68\")","v":29},61,{"$f":"COUNTIF(G$5:G$502,\"=68\")","v":8},62,{"$f":"COUNTIF(I$5:I$502,\"=68\")","v":14},{"$nulls":4},10.309999999999999,4.7003309485243617E-60]
[9,63,69,56,61,{"$f":"COUNTIF(E$5:E$502,\"=69\")","v":34},61,{"$f":"COUNTIF(G$5:G$502,\"=69\")","v":9},63,{"$f":"COUNTIF(I$5:I$502,\"=69\")","v":23},{"$nulls":4},10.319999999999999,1.0407719889230573E-58]
[10,63,70,32,61,{"$f":"COUNTIF(E$5:E$502,\"=70\")","v":29},61,{"$f":"COUNTIF(G$5:G$502,\"=70\")","v":10},63,{"$f":"COUNTIF(I$5:I$502,\"=70\")","v":20},{"$nulls":4},10.329999999999998,2.2252686320462206E-57]
[11,63,71,28,61,{"$f":"COUNTIF(E$5:E$502,\"=71\")","v":44},61,{"$f":"COUNTIF(G$5:G$502,\"=71\")","v":24},63,{"$f":"COUNTIF(I$5:I$502,\"=71\")","v":54},{"$nulls":4},10.339999999999998,4.594190400315768e-56]
[12,64,72,20,61,{"$f":"COUNTIF(E$5:E$502,\"=72\")","v":37},61,{"$f":"COUNTIF(G$5:G$502,\"=72\")","v":34},63,{"$f":"COUNTIF(I$5:I$502,\"=72\")","v":58},{"$nulls":4},10.349999999999998,9.15872938692074e-55]
[13,64,73,18,61,{"$f":"COUNTIF(E$5:E$502,\"=73\")","v":28},61,{"$f":"COUNTIF(G$5:G$502,\"=73\")","v":45},63,{"$f":"COUNTIF(I$5:I$502,\"=73\")","v":60},{"$nulls":4},10.359999999999998,1.7630359064034616E-53]
[14,64,74,12,61,{"$f":"COUNTIF(E$5:E$502,\"=74\")","v":35},61,{"$f":"COUNTIF(G$5:G$502,\"=74\")","v":41},63,{"$f":"COUNTIF(I$5:I$502,\"=74\")","v":54},{"$nulls":4},10.369999999999997,3.2770780169503542E-52]
[15,64,75,4,61,{"$f":"COUNTIF(E$5:E$502,\"=75\")","v":21},61,{"$f":"COUNTIF(G$5:G$502,\"=75\")","v":43},64,{"$f":"COUNTIF(I$5:I$502,\"=75\")","v":62},{"$nulls":4},10.379999999999997,5.881824976271349e-51]
[16,64,null,null,61,null,61,null,64,{"$nulls":5},10.389999999999997,1.0193823430826408E-49]
[17,64,null,null,61,null,61,null,64,{"$nulls":5},10.399999999999997,1.705932368366394e-48]
[18,64,null,null,61,null,61,null,64,{"$nulls":5},10.409999999999997,2.756679048334673E-47]
[19,64,null,null,61,null,62,null,64,{"$nulls":5},10.419999999999996,4.301404593014702e-46]
[20,65,null,null,61,null,62,null,64,{"$nulls":5},10.429999999999996,6.480881440650484e-45]
[21,65,null,null,61,null,62,null,64,{"$nulls":5},10.439999999999996,9.428824494260729e-44]
[22,65,null,null,61,null,62,null,64,{"$nulls":5},10.449999999999996,1.324587707576222e-42]
[23,65,null,null,61,null,62,null,64,{"$nulls":5},10.459999999999996,1.7968158998224684E-41]
[24,65,null,null,62,null,62,null,64,{"$nulls":5},10.469999999999995,2.3535646728938124E-40]
[25,65,null,null,62,null,62,null,64,{"$nulls":5},10.479999999999995,2.97679127766327e-39]
[26,65,null,null,62,null,62,null,64,{"$nulls":5},10.489999999999995,3.6355517038628956E-38]
[27,65,null,null,62,null,62,null,64,{"$nulls":5},10.499999999999995,4.287379820747187E-37]
[28,65,null,null,62,null,62,null,64,{"$nulls":5},10.509999999999994,4.882174373449081e-36]
[29,65,null,null,62,null,62,null,64,{"$nulls":5},10.519999999999994,5.368269460475788e-35]
[30,65,null,null,62,null,62,null,65,{"$nulls":5},10.529999999999994,5.699739676286126E-34]
[31,65,null,null,62,null,62,null,65,{"$nulls":5},10.539999999999994,5.843532008357964e-33]
[32,65,null,null,62,null,62,null,65,{"$nulls":5},10.549999999999994,5.784895618349997e-32]
[33,65,null,null,62,null,62,null,65,{"$nulls":5},10.559999999999993,5.529875070162341e-31]
[34,66,null,null,62,null,62,null,65,{"$nulls":5},10.569999999999993,5.1042837134790276E-30]
[35,66,null,null,62,null,62,null,65,{"$nulls":5},10.579999999999993,4.549398552675009e-29]
[36,66,null,null,62,null,62,null,65,{"$nulls":5},10.589999999999993,3.9153704374549867E-28]
[37,66,null,null,62,null,62,null,65,{"$nulls":5},10.599999999999993,3.2538042557101244E-27]
[38,66,null,null,62,null,62,null,65,{"$nulls":5},10.609999999999992,2.611016891399666E-26]
[39,66,null,null,62,null,62,null,65,{"$nulls":5},10.619999999999992,2.0231479025633561E-25]
[40,66,null,null,62,null,62,null,65,{"$nulls":5},10.629999999999992,1.5137190549441755E-24]
[41,66,null,null,62,null,63,null,66,{"$nulls":5},10.639999999999992,1.0936103603870713E-23]
[42,66,null,null,62,null,63,null,66,{"$nulls":5},10.649999999999991,7.62921136382179e-23]
[43,66,null,null,62,null,63,null,66,{"$nulls":5},10.659999999999991,5.139210081637918e-22]
[44,66,null,null,62,null,63,null,66,{"$nulls":5},10.669999999999991,3.3428184352672637E-21]
[45,66,null,null,62,null,63,null,66,{"$nulls":5},10.67999999999999,2.099562943767906e-20]
[46,66,null,null,62,null,63,null,66,{"$nulls":5},10.68999999999999,1.2733409403885358E-19]
[47,66,null,null,62,null,63,null,66,{"$nulls":5},10.69999999999999,7.456932287003961e-19]
[48,66,null,null,62,null,63,null,66,{"$nulls":5},10.70999999999999,4.216726073847266e-18]
[49,66,null,null,62,null,63,null,66,{"$nulls":5},10.71999999999999,2.302450342343551e-17]
[50,66,null,null,62,null,63,null,66,{"$nulls":5},10.72999999999999,1.2139613182546926E-16]
[51,66,null,null,62,null,63,null,67,{"$nulls":5},10.73999999999999,6.180436061400529e-16]
[52,66,null,null,63,null,63,null,67,{"$nulls":5},10.74999999999999,3.0383169768774122E-15]
[53,66,null,null,63,null,63,null,67,{"$nulls":5},10.75999999999999,1.4422705506723183E-14]
[54,66,null,null,63,null,63,null,67,{"$nulls":5},10.769999999999989,6.610892339009704e-14]
[55,66,null,null,63,null,63,null,67,{"$nulls":5},10.779999999999989,2.9259919461887556E-13]
[56,66,null,null,63,null,63,null,67,{"$nulls":5},10.789999999999988,1.2505062347157463E-12]
[57,66,null,null,63,null,63,null,67,{"$nulls":5},10.799999999999988,5.1605773207509665E-12]
[58,66,null,null,63,null,63,null,67,{"$nulls":5},10.809999999999988,2.056413331495563e-11]
[59,66,null,null,63,null,63,null,67,{"$nulls":5},10.819999999999988,7.912654901657278e-11]
[60,66,null,null,63,null,63,null,67,{"$nulls":5},10.829999999999988,2.939907949343645e-10]
[61,67,null,null,63,null,63,null,67,{"$nulls":5},10.839999999999987,{"$f":"0.398942/EXP((O65-mean)^2/2/sd^2)/sd","v":1.0547388261400315E-9}]
[62,67,null,null,63,null,63,null,67,{"$nulls":5},10.849999999999987,3.653893013043894E-9]
[63,67,null,null,63,null,63,null,67,{"$nulls":5},{"$f":"O66+0.01","v":10.859999999999987},1.2222679215537918E-8]
[64,67,null,null,63,null,63,null,67,{"$nulls":5},10.869999999999987,3.9479959081138315E-8]
[65,67,null,null,63,null,63,null,67,{"$nulls":5},10.879999999999987,1.2313646083934371E-7]
[66,67,null,null,63,null,63,null,68,{"$nulls":5},10.889999999999986,3.7084833486383645E-7]
[67,67,null,null,63,null,63,null,68,{"$nulls":5},10.899999999999986,1.0784640998025921E-6]
[68,67,null,null,63,null,63,null,68,{"$nulls":5},10.909999999999986,3.0284105142910612E-6]
[69,67,null,null,63,null,63,null,68,{"$nulls":5},10.919999999999986,8.211518790741362E-6]
[70,67,null,null,63,null,63,null,68,{"$nulls":5},10.929999999999986,2.1499676728512842E-5]
[71,67,null,null,64,null,63,null,68,{"$nulls":5},10.939999999999985,5.43550703072337e-05]
[72,67,null,null,64,null,63,null,68,{"$nulls":5},10.949999999999985,1.3269296148664625E-4]
[73,67,null,null,64,null,63,null,68,{"$nulls":5},10.959999999999985,3.1279183304451052E-4]
[74,67,null,null,64,null,63,null,68,{"$nulls":5},10.969999999999985,7.1197151183058848E-4]
[75,67,null,null,64,null,63,null,68,{"$nulls":5},10.979999999999984,1.5648384943298505E-3]
[76,67,null,null,64,null,64,null,68,{"$nulls":5},10.989999999999984,3.3210553873059506E-3]
[77,67,null,null,64,null,64,null,68,{"$nulls":5},10.999999999999984,0.006805850569627692]
[78,67,null,null,64,null,64,null,68,{"$nulls":5},11.009999999999984,0.01346754369649361]
[79,67,null,null,64,null,64,null,68,{"$nulls":5},11.019999999999984,0.02573321629307438]
[80,67,null,null,64,null,64,null,69,{"$nulls":5},11.029999999999983,0.047478767929655365]
[81,67,null,null,64,null,64,null,69,{"$nulls":5},11.039999999999983,0.08458717168249824]
[82,67,null,null,64,null,64,null,69,{"$nulls":5},11.049999999999983,0.14551550145639197]
[83,67,null,null,64,null,64,null,69,{"$nulls":5},11.059999999999983,0.24172062573231698]
[84,67,null,null,64,null,64,null,69,{"$nulls":5},11.069999999999983,0.38771968615301444]
[85,67,null,null,64,null,64,null,69,{"$nulls":5},11.079999999999982,0.6005119972907393]
[86,67,null,null,64,null,64,null,69,{"$nulls":5},11.089999999999982,0.8981010772528737]
[87,67,null,null,64,null,64,null,69,{"$nulls":5},11.099999999999982,1.2969655467416679]
[88,67,null,null,64,null,64,null,69,{"$nulls":5},11.109999999999982,1.8085534759003414]
[89,67,null,null,64,null,64,null,69,{"$nulls":5},11.119999999999981,2.435196231503817]
[90,67,null,null,64,null,64,null,69,{"$nulls":5},11.129999999999981,3.1661848355740525]
[91,68,null,null,64,null,64,null,69,{"$nulls":5},11.139999999999981,3.975010307458404]
[92,68,null,null,64,null,64,null,69,{"$nulls":5},11.14999999999998,4.818811597727045]
[93,68,null,null,64,null,64,null,69,{"$nulls":5},11.15999999999998,5.640808132638685]
[94,68,null,null,64,null,64,null,69,{"$nulls":5},11.16999999999998,6.375913284990926]
[95,68,null,null,65,null,64,null,69,{"$nulls":5},11.17999999999998,6.958941233662888]
[96,68,null,null,65,null,64,null,69,{"$nulls":5},11.18999999999998,7.334045995511826]
[97,68,null,null,65,null,64,null,69,{"$nulls":5},11.19999999999998,7.463521405971849]
[98,68,null,null,65,null,64,null,69,{"$nulls":5},11.20999999999998,7.334045995512921]
[99,68,null,null,65,null,64,null,69,{"$nulls":5},11.21999999999998,6.958941233664964]
[100,68,null,null,65,null,64,null,69,{"$nulls":5},11.229999999999979,6.375913284993779]
[101,68,null,null,65,null,64,null,69,{"$nulls":5},11.239999999999979,5.640808132642051]
[102,68,null,null,65,null,64,null,69,{"$nulls":5},11.249999999999979,4.81881159773064]
[103,68,null,null,65,null,64,null,70,{"$nulls":5},11.259999999999978,3.9750103074619627]
[104,68,null,null,65,null,64,null,70,{"$nulls":5},11.269999999999978,3.1661848355773587]
[105,68,null,null,65,null,64,null,70,{"$nulls":5},11.279999999999978,2.435196231506723]
[106,68,null,null,65,null,64,null,70,{"$nulls":5},11.289999999999978,1.8085534759027708]
[107,68,null,null,65,null,64,null,70,{"$nulls":5},11.299999999999978,1.296965546743603]
[108,68,null,null,65,null,64,null,70,{"$nulls":5},11.309999999999977,0.8981010772543477]
[109,68,null,null,65,null,64,null,70,{"$nulls":5},11.319999999999977,0.6005119972918146]
[110,68,null,null,65,null,64,null,70,{"$nulls":5},11.329999999999977,0.3877196861537665]
[111,68,null,null,65,null,64,null,70,{"$nulls":5},11.339999999999977,0.24172062573282202]
[112,68,null,null,65,null,64,null,70,{"$nulls":5},11.349999999999977,0.1455155014567176]
[113,68,null,null,65,null,64,null,70,{"$nulls":5},11.359999999999976,0.08458717168270019]
[114,68,null,null,65,null,64,null,70,{"$nulls":5},11.369999999999976,0.047478767929775796]
[115,68,null,null,65,null,64,null,70,{"$nulls":5},11.379999999999976,0.0257332162931435]
[116,68,null,null,65,null,64,null,70,{"$nulls":5},11.389999999999976,0.013467543696531801]
[117,68,null,null,65,null,64,null,70,{"$nulls":5},11.399999999999975,0.006805850569648003]
[118,68,null,null,65,null,64,null,70,{"$nulls":5},11.409999999999975,3.3210553873163537E-3]
[119,68,null,null,65,null,64,null,70,{"$nulls":5},11.419999999999975,1.5648384943349903E-3]
[120,68,null,null,66,null,65,null,70,{"$nulls":5},11.429999999999975,7.1197151183303325E-4]
[121,68,null,null,66,null,65,null,70,{"$nulls":5},11.439999999999975,3.1279183304563067E-4]
[122,68,null,null,66,null,65,null,70,{"$nulls":5},11.449999999999974,1.3269296148714124E-4]
[123,68,null,null,66,null,65,null,71,{"$nulls":5},11.459999999999974,5.4355070307444671E-5]
[124,68,null,null,66,null,65,null,71,{"$nulls":5},11.469999999999974,2.14996767285995e-05]
[125,68,null,null,66,null,65,null,71,{"$nulls":5},11.479999999999974,{"$f":"0.398942/EXP((O129-mean)^2/2/sd^2)/sd","v":8.21151879077567e-06}]
[126,69,null,null,66,null,65,null,71,{"$nulls":5},11.489999999999974,3.028410514304166E-6]
[127,69,null,null,66,null,65,null,71,{"$nulls":5},{"$f":"O130+0.01","v":11.499999999999973},1.0784640998074198E-6]
[128,69,null,null,66,null,65,null,71,{"$nulls":5},11.509999999999973,3.7084833486555322E-7]
[129,69,null,null,66,null,65,null,71,{"$nulls":5},11.519999999999973,1.2313646083993169E-7]
[130,69,null,null,66,null,65,null,71,{"$nulls":5},11.529999999999973,3.9479959081332723E-8]
[131,69,null,null,66,null,65,null,71,{"$nulls":5},11.539999999999973,1.2222679215599927E-8]
[132,69,null,null,66,null,65,null,71,{"$nulls":5},11.549999999999972,3.6538930130629767E-9]
[133,69,null,null,66,null,65,null,71,{"$nulls":5},11.559999999999972,1.0547388261456971E-9]
[134,69,null,null,66,null,65,null,71,{"$nulls":5},11.569999999999972,2.9399079493598657E-10]
[135,69,null,null,66,null,65,null,71,{"$nulls":5},11.579999999999972,7.912654901702116e-11]
[136,69,null,null,66,null,65,null,71,{"$nulls":5},11.589999999999971,2.0564133315075298E-11]
[137,69,null,null,66,null,65,null,71,{"$nulls":5},11.599999999999971,5.1605773207817855E-12]
[138,69,null,null,66,null,65,null,71,{"$nulls":5},11.609999999999971,1.2505062347233968E-12]
[139,69,null,null,66,null,65,null,71,{"$nulls":5},11.61999999999997,2.925991946207093E-13]
[140,69,null,null,66,null,65,null,71,{"$nulls":5},11.62999999999997,6.610892339052122e-14]
[141,69,null,null,66,null,65,null,71,{"$nulls":5},11.63999999999997,1.4422705506817975E-14]
[142,69,null,null,66,null,65,null,71,{"$nulls":5},11.64999999999997,3.0383169768978137E-15]
[143,69,null,null,66,null,65,null,71,{"$nulls":5},11.65999999999997,6.18043606144295e-16]
[144,69,null,null,66,null,65,null,71,{"$nulls":5},11.66999999999997,1.2139613182632064E-16]
[145,69,null,null,66,null,65,null,71,{"$nulls":5},11.67999999999997,2.3024503423600415E-17]
[146,69,null,null,66,null,65,null,71,{"$nulls":5},11.68999999999997,4.216726073878126e-18]
[147,69,null,null,67,null,65,null,71,{"$nulls":5},11.699999999999969,7.4569322870595945E-19]
[148,69,null,null,67,null,65,null,71,{"$nulls":5},11.709999999999969,1.2733409403982258E-19]
[149,69,null,null,67,null,65,null,71,{"$nulls":5},11.719999999999969,2.0995629437842113E-20]
[150,69,null,null,67,null,65,null,71,{"$nulls":5},11.729999999999968,3.3428184352936997E-21]
[151,69,null,null,67,null,65,null,71,{"$nulls":5},11.739999999999968,5.139210081679292e-22]
[152,69,null,null,67,null,65,null,71,{"$nulls":5},11.749999999999968,7.629211363884455e-23]
[153,69,null,null,67,null,65,null,71,{"$nulls":5},11.759999999999968,1.0936103603962095E-23]
[154,70,null,null,67,null,65,null,71,{"$nulls":5},11.769999999999968,1.5137190549570499E-24]
[155,70,null,null,67,null,65,null,71,{"$nulls":5},11.779999999999967,2.0231479025808653E-25]
[156,70,null,null,67,null,66,null,71,{"$nulls":5},11.789999999999967,2.6110168914226525E-26]
[157,70,null,null,67,null,66,null,71,{"$nulls":5},11.799999999999967,3.2538042557392786E-27]
[158,70,null,null,67,null,66,null,71,{"$nulls":5},11.809999999999967,3.9153704374905967E-28]
[159,70,null,null,67,null,66,null,71,{"$nulls":5},11.819999999999967,4.5493985527170957E-29]
[160,70,null,null,67,null,66,null,71,{"$nulls":5},11.829999999999966,5.1042837135269745E-30]
[161,70,null,null,67,null,66,null,71,{"$nulls":5},11.839999999999966,5.52987507021515e-31]
[162,70,null,null,67,null,66,null,71,{"$nulls":5},11.849999999999966,5.784895618406063E-32]
[163,70,null,null,67,null,66,null,71,{"$nulls":5},11.859999999999966,5.8435320084155124E-33]
[164,70,null,null,67,null,66,null,71,{"$nulls":5},11.869999999999965,5.699739676343068e-34]
[165,70,null,null,67,null,66,null,71,{"$nulls":5},11.879999999999965,5.368269460530258e-35]
[166,70,null,null,67,null,66,null,71,{"$nulls":5},11.889999999999965,4.8821743734993815E-36]
[167,70,null,null,67,null,66,null,71,{"$nulls":5},11.899999999999965,4.287379820791968e-37]
[168,70,null,null,68,null,66,null,71,{"$nulls":5},11.909999999999965,3.635551703901385E-38]
[169,70,null,null,68,null,66,null,71,{"$nulls":5},11.919999999999964,2.97679127769525e-39]
[170,71,null,null,68,null,66,null,71,{"$nulls":5},11.929999999999964,2.3535646729194324E-40]
[171,71,null,null,68,null,66,null,71,{"$nulls":5},11.939999999999964,1.796815899842309e-41]
[172,71,null,null,68,null,66,null,71,{"$nulls":5},11.949999999999964,1.324587707591036e-42]
[173,71,null,null,68,null,66,null,71,{"$nulls":5},11.959999999999964,9.428824494367786e-44]
[174,71,null,null,68,null,66,null,71,{"$nulls":5},11.969999999999963,6.4808814407249E-45]
[175,71,null,null,68,null,66,null,71,{"$nulls":5},11.979999999999963,4.301404593064765e-46]
[176,71,null,null,68,null,66,null,71,{"$nulls":5},11.989999999999963,2.7566790483671877E-47]
[177,71,null,null,68,null,67,null,72,{"$nulls":5},11.999999999999963,1.7059323683867578E-48]
[178,71,null,null,68,null,67,null,72,{"$nulls":5},12.009999999999962,1.0193823430949541E-49]
[179,71,null,null,68,null,67,null,72,{"$nulls":5},12.019999999999962,5.8818249763434e-51]
[180,71,null,null,68,null,67,null,72,{"$nulls":5},12.029999999999962,3.2770780169909633E-52]
[181,71,null,null,68,null,67,null,72,{"$nulls":5},12.039999999999962,1.7630359064255847E-53]
[182,71,null,null,68,null,67,null,72,{"$nulls":5},12.049999999999962,9.158729387036839e-55]
[183,71,null,null,68,null,67,null,72,{"$nulls":5},12.059999999999961,4.594190400374658e-56]
[184,72,null,null,68,null,68,null,72,{"$nulls":5},12.069999999999961,2.225268632075061E-57]
[185,72,null,null,68,null,68,null,72,{"$nulls":5},12.079999999999961,1.0407719889367532E-58]
[186,72,null,null,68,null,68,null,72,{"$nulls":5},12.08999999999996,4.7003309485867494E-60]
[187,72,null,null,68,null,68,null,72,{"$nulls":5},12.09999999999996,2.0497503675818e-61]
[188,72,null,null,68,null,68,null,72,{"$nulls":5},12.10999999999996,8.631240174510242e-63]
[189,72,null,null,68,null,68,null,72,{"$nulls":5},12.11999999999996,{"$f":"0.398942/EXP((O193-mean)^2/2/sd^2)/sd","v":3.509499001962981e-64}]
[190,72,null,null,68,null,68,null,72,{"$nulls":5},12.12999999999996,1.377896947656288E-65]
[191,72,null,null,68,null,68,null,72,{"$nulls":5},{"$f":"O194+0.01","v":12.13999999999996},5.223818102521476e-67]
[192,72,null,null,68,null,69,null,72,{"$nulls":5},12.14999999999996,1.9123133071621496E-68]
[193,72,null,null,68,null,69,null,72,{"$nulls":5},12.15999999999996,6.759736099598295e-70]
[194,73,null,null,68,null,69,null,72,{"$nulls":5},12.169999999999959,2.3072790821525995E-71]
[195,73,null,null,68,null,69,null,72,{"$nulls":5},12.179999999999959,7.604492033713793e-73]
[196,73,null,null,68,null,69,null,72,{"$nulls":5},12.189999999999959,2.420137175731585e-74]
[197,73,null,null,69,null,69,null,72,{"$nulls":5},12.199999999999958,7.437199812681278e-76]
[198,73,null,null,69,null,69,null,72,{"$nulls":5},12.209999999999958,2.20687944471874e-77]
[199,73,null,null,69,null,69,null,72,{"$nulls":5},12.219999999999958,6.323353520233068e-79]
[200,73,null,null,69,null,69,null,72,{"$nulls":5},12.229999999999958,1.7495083064502575E-80]
[201,73,null,null,69,null,70,null,72,{"$nulls":5},12.239999999999958,4.673952001003369e-82]
[202,73,null,null,69,null,70,null,72,{"$nulls":5},12.249999999999957,1.205735868366692e-83]
[203,74,null,null,69,null,70,null,72,{"$nulls":5},12.259999999999957,3.00344584851472e-85]
[204,74,null,null,69,null,70,null,72,{"$nulls":5},12.269999999999957,7.224156152481811e-87]
[205,74,null,null,69,null,70,null,72]
[206,74,null,null,69,null,70,null,72]
[207,74,null,null,69,null,70,null,72]
[208,74,null,null,69,null,70,null,72]
[209,75,null,null,69,null,70,null,72]
[210,75,null,null,69,null,70,null,72]
[211,{"$nulls":3},69,null,71,null,72]
[212,{"$nulls":3},69,null,71,null,72]
[213,{"$nulls":3},69,null,71,null,72]
[214,{"$nulls":3},69,null,71,null,72]
[215,{"$nulls":3},69,null,71,null,72]
[216,{"$nulls":3},69,null,71,null,72]
[217,{"$nulls":3},69,null,71,null,72]
[218,{"$nulls":3},69,null,71,null,72]
[219,{"$nulls":3},69,null,71,null,72]
[220,{"$nulls":3},69,null,71,null,72]
[221,{"$nulls":3},69,null,71,null,72]
[222,{"$nulls":3},69,null,71,null,72]
[223,{"$nulls":3},69,null,71,null,72]
[224,{"$nulls":3},69,null,71,null,72]
[225,{"$nulls":3},69,null,71,null,72]
[226,{"$nulls":3},69,null,71,null,72]
[227,{"$nulls":3},69,null,71,null,72]
[228,{"$nulls":3},69,null,71,null,72]
[229,{"$nulls":3},69,null,71,null,72]
[230,{"$nulls":3},69,null,71,null,72]
[231,{"$nulls":3},70,null,71,null,72]
[232,{"$nulls":3},70,null,71,null,72]
[233,{"$nulls":3},70,null,71,null,72]
[234,{"$nulls":3},70,null,71,null,72]
[235,{"$nulls":3},70,null,72,null,73]
[236,{"$nulls":3},70,null,72,null,73]
[237,{"$nulls":3},70,null,72,null,73]
[238,{"$nulls":3},70,null,72,null,73]
[239,{"$nulls":3},70,null,72,null,73]
[240,{"$nulls":3},70,null,72,null,73]
[241,{"$nulls":3},70,null,72,null,73]
[242,{"$nulls":3},70,null,72,null,73]
[243,{"$nulls":3},70,null,72,null,73]
[244,{"$nulls":3},70,null,72,null,73]
[245,{"$nulls":3},70,null,72,null,73]
[246,{"$nulls":3},70,null,72,null,73]
[247,{"$nulls":3},70,null,72,null,73]
[248,{"$nulls":3},70,null,72,null,73]
[249,{"$nulls":3},70,null,72,null,73]
[250,{"$nulls":3},70,null,72,null,73]
[251,{"$nulls":3},70,null,72,null,73]
[252,{"$nulls":3},70,null,72,null,73]
[253,{"$nulls":3},70,null,72,null,73]
[254,{"$nulls":3},70,null,72,null,73]
[255,{"$nulls":3},70,null,72,null,73]
[256,{"$nulls":3},70,null,72,null,73]
[257,{"$nulls":3},70,null,72,null,73]
[258,{"$nulls":3},70,null,72,null,73]
[259,{"$nulls":3},70,null,72,null,73]
[260,{"$nulls":3},71,null,72,null,73]
[261,{"$nulls":3},71,null,72,null,73]
[262,{"$nulls":3},71,null,72,null,73]
[263,{"$nulls":3},71,null,72,null,73]
[264,{"$nulls":3},71,null,72,null,73]
[265,{"$nulls":3},71,null,72,null,73]
[266,{"$nulls":3},71,null,72,null,73]
[267,{"$nulls":3},71,null,72,null,73]
[268,{"$nulls":3},71,null,72,null,73]
[269,{"$nulls":3},71,null,73,null,73]
[270,{"$nulls":3},71,null,73,null,73]
[271,{"$nulls":3},71,null,73,null,73]
[272,{"$nulls":3},71,null,73,null,73]
[273,{"$nulls":3},71,null,73,null,73]
[274,{"$nulls":3},71,null,73,null,73]
[275,{"$nulls":3},71,null,73,null,73]
[276,{"$nulls":3},71,null,73,null,73]
[277,{"$nulls":3},71,null,73,null,73]
[278,{"$nulls":3},71,null,73,null,73]
[279,{"$nulls":3},71,null,73,null,73]
[280,{"$nulls":3},71,null,73,null,73]
[281,{"$nulls":3},71,null,73,null,73]
[282,{"$nulls":3},71,null,73,null,73]
[283,{"$nulls":3},71,null,73,null,73]
[284,{"$nulls":3},71,null,73,null,73]
[285,{"$nulls":3},71,null,73,null,73]
[286,{"$nulls":3},71,null,73,null,73]
[287,{"$nulls":3},71,null,73,null,73]
[288,{"$nulls":3},71,null,73,null,73]
[289,{"$nulls":3},71,null,73,null,73]
[290,{"$nulls":3},71,null,73,null,73]
[291,{"$nulls":3},71,null,73,null,73]
[292,{"$nulls":3},71,null,73,null,73]
[293,{"$nulls":3},71,null,73,null,73]
[294,{"$nulls":3},71,null,73,null,73]
[295,{"$nulls":3},71,null,73,null,74]
[296,{"$nulls":3},71,null,73,null,74]
[297,{"$nulls":3},71,null,73,null,74]
[298,{"$nulls":3},71,null,73,null,74]
[299,{"$nulls":3},71,null,73,null,74]
[300,{"$nulls":3},71,null,73,null,74]
[301,{"$nulls":3},71,null,73,null,74]
[302,{"$nulls":3},71,null,73,null,74]
[303,{"$nulls":3},71,null,73,null,74]
[304,{"$nulls":3},72,null,73,null,74]
[305,{"$nulls":3},72,null,73,null,74]
[306,{"$nulls":3},72,null,73,null,74]
[307,{"$nulls":3},72,null,73,null,74]
[308,{"$nulls":3},72,null,73,null,74]
[309,{"$nulls":3},72,null,73,null,74]
[310,{"$nulls":3},72,null,73,null,74]
[311,{"$nulls":3},72,null,73,null,74]
[312,{"$nulls":3},72,null,73,null,74]
[313,{"$nulls":3},72,null,73,null,74]
[314,{"$nulls":3},72,null,74,null,74]
[315,{"$nulls":3},72,null,74,null,74]
[316,{"$nulls":3},72,null,74,null,74]
[317,{"$nulls":3},72,null,74,null,74]
[318,{"$nulls":3},72,null,74,null,74]
[319,{"$nulls":3},72,null,74,null,74]
[320,{"$nulls":3},72,null,74,null,74]
[321,{"$nulls":3},72,null,74,null,74]
[322,{"$nulls":3},72,null,74,null,74]
[323,{"$nulls":3},72,null,74,null,74]
[324,{"$nulls":3},72,null,74,null,74]
[325,{"$nulls":3},72,null,74,null,74]
[326,{"$nulls":3},72,null,74,null,74]
[327,{"$nulls":3},72,null,74,null,74]
[328,{"$nulls":3},72,null,74,null,74]
[329,{"$nulls":3},72,null,74,null,74]
[330,{"$nulls":3},72,null,74,null,74]
[331,{"$nulls":3},72,null,74,null,74]
[332,{"$nulls":3},72,null,74,null,74]
[333,{"$nulls":3},72,null,74,null,74]
[334,{"$nulls":3},72,null,74,null,74]
[335,{"$nulls":3},72,null,74,null,74]
[336,{"$nulls":3},72,null,74,null,74]
[337,{"$nulls":3},72,null,74,null,74]
[338,{"$nulls":3},72,null,74,null,74]
[339,{"$nulls":3},72,null,74,null,74]
[340,{"$nulls":3},72,null,74,null,74]
[341,{"$nulls":3},73,null,74,null,74]
[342,{"$nulls":3},73,null,74,null,74]
[343,{"$nulls":3},73,null,74,null,74]
[344,{"$nulls":3},73,null,74,null,74]
[345,{"$nulls":3},73,null,74,null,74]
[346,{"$nulls":3},73,null,74,null,74]
[347,{"$nulls":3},73,null,74,null,74]
[348,{"$nulls":3},73,null,74,null,74]
[349,{"$nulls":3},73,null,74,null,75]
[350,{"$nulls":3},73,null,74,null,75]
[351,{"$nulls":3},73,null,74,null,75]
[352,{"$nulls":3},73,null,74,null,75]
[353,{"$nulls":3},73,null,74,null,75]
[354,{"$nulls":3},73,null,74,null,75]
[355,{"$nulls":3},73,null,75,null,75]
[356,{"$nulls":3},73,null,75,null,75]
[357,{"$nulls":3},73,null,75,null,75]
[358,{"$nulls":3},73,null,75,null,75]
[359,{"$nulls":3},73,null,75,null,75]
[360,{"$nulls":3},73,null,75,null,75]
[361,{"$nulls":3},73,null,75,null,75]
[362,{"$nulls":3},73,null,75,null,75]
[363,{"$nulls":3},73,null,75,null,75]
[364,{"$nulls":3},73,null,75,null,75]
[365,{"$nulls":3},73,null,75,null,75]
[366,{"$nulls":3},73,null,75,null,75]
[367,{"$nulls":3},73,null,75,null,75]
[368,{"$nulls":3},73,null,75,null,75]
[369,{"$nulls":3},74,null,75,null,75]
[370,{"$nulls":3},74,null,75,null,75]
[371,{"$nulls":3},74,null,75,null,75]
[372,{"$nulls":3},74,null,75,null,75]
[373,{"$nulls":3},74,null,75,null,75]
[374,{"$nulls":3},74,null,75,null,75]
[375,{"$nulls":3},74,null,75,null,75]
[376,{"$nulls":3},74,null,75,null,75]
[377,{"$nulls":3},74,null,75,null,75]
[378,{"$nulls":3},74,null,75,null,75]
[379,{"$nulls":3},74,null,75,null,75]
[380,{"$nulls":3},74,null,75,null,75]
[381,{"$nulls":3},74,null,75,null,75]
[382,{"$nulls":3},74,null,75,null,75]
[383,{"$nulls":3},74,null,75,null,75]
[384,{"$nulls":3},74,null,75,null,75]
[385,{"$nulls":3},74,null,75,null,75]
[386,{"$nulls":3},74,null,75,null,75]
[387,{"$nulls":3},74,null,75,null,75]
[388,{"$nulls":3},74,null,75,null,75]
[389,{"$nulls":3},74,null,75,null,75]
[390,{"$nulls":3},74,null,75,null,75]
[391,{"$nulls":3},74,null,75,null,75]
[392,{"$nulls":3},74,null,75,null,75]
[393,{"$nulls":3},74,null,75,null,75]
[394,{"$nulls":3},74,null,75,null,75]
[395,{"$nulls":3},74,null,75,null,75]
[396,{"$nulls":3},74,null,75,null,75]
[397,{"$nulls":3},74,null,75,null,75]
[398,{"$nulls":3},74,{"$nulls":3},75]
[399,{"$nulls":3},74,{"$nulls":3},75]
[400,{"$nulls":3},74,{"$nulls":3},75]
[401,{"$nulls":3},74,{"$nulls":3},75]
[402,{"$nulls":3},74,{"$nulls":3},75]
[403,{"$nulls":3},74,{"$nulls":3},75]
[404,{"$nulls":3},75,{"$nulls":3},75]
[405,{"$nulls":3},75,{"$nulls":3},75]
[406,{"$nulls":3},75,{"$nulls":3},75]
[407,{"$nulls":3},75,{"$nulls":3},75]
[408,{"$nulls":3},75,{"$nulls":3},75]
[409,{"$nulls":3},75,{"$nulls":3},75]
[410,{"$nulls":3},75,{"$nulls":3},75]
[411,{"$nulls":3},75]
[412,{"$nulls":3},75]
[413,{"$nulls":3},75]
[414,{"$nulls":3},75]
[415,{"$nulls":3},75]
[416,{"$nulls":3},75]
[417,{"$nulls":3},75]
[418,{"$nulls":3},75]
[419,{"$nulls":3},75]
[420,{"$nulls":3},75]
[421,{"$nulls":3},75]
[422,{"$nulls":3},75]
[423,{"$nulls":3},75]
[424,{"$nulls":3},75]

{"sheet":"samples","index":2,"n_rows":56,"n_cols":100,"rows_kept":56}
[{"$f":"sampx(pop, popsize,newSample)","v":0},0,0,0,0,0,0,0,0,0,{"$f":"sampx(pop, popsize,newSample)","v":0},0,0,0,0,0,0,0,0,0,{"$f":"sampx(pop, popsize,newSample)","v":0},0,0,0,0,0,0,0,0,0,{"$f":"sampx(pop, popsize,newSample)","v":0},0,0,0,0,0,0,0,0,0,{"$f":"sampx(pop, popsize,newSample)","v":0},0,0,0,0,0,0,0,0,0,{"$f":"sampx(pop, popsize,newSample)","v":0},0,0,0,0,0,0,0,0,0,{"$f":"sampx(pop, popsize,newSample)","v":0},0,0,0,0,0,0,0,0,0,{"$f":"sampx(pop, popsize,newSample)","v":0},0,0,0,0,0,0,0,0,0,0,0,0,0,0,0,{"$f":"sampx(pop, popsize,newSample)","v":0},0,0,0,0,0,0,0,0,0,0,0,0,0]
[0,0,0,0,0,0,0,0,0,0,0,0,0,0,0,0,0,0,0,0,0,0,0,0,0,0,0,0,0,0,0,0,0,0,0,0,0,0,0,0,0,0,0,0,0,0,0,0,0,0,0,0,0,0,0,0,0,0,0,0,0,0,0,0,0,0,0,0,0,0,0,0,0,0,0,0,0,0,0,0,0,0,0,0,0,0,0,0,0,0,0,0,0,0,0,0,0,0,0,0]
[0,0,0,0,0,0,0,0,0,0,0,0,0,0,0,0,0,0,0,0,0,0,0,0,0,0,0,0,0,0,0,0,0,0,0,0,0,0,0,0,0,0,0,0,0,0,0,0,0,0,0,0,0,0,0,0,0,0,0,0,0,0,0,0,0,0,0,0,0,0,0,0,0,0,0,0,0,0,0,0,0,0,0,0,0,0,0,0,0,0,0,0,0,0,0,0,0,0,0,0]
[0,0,0,0,0,0,0,0,0,0,0,0,0,0,0,0,0,0,0,0,0,0,0,0,0,0,0,0,0,0,0,0,0,0,0,0,0,0,0,0,0,0,0,0,0,0,0,0,0,0,0,0,0,0,0,0,0,0,0,0,0,0,0,0,0,0,0,0,0,0,0,0,0,0,0,0,0,0,0,0,0,0,0,0,0,0,0,0,0,0,0,0,0,0,0,0,0,0,0,0]
[0,0,0,0,0,0,0,0,0,0,0,0,0,0,0,0,0,0,0,0,0,0,0,0,0,0,0,0,0,0,0,0,0,0,0,0,0,0,0,0,0,0,0,0,0,0,0,0,0,0,0,0,0,0,0,0,0,0,0,0,0,0,0,0,0,0,0,0,0,0,0,0,0,0,0,0,0,0,0,0,0,0,0,0,0,0,0,0,0,0,0,0,0,0,0,0,0,0,0,0]
[0,0,0,0,0,0,0,0,0,0,0,0,0,0,0,0,0,0,0,0,0,0,0,0,0,0,0,0,0,0,0,0,0,0,0,0,0,0,0,0,0,0,0,0,0,0,0,0,0,0,0,0,0,0,0,0,0,0,0,0,0,0,0,0,0,0,0,0,0,0,0,0,0,0,0,0,0,0,0,0,0,0,0,0,0,0,0,0,0,0,0,0,0,0,0,0,0,0,0,0]
[0,0,0,0,0,0,0,0,0,0,0,0,0,0,0,0,0,0,0,0,0,0,0,0,0,0,0,0,0,0,0,0,0,0,0,0,0,0,0,0,0,0,0,0,0,0,0,0,0,0,0,0,0,0,0,0,0,0,0,0,0,0,0,0,0,0,0,0,0,0,0,0,0,0,0,0,0,0,0,0,0,0,0,0,0,0,0,0,0,0,0,0,0,0,0,0,0,0,0,0]
[0,0,0,0,0,0,0,0,0,0,0,0,0,0,0,0,0,0,0,0,0,0,0,0,0,0,0,0,0,0,0,0,0,0,0,0,0,0,0,0,0,0,0,0,0,0,0,0,0,0,0,0,0,0,0,0,0,0,0,0,0,0,0,0,0,0,0,0,0,0,0,0,0,0,0,0,0,0,0,0,0,0,0,0,0,0,0,0,0,0,0,0,0,0,0,0,0,0,0,0]
[0,0,0,0,0,0,0,0,0,0,0,0,0,0,0,0,0,0,0,0,0,0,0,0,0,0,0,0,0,0,0,0,0,0,0,0,0,0,0,0,0,0,0,0,0,0,0,0,0,0,0,0,0,0,0,0,0,0,0,0,0,0,0,0,0,0,0,0,0,0,0,0,0,0,0,0,0,0,0,0,0,0,0,0,0,0,0,0,0,0,0,0,0,0,0,0,0,0,0,0]
[0,0,0,0,0,0,0,0,0,0,0,0,0,0,0,0,0,0,0,0,0,0,0,0,0,0,0,0,0,0,0,0,0,0,0,0,0,0,0,0,0,0,0,0,0,0,0,0,0,0,0,0,0,0,0,0,0,0,0,0,0,0,0,0,0,0,0,0,0,0,0,0,0,0,0,0,0,0,0,0,0,0,0,0,0,0,0,0,0,0,0,0,0,0,0,0,0,0,0,0]
[{"$f":"sampx(pop, popsize,newSample)","v":0},0,0,0,0,0,0,0,0,0,{"$f":"sampx(pop, popsize,newSample)","v":0},0,0,0,0,0,0,0,0,0,{"$f":"sampx(pop, popsize,newSample)","v":0},0,0,0,0,0,0,0,0,0,{"$f":"sampx(pop, popsize,newSample)","v":0},0,0,0,0,0,0,0,0,0,{"$f":"sampx(pop, popsize,newSample)","v":0},0,0,0,0,0,0,0,0,0,{"$f":"sampx(pop, popsize,newSample)","v":0},0,0,0,0,0,0,0,0,0,{"$f":"sampx(pop, popsize,newSample)","v":0},0,0,0,0,0,0,0,0,0,{"$f":"sampx(pop, popsize,newSample)","v":0},0,0,0,0,0,0,0,0,0,0,0,0,0,0,0,0,0,0,0,0,0,0,0,0,0,0,0,0,0]
[0,0,0,0,0,0,0,0,0,0,0,0,0,0,0,0,0,0,0,0,0,0,0,0,0,0,0,0,0,0,0,0,0,0,0,0,0,0,0,0,0,0,0,0,0,0,0,0,0,0,0,0,0,0,0,0,0,0,0,0,0,0,0,0,0,0,0,0,0,0,0,0,0,0,0,0,0,0,0,0,0,0,0,0,0,0,0,0,0,0,0,0,0,0,0,0,0,0,0,0]
[0,0,0,0,0,0,0,0,0,0,0,0,0,0,0,0,0,0,0,0,0,0,0,0,0,0,0,0,0,0,0,0,0,0,0,0,0,0,0,0,0,0,0,0,0,0,0,0,0,0,0,0,0,0,0,0,0,0,0,0,0,0,0,0,0,0,0,0,0,0,0,0,0,0,0,0,0,0,0,0,0,0,0,0,0,0,0,0,0,0,0,0,0,0,0,0,0,0,0,0]
[0,0,0,0,0,0,0,0,0,0,0,0,0,0,0,0,0,0,0,0,0,0,0,0,0,0,0,0,0,0,0,0,0,0,0,0,0,0,0,0,0,0,0,0,0,0,0,0,0,0,0,0,0,0,0,0,0,0,0,0,0,0,0,0,0,0,0,0,0,0,0,0,0,0,0,0,0,0,0,0,0,0,0,0,0,0,0,{"$f":"sampx(pop, popsize,newSample)","v":0},0,0,0,0,0,0,0,0,0,0,0,0]
[0,0,0,0,0,0,0,0,0,0,0,0,0,0,0,0,0,0,0,0,0,0,0,0,0,0,0,0,0,0,0,0,0,0,0,0,0,0,0,0,0,0,0,0,0,0,0,0,0,0,0,0,0,0,0,0,0,0,0,0,0,0,0,0,0,0,0,0,0,0,0,0,0,0,0,0,0,0,0,0,0,0,0,0,0,0,0,0,0,0,0,0,0,0,0,0,0,0,0,0]
[0,0,0,0,0,0,0,0,0,0,0,0,0,0,0,0,0,0,0,0,0,0,0,0,0,0,0,0,0,0,0,0,0,0,0,0,0,0,0,0,0,0,0,0,0,0,0,0,0,0,0,0,0,0,0,0,0,0,0,0,0,0,0,0,0,0,0,0,0,0,0,0,0,0,0,0,0,0,0,0,0,0,0,0,0,0,0,0,0,0,0,0,0,0,0,0,0,0,0,0]
[0,0,0,0,0,0,0,0,0,0,0,0,0,0,0,0,0,0,0,0,0,0,0,0,0,0,0,0,0,0,0,0,0,0,0,0,0,0,0,0,0,0,0,0,0,0,0,0,0,0,0,0,0,0,0,0,0,0,0,0,0,0,0,0,0,0,0,0,0,0,0,0,0,0,0,0,0,0,0,0,0,0,0,0,0,0,0,0,0,0,0,0,0,0,0,0,0,0,0,0]
[0,0,0,0,0,0,0,0,0,0,0,0,0,0,0,0,0,0,0,0,0,0,0,0,0,0,0,0,0,0,0,0,0,0,0,0,0,0,0,0,0,0,0,0,0,0,0,0,0,0,0,0,0,0,0,0,0,0,0,0,0,0,0,0,0,0,0,0,0,0,0,0,0,0,0,0,0,0,0,0,0,0,0,0,0,0,0,0,0,0,0,0,0,0,0,0,0,0,0,0]
[0,0,0,0,0,0,0,0,0,0,0,0,0,0,0,0,0,0,0,0,0,0,0,0,0,0,0,0,0,0,0,0,0,0,0,0,0,0,0,0,0,0,0,0,0,0,0,0,0,0,0,0,0,0,0,0,0,0,0,0,0,0,0,0,0,0,0,0,0,0,0,0,0,0,0,0,0,0,0,0,0,0,0,0,0,0,0,0,0,0,0,0,0,0,0,0,0,0,0,0]
[0,0,0,0,0,0,0,0,0,0,0,0,0,0,0,0,0,0,0,0,0,0,0,0,0,0,0,0,0,0,0,0,0,0,0,0,0,0,0,0,0,0,0,0,0,0,0,0,0,0,0,0,0,0,0,0,0,0,0,0,0,0,0,0,0,0,0,0,0,0,0,0,0,0,0,0,0,0,0,0,0,0,0,0,0,0,0,0,0,0,0,0,0,0,0,0,0,0,0,0]
[{"$f":"sampx(pop, popsize,newSample)","v":0},0,0,0,0,0,0,0,0,0,{"$f":"sampx(pop, popsize,newSample)","v":0},0,0,0,0,0,0,0,0,0,{"$f":"sampx(pop, popsize,newSample)","v":0},0,0,0,0,0,0,0,0,0,{"$f":"sampx(pop, popsize,newSample)","v":0},0,0,0,0,0,0,0,0,0,{"$f":"sampx(pop, popsize,newSample)","v":0},0,0,0,0,0,0,0,0,0,{"$f":"sampx(pop, popsize,newSample)","v":0},0,0,0,0,0,0,0,0,0,{"$f":"sampx(pop, popsize,newSample)","v":0},0,0,0,0,0,0,0,0,0,{"$f":"sampx(pop, popsize,newSample)","v":0},0,0,0,0,0,0,0,0,0,0,0,0,0,0,0,0,0,0,0,0,0,0,0,0,0,0,0,0,0]
[0,0,0,0,0,0,0,0,0,0,0,0,0,0,0,0,0,0,0,0,0,0,0,0,0,0,0,0,0,0,0,0,0,0,0,0,0,0,0,0,0,0,0,0,0,0,0,0,0,0,0,0,0,0,0,0,0,0,0,0,0,0,0,0,0,0,0,0,0,0,0,0,0,0,0,0,0,0,0,0,0,0,0,0,0,0,0,0,0,0,0,0,0,0,0,0,0,0,0,0]
[0,0,0,0,0,0,0,0,0,0,0,0,0,0,0,0,0,0,0,0,0,0,0,0,0,0,0,0,0,0,0,0,0,0,0,0,0,0,0,0,0,0,0,0,0,0,0,0,0,0,0,0,0,0,0,0,0,0,0,0,0,0,0,0,0,0,0,0,0,0,0,0,0,0,0,0,0,0,0,0,0,0,0,0,0,0,0,0,0,0,0,0,0,0,0,0,0,0,0,0]
[0,0,0,0,0,0,0,0,0,0,0,0,0,0,0,0,0,0,0,0,0,0,0,0,0,0,0,0,0,0,0,0,0,0,0,0,0,0,0,0,0,0,0,0,0,0,0,0,0,0,0,0,0,0,0,0,0,0,0,0,0,0,0,0,0,0,0,0,0,0,0,0,0,0,0,0,0,0,0,0,0,0,0,0,0,0,0,0,0,0,0,0,0,0,0,0,0,0,0,0]
[0,0,0,0,0,0,0,0,0,0,0,0,0,0,0,0,0,0,0,0,0,0,0,0,0,0,0,0,0,0,0,0,0,0,0,0,0,0,0,0,0,0,0,0,0,0,0,0,0,0,0,0,0,0,0,0,0,0,0,0,0,0,0,0,0,0,0,0,0,0,0,0,0,0,0,0,0,0,0,0,0,0,0,0,0,0,0,0,0,0,0,0,0,0,0,0,0,0,0,0]
[0,0,0,0,0,0,0,0,0,0,0,0,0,0,0,0,0,0,0,0,0,0,0,0,0,0,0,0,0,0,0,0,0,0,0,0,0,0,0,0,0,0,0,0,0,0,0,0,0,0,0,0,0,0,0,0,0,0,0,0,0,0,0,0,0,0,0,0,0,0,0,0,0,0,0,0,0,0,0,0,0,0,0,0,0,0,0,0,0,0,0,0,0,0,0,0,0,0,0,0]
[0,0,0,0,0,0,0,0,0,0,0,0,0,0,0,0,0,0,0,0,0,0,0,0,0,0,0,0,0,0,0,0,0,0,0,0,0,0,0,0,0,0,0,0,0,0,0,0,0,0,0,0,0,0,0,0,0,0,0,0,0,0,0,0,0,0,0,0,0,0,0,0,0,0,0,0,0,0,0,0,0,0,0,0,0,0,0,0,{"$f":"sampx(pop, popsize,newSample)","v":0},0,0,0,0,0,0,0,0,0,0,0]
[0,0,0,0,0,0,0,0,0,0,0,0,0,0,0,0,0,0,0,0,0,0,0,0,0,0,0,0,0,0,0,0,0,0,0,0,0,0,0,0,0,0,0,0,0,0,0,0,0,0,0,0,0,0,0,0,0,0,0,0,0,0,0,0,0,0,0,0,0,0,0,0,0,0,0,0,0,0,0,0,0,0,0,0,0,0,0,0,0,0,0,0,0,0,0,0,0,0,0,0]
[0,0,0,0,0,0,0,0,0,0,0,0,0,0,0,0,0,0,0,0,0,0,0,0,0,0,0,0,0,0,0,0,0,0,0,0,0,0,0,0,0,0,0,0,0,0,0,0,0,0,0,0,0,0,0,0,0,0,0,0,0,0,0,0,0,0,0,0,0,0,0,0,0,0,0,0,0,0,0,0,0,0,0,0,0,0,0,0,0,0,0,0,0,0,0,0,0,0,0,0]
[0,0,0,0,0,0,0,0,0,0,0,0,0,0,0,0,0,0,0,0,0,0,0,0,0,0,0,0,0,0,0,0,0,0,0,0,0,0,0,0,0,0,0,0,0,0,0,0,0,0,0,0,0,0,0,0,0,0,0,0,0,0,0,0,0,0,0,0,0,0,0,0,0,0,0,0,0,0,0,0,0,0,0,0,0,0,0,0,0,0,0,0,0,0,0,0,0,0,0,0]
[{"$f":"sampx(pop, popsize,newSample)","v":0},0,0,0,0,0,0,0,0,0,{"$f":"sampx(pop, popsize,newSample)","v":0},0,0,0,0,0,0,0,0,0,{"$f":"sampx(pop, popsize,newSample)","v":0},0,0,0,0,0,0,0,0,0,{"$f":"sampx(pop, popsize,newSample)","v":0},0,0,0,0,0,0,0,0,0,{"$f":"sampx(pop, popsize,newSample)","v":0},0,0,0,0,0,0,0,0,0,{"$f":"sampx(pop, popsize,newSample)","v":0},0,0,0,0,0,0,0,0,0,{"$f":"sampx(pop, popsize,newSample)","v":0},0,0,0,0,0,0,0,0,0,{"$f":"sampx(pop, popsize,newSample)","v":0},0,0,0,0,0,0,0,0,0,0,0,0,0,0,0,0,0,0,0,0,0,0,0,0,0,0,0,0,0]
[0,0,0,0,0,0,0,0,0,0,0,0,0,0,0,0,0,0,0,0,0,0,0,0,0,0,0,0,0,0,0,0,0,0,0,0,0,0,0,0,0,0,0,0,0,0,0,0,0,0,0,0,0,0,0,0,0,0,0,0,0,0,0,0,0,0,0,0,0,0,0,0,0,0,0,0,0,0,0,0,0,0,0,0,0,0,0,0,0,0,0,0,0,0,0,0,0,0,0,0]
[0,0,0,0,0,0,0,0,0,0,0,0,0,0,0,0,0,0,0,0,0,0,0,0,0,0,0,0,0,0,0,0,0,0,0,0,0,0,0,0,0,0,0,0,0,0,0,0,0,0,0,0,0,0,0,0,0,0,0,0,0,0,0,0,0,0,0,0,0,0,0,0,0,0,0,0,0,0,0,0,0,0,0,0,0,0,0,0,0,0,0,0,0,0,0,0,0,0,0,0]
[0,0,0,0,0,0,0,0,0,0,0,0,0,0,0,0,0,0,0,0,0,0,0,0,0,0,0,0,0,0,0,0,0,0,0,0,0,0,0,0,0,0,0,0,0,0,0,0,0,0,0,0,0,0,0,0,0,0,0,0,0,0,0,0,0,0,0,0,0,0,0,0,0,0,0,0,0,0,0,0,0,0,0,0,0,0,0,0,0,0,0,0,0,0,0,0,0,0,0,0]
[0,0,0,0,0,0,0,0,0,0,0,0,0,0,0,0,0,0,0,0,0,0,0,0,0,0,0,0,0,0,0,0,0,0,0,0,0,0,0,0,0,0,0,0,0,0,0,0,0,0,0,0,0,0,0,0,0,0,0,0,0,0,0,0,0,0,0,0,0,0,0,0,0,0,0,0,0,0,0,0,0,0,0,0,0,0,0,0,0,0,0,0,0,0,0,0,0,0,0,0]
[0,0,0,0,0,0,0,0,0,0,0,0,0,0,0,0,0,0,0,0,0,0,0,0,0,0,0,0,0,0,0,0,0,0,0,0,0,0,0,0,0,0,0,0,0,0,0,0,0,0,0,0,0,0,0,0,0,0,0,0,0,0,0,0,0,0,0,0,0,0,0,0,0,0,0,0,0,0,0,0,0,0,0,0,0,0,0,0,0,0,0,0,0,0,0,0,0,0,0,0]
[0,0,0,0,0,0,0,0,0,0,0,0,0,0,0,0,0,0,0,0,0,0,0,0,0,0,0,0,0,0,0,0,0,0,0,0,0,0,0,0,0,0,0,0,0,0,0,0,0,0,0,0,0,0,0,0,0,0,0,0,0,0,0,0,0,0,0,0,0,0,0,0,0,0,0,0,0,0,0,0,0,0,0,0,0,0,0,0,0,0,0,0,0,0,0,0,0,0,0,0]
[0,0,0,0,0,0,0,0,0,0,0,0,0,0,0,0,0,0,0,0,0,0,0,0,0,0,0,0,0,0,0,0,0,0,0,0,0,0,0,0,0,0,0,0,0,0,0,0,0,0,0,0,0,0,0,0,0,0,0,0,0,0,0,0,0,0,0,0,0,0,0,0,0,0,0,0,0,0,0,0,0,0,0,0,0,0,0,0,0,0,0,0,0,0,0,0,0,0,0,0]
[0,0,0,0,0,0,0,0,0,0,0,0,0,0,0,0,0,0,0,0,0,0,0,0,0,0,0,0,0,0,0,0,0,0,0,0,0,0,0,0,0,0,0,0,0,0,0,0,0,0,0,0,0,0,0,0,0,0,0,0,0,0,0,0,0,0,0,0,0,0,0,0,0,0,0,0,0,0,0,0,0,0,0,0,0,0,0,0,0,0,0,0,0,0,0,0,0,0,0,0]
[0,0,0,0,0,0,0,0,0,0,0,0,0,0,0,0,0,0,0,0,0,0,0,0,0,0,0,0,0,0,0,0,0,0,0,0,0,0,0,0,0,0,0,0,0,0,0,0,0,0,0,0,0,0,0,0,0,0,0,0,0,0,0,0,0,0,0,0,0,0,0,0,0,0,0,0,0,0,0,0,0,0,0,0,0,0,0,0,0,{"$f":"sampx(pop, popsize,newSample)","v":0},0,0,0,0,0,0,0,0,0,0]
[{"$f":"sampx(pop, popsize,newSample)","v":0},0,0,0,0,0,0,0,0,0,{"$f":"sampx(pop, popsize,newSample)","v":0},0,0,0,0,0,0,0,0,0,{"$f":"sampx(pop, popsize,newSample)","v":0},0,0,0,0,0,0,0,0,0,{"$f":"sampx(pop, popsize,newSample)","v":0},0,0,0,0,0,0,0,0,0,{"$f":"sampx(pop, popsize,newSample)","v":0},0,0,0,0,0,0,0,0,0,{"$f":"sampx(pop, popsize,newSample)","v":0},0,0,0,0,0,0,0,0,0,{"$f":"sampx(pop, popsize,newSample)","v":0},0,0,0,0,0,0,0,0,0,{"$f":"sampx(pop, popsize,newSample)","v":0},0,0,0,0,0,0,0,0,0,0,0,0,0,0,0,{"$f":"sampx(pop, popsize,newSample)","v":0},0,0,0,0,0,0,0,0,0,0,0,0,0]
[0,0,0,0,0,0,0,0,0,0,0,0,0,0,0,0,0,0,0,0,0,0,0,0,0,0,0,0,0,0,0,0,0,0,0,0,0,0,0,0,0,0,0,0,0,0,0,0,0,0,0,0,0,0,0,0,0,0,0,0,0,0,0,0,0,0,0,0,0,0,0,0,0,0,0,0,0,0,0,0,0,0,0,0,0,0,0,0,0,0,0,0,0,0,0,0,0,0,0,0]
[0,0,0,0,0,0,0,0,0,0,0,0,0,0,0,0,0,0,0,0,0,0,0,0,0,0,0,0,0,0,0,0,0,0,0,0,0,0,0,0,0,0,0,0,0,0,0,0,0,0,0,0,0,0,0,0,0,0,0,0,0,0,0,0,0,0,0,0,0,0,0,0,0,0,0,0,0,0,0,0,0,0,0,0,0,0,0,0,0,0,0,0,0,0,0,0,0,0,0,0]
[0,0,0,0,0,0,0,0,0,0,0,0,0,0,0,0,0,0,0,0,0,0,0,0,0,0,0,0,0,0,0,0,0,0,0,0,0,0,0,0,0,0,0,0,0,0,0,0,0,0,0,0,0,0,0,0,0,0,0,0,0,0,0,0,0,0,0,0,0,0,0,0,0,0,0,0,0,0,0,0,0,0,0,0,0,0,0,0,0,0,0,0,0,0,0,0,0,0,0,0]
[0,0,0,0,0,0,0,0,0,0,0,0,0,0,0,0,0,0,0,0,0,0,0,0,0,0,0,0,0,0,0,0,0,0,0,0,0,0,0,0,0,0,0,0,0,0,0,0,0,0,0,0,0,0,0,0,0,0,0,0,0,0,0,0,0,0,0,0,0,0,0,0,0,0,0,0,0,0,0,0,0,0,0,0,0,0,0,0,0,0,0,0,0,0,0,0,0,0,0,0]
[0,0,0,0,0,0,0,0,0,0,0,0,0,0,0,0,0,0,0,0,0,0,0,0,0,0,0,0,0,0,0,0,0,0,0,0,0,0,0,0,0,0,0,0,0,0,0,0,0,0,0,0,0,0,0,0,0,0,0,0,0,0,0,0,0,0,0,0,0,0,0,0,0,0,0,0,0,0,0,0,0,0,0,0,0,0,0,0,0,0,0,0,0,0,0,0,0,0,0,0]
[0,0,0,0,0,0,0,0,0,0,0,0,0,0,0,0,0,0,0,0,0,0,0,0,0,0,0,0,0,0,0,0,0,0,0,0,0,0,0,0,0,0,0,0,0,0,0,0,0,0,0,0,0,0,0,0,0,0,0,0,0,0,0,0,0,0,0,0,0,0,0,0,0,0,0,0,0,0,0,0,0,0,0,0,0,0,0,0,0,0,0,0,0,0,0,0,0,0,0,0]
[0,0,0,0,0,0,0,0,0,0,0,0,0,0,0,0,0,0,0,0,0,0,0,0,0,0,0,0,0,0,0,0,0,0,0,0,0,0,0,0,0,0,0,0,0,0,0,0,0,0,0,0,0,0,0,0,0,0,0,0,0,0,0,0,0,0,0,0,0,0,0,0,0,0,0,0,0,0,0,0,0,0,0,0,0,0,0,0,0,0,0,0,0,0,0,0,0,0,0,0]
[0,0,0,0,0,0,0,0,0,0,0,0,0,0,0,0,0,0,0,0,0,0,0,0,0,0,0,0,0,0,0,0,0,0,0,0,0,0,0,0,0,0,0,0,0,0,0,0,0,0,0,0,0,0,0,0,0,0,0,0,0,0,0,0,0,0,0,0,0,0,0,0,0,0,0,0,0,0,0,0,0,0,0,0,0,0,0,0,0,0,0,0,0,0,0,0,0,0,0,0]
[0,0,0,0,0,0,0,0,0,0,0,0,0,0,0,0,0,0,0,0,0,0,0,0,0,0,0,0,0,0,0,0,0,0,0,0,0,0,0,0,0,0,0,0,0,0,0,0,0,0,0,0,0,0,0,0,0,0,0,0,0,0,0,0,0,0,0,0,0,0,0,0,0,0,0,0,0,0,0,0,0,0,0,0,0,0,0,0,0,0,0,0,0,0,0,0,0,0,0,0]
[]
[{"$f":"AVERAGE(A1:A50)","v":0},0,0,0,0,0,0,0,0,0,0,{"$f":"AVERAGE(L1:L50)","v":0},0,0,0,0,0,0,0,0,0,0,0,0,0,0,0,0,0,0,0,0,0,0,0,0,0,{"$f":"AVERAGE(AL1:AL50)","v":0},0,0,0,0,0,0,0,0,0,0,0,0,0,0,0,0,0,0,0,0,0,0,0,0,0,0,0,0,0,0,0,0,0,0,0,0,0,0,0,0,0,0,{"$f":"AVERAGE(CC1:CC50)","v":0},0,0,0,0,0,0,0,0,0,0,0,0,0,0,0,0,0,0,0]
[{"$f":"STDEVA(A1:A50)/SQRT(50)","v":0},{"$f":"STDEVA(B1:B50)/SQRT(50)","v":0},0,0,0,0,0,0,0,0,0,0,0,0,0,0,0,0,0,0,0,0,0,0,0,0,0,0,0,0,0,0,0,0,0,0,0,0,0,0,0,0,0,0,0,0,0,0,0,0,0,0,0,0,0,0,0,0,0,0,0,0,0,0,0,{"$f":"STDEVA(BN1:BN50)/SQRT(50)","v":0},0,0,0,0,0,0,0,0,0,0,0,0,0,0,{"$f":"STDEVA(CC1:CC50)/SQRT(50)","v":0},0,0,0,0,0,0,0,0,0,0,0,0,0,0,0,0,0,0,0]
[{"$f":"(A52-mean)/A53","v":{"$error":"#DIV/0!"}},{"$error":"#DIV/0!"},{"$error":"#DIV/0!"},{"$error":"#DIV/0!"},{"$error":"#DIV/0!"},{"$error":"#DIV/0!"},{"$error":"#DIV/0!"},{"$error":"#DIV/0!"},{"$error":"#DIV/0!"},{"$error":"#DIV/0!"},{"$error":"#DIV/0!"},{"$error":"#DIV/0!"},{"$error":"#DIV/0!"},{"$error":"#DIV/0!"},{"$error":"#DIV/0!"},{"$error":"#DIV/0!"},{"$error":"#DIV/0!"},{"$error":"#DIV/0!"},{"$error":"#DIV/0!"},{"$error":"#DIV/0!"},{"$error":"#DIV/0!"},{"$error":"#DIV/0!"},{"$error":"#DIV/0!"},{"$error":"#DIV/0!"},{"$error":"#DIV/0!"},{"$error":"#DIV/0!"},{"$error":"#DIV/0!"},{"$error":"#DIV/0!"},{"$error":"#DIV/0!"},{"$error":"#DIV/0!"},{"$error":"#DIV/0!"},{"$error":"#DIV/0!"},{"$f":"(AG52-mean)/AG53","v":{"$error":"#DIV/0!"}},{"$error":"#DIV/0!"},{"$error":"#DIV/0!"},{"$error":"#DIV/0!"},{"$error":"#DIV/0!"},{"$error":"#DIV/0!"},{"$error":"#DIV/0!"},{"$error":"#DIV/0!"},{"$error":"#DIV/0!"},{"$error":"#DIV/0!"},{"$error":"#DIV/0!"},{"$error":"#DIV/0!"},{"$error":"#DIV/0!"},{"$error":"#DIV/0!"},{"$error":"#DIV/0!"},{"$error":"#DIV/0!"},{"$error":"#DIV/0!"},{"$error":"#DIV/0!"},{"$error":"#DIV/0!"},{"$error":"#DIV/0!"},{"$error":"#DIV/0!"},{"$error":"#DIV/0!"},{"$error":"#DIV/0!"},{"$error":"#DIV/0!"},{"$error":"#DIV/0!"},{"$error":"#DIV/0!"},{"$error":"#DIV/0!"},{"$error":"#DIV/0!"},{"$error":"#DIV/0!"},{"$error":"#DIV/0!"},{"$error":"#DIV/0!"},{"$error":"#DIV/0!"},{"$f":"(BM52-mean)/BM53","v":{"$error":"#DIV/0!"}},{"$error":"#DIV/0!"},{"$error":"#DIV/0!"},{"$error":"#DIV/0!"},{"$error":"#DIV/0!"},{"$error":"#DIV/0!"},{"$error":"#DIV/0!"},{"$error":"#DIV/0!"},{"$error":"#DIV/0!"},{"$error":"#DIV/0!"},{"$error":"#DIV/0!"},{"$error":"#DIV/0!"},{"$error":"#DIV/0!"},{"$error":"#DIV/0!"},{"$error":"#DIV/0!"},{"$error":"#DIV/0!"},{"$f":"(CC52-mean)/CC53","v":{"$error":"#DIV/0!"}},{"$error":"#DIV/0!"},{"$error":"#DIV/0!"},{"$error":"#DIV/0!"},{"$error":"#DIV/0!"},{"$error":"#DIV/0!"},{"$error":"#DIV/0!"},{"$error":"#DIV/0!"},{"$error":"#DIV/0!"},{"$error":"#DIV/0!"},{"$error":"#DIV/0!"},{"$error":"#DIV/0!"},{"$error":"#DIV/0!"},{"$error":"#DIV/0!"},{"$error":"#DIV/0!"},{"$error":"#DIV/0!"},{"$error":"#DIV/0!"},{"$error":"#DIV/0!"},{"$error":"#DIV/0!"},{"$error":"#DIV/0!"}]
[{"$f":"0.9*_xlfn.NORM.DIST(A52,mean,sd,FALSE)","v":0},0,0,0,0,0,0,0,0,0,0,0,0,0,0,0,0,0,0,0,0,0,0,0,0,0,0,0,0,0,0,0,{"$f":"0.9*_xlfn.NORM.DIST(AG52,mean,sd,FALSE)","v":0},0,0,0,0,0,0,0,0,0,0,0,0,0,0,0,0,0,0,0,0,0,0,0,0,0,0,0,0,0,0,0,{"$f":"0.9*_xlfn.NORM.DIST(BM52,mean,sd,FALSE)","v":0},0,0,0,0,0,0,0,0,0,0,0,0,0,0,0,0,0,0,0,0,0,0,0,0,0,0,0,0,0,0,0,0,0,0,0]
[1,2,3,4,5,6,7,8,9,10,11,12,13,14,15,16,17,18,19,20,21,22,23,24,25,26,27,28,29,30,31,32,33,34,35,36,37,38,39,40,41,42,43,44,45,46,47,48,49,50,51,52,53,54,55,56,57,58,59,60,61,62,63,64,65,66,67,68,69,70,71,72,73,74,75,76,77,78,79,80,81,82,83,84,85,86,87,88,89,90,91,92,93,94,95,96,97,98,99,100]

{"sheet":"Calcs","index":3,"n_rows":202,"n_cols":16,"rows_kept":202}
[null,{"$f":"mean-3.5*sd","v":11.012917130661304},{"$f":"NORMDIST(B1,mean,sd,FALSE)","v":0.01632639826113865},"x's",{"$f":"samples!A52","v":0},{"$f":"samples!A52","v":0},{"$f":"IF(OR(samples!A$52>Right,samples!A$52<Left),1,0)","v":1},{"$f":"samples!A55","v":{"v":0,"d":"0.00"}},{"$f":"H1","v":{"v":0,"d":"0.00"}},{"$nulls":6},{"$f":"z","v":1.645}]
[null,{"$f":"B1+7*sd/100","v":11.016658788048078},0.02080791249989815,"y's",0,0.5,null,0,0.05]
[null,11.020400445434852,0.02638995177242398,null,{"$f":"samples!B$52","v":0},{"$f":"samples!B$52","v":0},{"$f":"IF(OR(samples!B$52>Right,samples!B$52<Left),1,0)","v":1},{"$f":"samples!B55","v":{"v":0,"d":"0.00"}},{"$f":"H3","v":{"v":0,"d":"0.00"}},null,null,"For Pop'n Histogram"]
[null,11.024142102821626,0.03330585885224014,null,0,0.5,null,0,0.5,null,null,"      Pop Freqs"]
[null,11.0278837602084,0.041828725775757136,null,{"$f":"samples!C$52","v":0},{"$f":"samples!C$52","v":0},{"$f":"IF(OR(samples!C$52>Right,samples!C$52<Left),1,0)","v":1},{"$f":"samples!C55","v":{"v":0,"d":"0.00"}},{"$f":"H5","v":{"v":0,"d":"0.00"}},null,null,61,{"$f":"IF(pop=1,Pops!D5,IF(pop=2,Pops!F5,IF(pop=3,Pops!H5,Pops!J5)))","v":3}]
[null,11.031625417595174,0.05227578819294696,null,0,0.5,null,0,0.5,null,null,62,{"$f":"IF(pop=1,Pops!D6,IF(pop=2,Pops!F6,IF(pop=3,Pops!H6,Pops!J6)))","v":5}]
[null,11.035367074981949,0.06501274470231325,null,{"$f":"samples!D$52","v":0},{"$f":"samples!D$52","v":0},{"$f":"IF(OR(samples!D$52>Right,samples!D$52<Left),1,0)","v":1},{"$f":"samples!D55","v":{"v":0,"d":"0.00"}},{"$f":"H7","v":{"v":0,"d":"0.00"}},null,null,63,{"$f":"IF(pop=1,Pops!D7,IF(pop=2,Pops!F7,IF(pop=3,Pops!H7,Pops!J7)))","v":6}]
[null,11.039108732368723,0.08045784020078643,null,0,0.5,null,0,0.5,null,null,64,{"$f":"IF(pop=1,Pops!D8,IF(pop=2,Pops!F8,IF(pop=3,Pops!H8,Pops!J8)))","v":15}]
[null,11.042850389755497,0.09908552073268609,"series 5",{"$f":"samples!E$52","v":0},{"$f":"samples!E$52","v":0},{"$f":"IF(OR(samples!D$52>Right,samples!E$52<Left),1,0)","v":1},{"$f":"samples!E55","v":{"v":0,"d":"0.00"}},{"v":0,"d":"0.00"},null,null,65,{"$f":"IF(pop=1,Pops!D9,IF(pop=2,Pops!F9,IF(pop=3,Pops!H9,Pops!J9)))","v":11}]
[null,11.046592047142271,0.12142943631760732,null,0,0.5,null,0,0.5,null,null,66,{"$f":"IF(pop=1,Pops!D10,IF(pop=2,Pops!F10,IF(pop=3,Pops!H10,Pops!J10)))","v":10}]
[null,11.050333704529045,0.1480845394255551,16,{"$f":"samples!F$52","v":0},{"$f":"samples!F$52","v":0},{"$f":"IF(OR(samples!F$52>Right,samples!F$52<Left),1,0)","v":1},{"$f":"samples!F55","v":{"v":0,"d":"0.00"}},{"v":0,"d":"0.00"},null,null,67,{"$f":"IF(pop=1,Pops!D11,IF(pop=2,Pops!F11,IF(pop=3,Pops!H11,Pops!J11)))","v":15}]
[null,11.05407536191582,0.17970800208075233,null,0,0.5,null,0,0.5,null,null,68,{"$f":"IF(pop=1,Pops!D12,IF(pop=2,Pops!F12,IF(pop=3,Pops!H12,Pops!J12)))","v":14}]
[null,11.057817019302593,0.2170186561788266,18,{"$f":"samples!G$52","v":0},{"$f":"samples!G$52","v":0},{"$f":"IF(OR(samples!G$52>Right,samples!G$52<Left),1,0)","v":1},{"$f":"samples!G55","v":{"v":0,"d":"0.00"}},{"v":0,"d":"0.00"},null,null,69,{"$f":"IF(pop=1,Pops!D13,IF(pop=2,Pops!F13,IF(pop=3,Pops!H13,Pops!J13)))","v":23}]
[null,11.061558676689367,0.2607946518205799,null,0,0.5,null,0,0.5,null,null,70,{"$f":"IF(pop=1,Pops!D14,IF(pop=2,Pops!F14,IF(pop=3,Pops!H14,Pops!J14)))","v":20}]
[null,11.065300334076142,0.31186902968230135,20,{"$f":"samples!H$52","v":0},{"$f":"samples!H$52","v":0},{"$f":"IF(OR(samples!H$52>Right,samples!H$52<Left),1,0)","v":1},{"$f":"samples!H55","v":{"v":0,"d":"0.00"}},{"v":0,"d":"0.00"},null,null,71,{"$f":"IF(pop=1,Pops!D15,IF(pop=2,Pops!F15,IF(pop=3,Pops!H15,Pops!J15)))","v":54}]
[null,11.069041991462916,0.37112291797061076,null,0,0.5,null,0,0.5,null,null,72,{"$f":"IF(pop=1,Pops!D16,IF(pop=2,Pops!F16,IF(pop=3,Pops!H16,Pops!J16)))","v":58}]
[null,11.07278364884969,0.4394760944406167,22,{"$f":"samples!I$52","v":0},{"$f":"samples!I$52","v":0},{"$f":"IF(OR(samples!I$52>Right,samples!I$52<Left),1,0)","v":1},{"$f":"samples!I55","v":{"v":0,"d":"0.00"}},{"v":0,"d":"0.00"},null,null,73,{"$f":"IF(pop=1,Pops!D17,IF(pop=2,Pops!F17,IF(pop=3,Pops!H17,Pops!J17)))","v":60}]
[null,11.076525306236464,0.5178747009903272,null,0,0.5,null,0,0.5,null,null,74,{"$f":"IF(pop=1,Pops!D18,IF(pop=2,Pops!F18,IF(pop=3,Pops!H18,Pops!J18)))","v":54}]
[null,11.080266963623238,0.6072759636120036,24,{"$f":"samples!J$52","v":0},{"$f":"samples!J$52","v":0},{"$f":"IF(OR(samples!J$52>Right,samples!J$52<Left),1,0)","v":1},{"$f":"samples!J55","v":{"v":0,"d":"0.00"}},{"v":0,"d":"0.00"},null,null,75,{"$f":"IF(pop=1,Pops!D19,IF(pop=2,Pops!F19,IF(pop=3,Pops!H19,Pops!J19)))","v":62}]
[null,11.084008621010012,0.7086298543635119,null,0,0.5,null,0,0.5]
[null,11.087750278396786,0.822857733985342,26,{"$f":"samples!K$52","v":0},{"$f":"samples!K$52","v":0},{"$f":"IF(OR(samples!K$52>Right,samples!K$52<Left),1,0)","v":1},{"$f":"samples!K55","v":{"v":0,"d":"0.00"}},{"v":0,"d":"0.00"},"pop=",{"$f":"IF(pop=1,\"normal\",IF(pop=2,\"uniform\",IF(pop=3,\"U-shaped\",\"skewed\")))","v":"skewed"}]
[null,11.09149193578356,0.9508281322428352,null,0,0.5,null,0,0.5,"pop n=",{"$f":"IF(pop=1, 210,IF(pop=2,424,IF(pop=3,397,410)))","v":410}]
[null,11.095233593170335,1.0933299552766702,28,{"$f":"samples!L$52","v":0},{"$f":"samples!L$52","v":0},{"$f":"IF(OR(samples!L$52>Right,samples!L$52<Left),1,0)","v":1},{"$f":"samples!L55","v":{"v":0,"d":"0.00"}},{"v":0,"d":"0.00"},null,{"$f":"IF(pop=1, 210,IF(pop=2,424,IF(pop=3,397,410)))","v":410}]
[null,11.098975250557109,1.251043551261144,null,0,0.5,null,0,0.5,null,"SigLevel=",{"$f":"IF('P-Values'!D16=TRUE, 0.1,IF('P-Values'!D17=TRUE, 0.05,IF('P-Values'!D18=TRUE,0.02,0.01)))","v":{"v":0.1,"d":"10%"}},{"$f":"100*L24","v":10}]
[null,11.102716907943883,1.4245102123930231,30,{"$f":"samples!M$52","v":0},{"$f":"samples!M$52","v":0},{"$f":"IF(OR(samples!M$52>Right,samples!M$52<Left),1,0)","v":1},{"$f":"samples!M55","v":{"v":0,"d":"0.00"}},{"v":0,"d":"0.00"},null,"z-value=",{"$f":"IF('P-Values'!D16=TRUE, 1.645,IF('P-Values'!D17=TRUE, 1.96,IF('P-Values'!D18=TRUE,2.33,2.57)))","v":1.645},null,"PCV =",{"$f":"0.9*_xlfn.NORM.DIST(z,0,1,FALSE)","v":0.09279972998278328}]
[null,11.106458565330657,1.6141008364915672,null,0,0.5,null,0,0.5]
[null,11.110200222717431,1.8199846082313476,32,{"$f":"samples!N$52","v":0},{"$f":"samples!N$52","v":0},{"$f":"IF(OR(samples!N$52>Right,samples!N$52<Left),1,0)","v":1},{"$f":"samples!N55","v":{"v":0,"d":"0.00"}},{"v":0,"d":"0.00"},"misses=",{"$f":"COUNTIF(H1:H196,\"<\"  &PCV)-100","v":96},{"$f":"K27/100","v":{"v":0.96,"d":"96.0%"}}]
[null,11.113941880104205,2.0420986805941457,null,0,0.5,null,0,0.5,"hits=",{"$f":"100-K27","v":4}]
[null,11.11768353749098,2.2801199335958255,34,{"$f":"samples!O$52","v":0},{"$f":"samples!O$52","v":0},{"$f":"IF(OR(samples!O$52>Right,samples!O$52<Left),1,0)","v":1},{"$f":"samples!O55","v":{"v":0,"d":"0.00"}},{"v":0,"d":"0.00"}]
[null,11.121425194877753,2.5334399519565154,null,0,0.5,null,0,0.5]
[null,11.125166852264528,2.801144388995018,36,{"$f":"samples!P$52","v":0},{"$f":"samples!P$52","v":0},{"$f":"IF(OR(samples!P$52>Right,samples!P$52<Left),1,0)","v":1},{"$f":"samples!P55","v":{"v":0,"d":"0.00"}},{"v":0,"d":"0.00"},{"$nulls":3},"      New Sample =",null,{"$f":"IF('P-Values'!D29=1,-1,1)","v":1}]
[null,11.128908509651302,3.0819978646039656,null,0,0.5,null,0,0.5]
[null,11.132650167038076,{"$f":"NORMDIST(B33,mean,sd,FALSE)","v":3.374435476248515},38,{"$f":"samples!Q$52","v":0},{"$f":"samples!Q$52","v":0},{"$f":"IF(OR(samples!Q$52>Right,samples!Q$52<Left),1,0)","v":1},{"$f":"samples!Q55","v":{"v":0,"d":"0.00"}},{"v":0,"d":"0.00"}]
[null,{"$f":"B33+7*sd/100","v":11.13639182442485},3.6765618811005405,null,0,0.5,null,0,0.5,null,"Vertical line for PCV"]
[null,11.140133481811624,3.9861587346354295,40,{"$f":"samples!R$52","v":0},{"$f":"samples!R$52","v":0},{"$f":"IF(OR(samples!R$52>Right,samples!R$52<Left),1,0)","v":1},{"$f":"samples!R55","v":{"v":0,"d":"0.00"}},{"v":0,"d":"0.00"},null,null,{"$f":"PCV","v":0.09279972998278328},0]
[null,11.143875139198398,4.300701048893356,null,18,18,null,0,0.5,null,null,{"$f":"L35","v":0.09279972998278328},0.6]
[null,11.147616796585172,4.617382767530982,42,{"$f":"samples!S$52","v":0},{"$f":"samples!S$52","v":0},{"$f":"IF(OR(samples!S$52>Right,samples!S$52<Left),1,0)","v":1},{"$f":"samples!S55","v":{"v":0,"d":"0.00"}},{"v":0,"d":"0.00"}]
[null,11.151358453971946,4.933151552896177,null,0,0.5,null,0,0.5]
[null,11.15510011135872,5.2447524533226675,44,{"$f":"samples!T$52","v":0},{"$f":"samples!T$52","v":0},{"$f":"IF(OR(samples!T$52>Right,samples!T$52<Left),1,0)","v":1},{"$f":"samples!T557","v":{"v":0,"d":"0.00"}},{"v":0,"d":"0.00"},null,"Horizontal line for PCV"]
[null,11.158841768745495,5.548779779505641,null,0,0.5,null,0,0.5,null,null,{"$f":"mean-3*sd","v":11.039643254852546},{"$f":"PCV","v":0.09279972998278328}]
[null,11.162583426132269,5.841736181655344,46,{"$f":"samples!U$52","v":0},{"$f":"samples!U$52","v":0},{"$f":"IF(OR(samples!U$52>Right,samples!U$52<Left),1,0)","v":1},{"$f":"samples!U55","v":{"v":0,"d":"0.00"}},{"v":0,"d":"0.00"},null,null,{"$f":"mean+3*sd","v":11.360356745147456},{"$f":"M40","v":0.09279972998278328}]
[null,11.166325083519043,6.120097599557229,null,0,0.5,null,0,0.5]
[null,11.170066740905817,6.380382471285012,48,{"$f":"samples!V$52","v":0},{"$f":"samples!V$52","v":0},{"$f":"IF(OR(samples!V$52>Right,samples!V$52<Left),1,0)","v":1},{"$f":"samples!V55","v":{"v":0,"d":"0.00"}},{"v":0,"d":"0.00"}]
[null,11.173808398292591,6.619223348025542,null,0,0.5,null,0,0.5]
[null,11.177550055679365,6.833438885647788,50,{"$f":"samples!W$52","v":0},{"$f":"samples!W$52","v":0},{"$f":"IF(OR(samples!W$52>Right,samples!W$52<Left),1,0)","v":1},{"$f":"samples!W55","v":{"v":0,"d":"0.00"}},{"v":0,"d":"0.00"}]
[null,11.18129171306614,7.020104079287251,null,0,0.5,null,0,0.5]
[null,11.185033370452913,7.176616583245434,52,{"$f":"samples!X$52","v":0},{"$f":"samples!X$52","v":0},{"$f":"IF(OR(samples!X$52>Right,samples!X$52<Left),1,0)","v":1},{"$f":"samples!X55","v":{"v":0,"d":"0.00"}},{"v":0,"d":"0.00"}]
[null,11.188775027839688,7.300757019193242,null,0,0.5,null,0,0.5]
[null,11.192516685226462,7.390741321258805,54,{"$f":"samples!Y$52","v":0},{"$f":"samples!Y$52","v":0},{"$f":"IF(OR(samples!Y$52>Right,samples!Y$52<Left),1,0)","v":1},{"$f":"samples!Y557","v":{"v":0,"d":"0.00"}},{"v":0,"d":"0.00"}]
[null,11.196258342613236,7.44526339313278,null,0,0.5,null,0,0.5]
[null,11.20000000000001,7.463526651802309,56,{"$f":"samples!Z$52","v":0},{"$f":"samples!Z$52","v":0},{"$f":"IF(OR(samples!Z$52>Right,samples!Z$52<Left),1,0)","v":1},{"$f":"samples!Z55","v":{"v":0,"d":"0.00"}},{"v":0,"d":"0.00"}]
[null,11.203741657386784,7.445263393132608,null,0,0.5,null,0,0.5]
[null,11.207483314773558,7.39074132125846,58,{"$f":"samples!AA$52","v":0},{"$f":"samples!AA$52","v":0},{"$f":"IF(OR(samples!AA$52>Right,samples!AA$52<Left),1,0)","v":1},{"$f":"samples!AA55","v":{"v":0,"d":"0.00"}},{"v":0,"d":"0.00"}]
[null,11.211224972160332,7.300757019192734,null,0,0.5,null,0,0.5]
[null,11.214966629547106,7.176616583244766,60,{"$f":"samples!AB$52","v":0},{"$f":"samples!AB$52","v":0},{"$f":"IF(OR(samples!AB$52>Right,samples!AB$52<Left),1,0)","v":1},{"$f":"samples!AB55","v":{"v":0,"d":"0.00"}},{"v":0,"d":"0.00"}]
[null,11.21870828693388,7.020104079286436,null,0,0.5,null,0,0.5]
[null,11.222449944320655,6.833438885646834,62,{"$f":"samples!AC$52","v":0},{"$f":"samples!AC$52","v":0},{"$f":"IF(OR(samples!AC$52>Right,samples!AC$52<Left),1,0)","v":1},{"$f":"samples!AC55","v":{"v":0,"d":"0.00"}},{"v":0,"d":"0.00"}]
[null,11.226191601707429,6.619223348024462,null,0,0.5,null,0,0.5]
[null,11.229933259094203,6.380382471283824,64,{"$f":"samples!AD$52","v":0},{"$f":"samples!AD$52","v":0},{"$f":"IF(OR(samples!AD$52>Right,samples!AD$52<Left),1,0)","v":1},{"$f":"samples!AD55","v":{"v":0,"d":"0.00"}},{"v":0,"d":"0.00"}]
[null,11.233674916480977,6.1200975995559475,null,0,0.5,null,0,0.5]
[null,11.237416573867751,5.841736181653984,66,{"$f":"samples!AE$52","v":0},{"$f":"samples!AE$52","v":0},{"$f":"IF(OR(samples!AE$52>Right,samples!AE$52<Left),1,0)","v":1},{"$f":"samples!AE55","v":{"v":0,"d":"0.00"}},{"v":0,"d":"0.00"}]
[null,11.241158231254525,5.548779779504222,null,0,0.5,null,0,0.5]
[null,11.2448998886413,5.244752453321204,68,{"$f":"samples!AF$52","v":0},{"$f":"samples!AF$52","v":0},{"$f":"IF(OR(samples!AF$52>Right,samples!AF$52<Left),1,0)","v":1},{"$f":"samples!AF55","v":{"v":0,"d":"0.00"}},{"v":0,"d":"0.00"}]
[null,11.248641546028074,4.933151552894686,null,0,0.5,null,0,0.5]
[null,11.252383203414848,{"$f":"NORMDIST(B65,mean,sd,FALSE)","v":4.617382767529478},70,{"$f":"samples!AG$52","v":0},{"$f":"samples!AG$52","v":0},{"$f":"IF(OR(samples!AG$52>Right,samples!AG$52<Left),1,0)","v":1},{"$f":"samples!IAG55","v":{"v":0,"d":"0.00"}},{"v":0,"d":"0.00"}]
[null,{"$f":"B65+7*sd/100","v":11.256124860801622},4.300701048891856,null,0,0.5,null,0,0.5]
[null,11.259866518188396,3.9861587346339467,72,{"$f":"samples!AH$52","v":0},{"$f":"samples!AH$52","v":0},{"$f":"IF(OR(samples!AH$52>Right,samples!AH$52<Left),1,0)","v":1},{"$f":"samples!AH55","v":{"v":0,"d":"0.00"}},{"v":0,"d":"0.00"}]
[null,11.26360817557517,3.676561881099088,null,0,0.5,null,0,0.5]
[null,11.267349832961944,3.3744354762471027,74,{"$f":"samples!AI$52","v":0},{"$f":"samples!AI$52","v":0},{"$f":"IF(OR(samples!AI$52>Right,samples!AI$52<Left),1,0)","v":1},{"$f":"samples!AI55","v":{"v":0,"d":"0.00"}},{"v":0,"d":"0.00"}]
[null,11.271091490348718,3.081997864602603,null,0,0.5,null,0,0.5]
[null,11.274833147735492,2.8011443889937144,76,{"$f":"samples!AJ$52","v":0},{"$f":"samples!AJ$52","v":0},{"$f":"IF(OR(samples!AJ$52>Right,samples!AJ$52<Left),1,0)","v":1},{"$f":"samples!AJ55","v":{"v":0,"d":"0.00"}},{"$f":"H71","v":{"v":0,"d":"0.00"}}]
[null,11.278574805122267,2.533439951955278,null,0,0.5,null,0,0.5]
[null,11.28231646250904,2.280119933594659,78,{"$f":"samples!AK$52","v":0},{"$f":"samples!AK$52","v":0},{"$f":"IF(OR(samples!AK$52>Right,samples!AK$52<Left),1,0)","v":1},{"$f":"samples!AK55","v":{"v":0,"d":"0.00"}},{"v":0,"d":"0.00"}]
[null,11.286058119895815,2.0420986805930528,null,0,0.5,null,0,0.5]
[null,11.289799777282589,1.8199846082303308,80,{"$f":"samples!AL$52","v":0},{"$f":"samples!AL$52","v":0},{"$f":"IF(OR(samples!AL$52>Right,samples!AL$52<Left),1,0)","v":1},{"$f":"samples!AL55","v":{"v":0,"d":"0.00"}},{"v":0,"d":"0.00"}]
[null,11.293541434669363,1.6141008364906284,null,0,0.5,null,0,0.5]
[null,11.297283092056137,1.4245102123921618,82,{"$f":"samples!AM$52","v":0},{"$f":"samples!AM$52","v":0},{"$f":"IF(OR(samples!AM$52>Right,samples!AM$52<Left),1,0)","v":1},{"$f":"samples!AM55","v":{"v":0,"d":"0.00"}},{"v":0,"d":"0.00"}]
[null,11.301024749442911,1.251043551260358,null,0,0.5,null,0,0.5]
[null,11.304766406829685,1.0933299552759579,84,{"$f":"samples!AN$52","v":0},{"$f":"samples!AN$52","v":0},{"$f":"IF(OR(samples!AN$52>Right,samples!AN$52<Left),1,0)","v":1},{"$f":"samples!AN55","v":{"v":0,"d":"0.00"}},{"v":0,"d":"0.00"}]
[null,11.30850806421646,0.9508281322421942,null,0,0.5,null,0,0.5]
[null,11.312249721603234,0.8228577339847684,86,{"$f":"samples!AO$52","v":0},{"$f":"samples!AO$52","v":0},{"$f":"IF(OR(samples!AO$52>Right,samples!AO$52<Left),1,0)","v":1},{"$f":"samples!A55","v":{"v":0,"d":"0.00"}},{"v":0,"d":"0.00"}]
[null,11.315991378990008,0.7086298543630009,null,0,0.5,null,0,0.5]
[null,11.319733036376782,0.607275963611552,88,{"$f":"samples!AP$52","v":0},{"$f":"samples!AP$52","v":0},{"$f":"IF(OR(samples!AP$52>Right,samples!AP$52<Left),1,0)","v":1},{"$f":"samples!AP55","v":{"v":0,"d":"0.00"}},{"v":0,"d":"0.00"}]
[null,11.323474693763556,0.5178747009899299,null,0,0.5,null,0,0.5]
[null,11.32721635115033,0.4394760944402693,90,{"$f":"samples!AQ$52","v":0},{"$f":"samples!AQ$52","v":0},{"$f":"IF(OR(samples!AQ$52>Right,samples!AQ$52<Left),1,0)","v":1},{"$f":"samples!IAQ55","v":{"v":0,"d":"0.00"}},{"v":0,"d":"0.00"}]
[null,11.330958008537104,0.37112291797030866,null,0,0.5,null,0,0.5]
[null,11.334699665923878,0.31186902968204033,92,{"$f":"samples!AR$52","v":0},{"$f":"samples!AR$52","v":0},{"$f":"IF(OR(samples!AR$52>Right,samples!AR$52<Left),1,0)","v":1},{"$f":"samples!AR55","v":{"v":0,"d":"0.00"}},{"v":0,"d":"0.00"}]
[null,11.338441323310652,0.2607946518203555,null,0,0.5,null,0,0.5]
[null,11.342182980697427,0.21701865617863483,94,{"$f":"samples!AS$52","v":0},{"$f":"samples!AS$52","v":0},{"$f":"IF(OR(samples!AS$52>Right,samples!AS$52<Left),1,0)","v":1},{"$f":"samples!AS55","v":{"v":0,"d":"0.00"}},{"v":0,"d":"0.00"}]
[null,11.3459246380842,0.17970800208058937,null,0,0.5,null,0,0.5]
[null,11.349666295470975,0.1480845394254174,96,{"$f":"samples!AT$52","v":0},{"$f":"samples!AT$52","v":0},{"$f":"IF(OR(samples!AT$52>Right,samples!AT$52<Left),1,0)","v":1},{"$f":"samples!AT55","v":{"v":0,"d":"0.00"}},{"v":0,"d":"0.00"}]
[null,11.353407952857749,0.1214294363174915,null,0,0.5,null,0,0.5]
[null,11.357149610244523,0.09908552073258936,98,{"$f":"samples!AU$52","v":0},{"$f":"samples!AU$52","v":0},{"$f":"IF(OR(samples!AU$52>Right,samples!AU$52<Left),1,0)","v":1},{"$f":"samples!IAU55","v":{"v":0,"d":"0.00"}},{"v":0,"d":"0.00"}]
[null,11.360891267631297,0.08045784020070597,null,0,0.5,null,0,0.5]
[null,11.364632925018071,0.06501274470224669,100,{"$f":"samples!AV$52","v":0},{"$f":"samples!AV$52","v":0},{"$f":"IF(OR(samples!AV$52>Right,samples!AV$52<Left),1,0)","v":1},{"$f":"samples!AV55","v":{"v":0,"d":"0.00"}},{"v":0,"d":"0.00"}]
[null,11.368374582404845,0.05227578819289221,null,0,0.5,null,0,0.5]
[null,11.37211623979162,{"$f":"NORMDIST(B97,mean,sd,FALSE)","v":0.04182872577571233},102,{"$f":"samples!AW$52","v":0},{"$f":"samples!AW$52","v":0},{"$f":"IF(OR(samples!AW$52>Right,samples!AW$52<Left),1,0)","v":1},{"$f":"samples!AW55","v":{"v":0,"d":"0.00"}},{"v":0,"d":"0.00"}]
[null,11.375857897178394,{"$f":"NORMDIST(B98,mean,sd,FALSE)","v":0.0333058588522037},null,0,0.5,null,0,0.5]
[null,11.379599554565168,{"$f":"NORMDIST(B99,mean,sd,FALSE)","v":0.026389951772394473},104,{"$f":"samples!AX$52","v":0},{"$f":"samples!AX$52","v":0},{"$f":"IF(OR(samples!AX$52>Right,samples!AX$52<Left),1,0)","v":1},{"$f":"samples!AX55","v":{"v":0,"d":"0.00"}},{"v":0,"d":"0.00"}]
[null,11.383341211951942,{"$f":"NORMDIST(B100,mean,sd,FALSE)","v":0.020807912499874424},null,0,0.5,null,0,0.5]
[null,11.387082869338716,{"$f":"NORMDIST(B101,mean,sd,FALSE)","v":0.01632639826111964},106,{"$f":"samples!AY$52","v":0},{"$f":"samples!AY$52","v":0},{"$f":"IF(OR(samples!AY$52>Right,samples!AY$52<Left),1,0)","v":1},{"$f":"samples!AY55","v":{"v":0,"d":"0.00"}},{"v":0,"d":"0.00"}]
[{"$nulls":4},0,0.5,null,0,0.5]
[{"$nulls":3},108,{"$f":"samples!AZ$52","v":0},{"$f":"samples!AZ$52","v":0},{"$f":"IF(OR(samples!AZ$52>Right,samples!AZ$52<Left),1,0)","v":1},{"$f":"samples!AZ55","v":{"v":0,"d":"0.00"}},{"v":0,"d":"0.00"}]
[{"$nulls":4},0,0.5,null,0,0.5]
[{"$nulls":3},110,{"$f":"samples!BA$52","v":0},{"$f":"samples!BA$52","v":0},{"$f":"IF(OR(samples!BA$52>Right,samples!BA$52<Left),1,0)","v":1},{"$f":"samples!BA55","v":{"v":0,"d":"0.00"}},{"v":0,"d":"0.00"}]
[{"$nulls":4},0,0.5,null,0,0.5]
[{"$nulls":3},112,{"$f":"samples!BB$52","v":0},{"$f":"samples!BB$52","v":0},{"$f":"IF(OR(samples!BB$52>Right,samples!BB$52<Left),1,0)","v":1},{"$f":"samples!BB55","v":{"v":0,"d":"0.00"}},{"v":0,"d":"0.00"}]
[{"$nulls":4},0,0.5,null,0,0.5]
[{"$nulls":3},114,{"$f":"samples!BC$52","v":0},{"$f":"samples!BC$52","v":0},{"$f":"IF(OR(samples!BC$52>Right,samples!BC$52<Left),1,0)","v":1},{"$f":"samples!BC55","v":{"v":0,"d":"0.00"}},{"v":0,"d":"0.00"}]
[{"$nulls":4},0,0.5,null,0,0.5]
[{"$nulls":3},116,{"$f":"samples!BD$52","v":0},{"$f":"samples!BD$52","v":0},{"$f":"IF(OR(samples!BD$52>Right,samples!BD$52<Left),1,0)","v":1},{"$f":"samples!BD55","v":{"v":0,"d":"0.00"}},{"v":0,"d":"0.00"}]
[{"$nulls":4},0,0.5,null,0,0.5]
[{"$nulls":3},118,{"$f":"samples!BE$52","v":0},{"$f":"samples!BE$52","v":0},{"$f":"IF(OR(samples!BE$52>Right,samples!BE$52<Left),1,0)","v":1},{"$f":"samples!BE55","v":{"v":0,"d":"0.00"}},{"v":0,"d":"0.00"}]
[{"$nulls":4},0,0.5,null,0,0.5]
[{"$nulls":3},120,{"$f":"samples!BF$52","v":0},{"$f":"samples!BF$52","v":0},{"$f":"IF(OR(samples!BF$52>Right,samples!BF$52<Left),1,0)","v":1},{"$f":"samples!BF55","v":{"v":0,"d":"0.00"}},{"v":0,"d":"0.00"}]
[{"$nulls":4},0,0.5,null,0,0.5]
[{"$nulls":3},122,{"$f":"samples!BG$52","v":0},{"$f":"samples!BG$52","v":0},{"$f":"IF(OR(samples!BG$52>Right,samples!BG$52<Left),1,0)","v":1},{"$f":"samples!BG55","v":{"v":0,"d":"0.00"}},{"v":0,"d":"0.00"}]
[{"$nulls":4},0,0.5,null,0,0.5]
[{"$nulls":3},124,{"$f":"samples!BH$52","v":0},{"$f":"samples!BH$52","v":0},{"$f":"IF(OR(samples!BH$52>Right,samples!BH$52<Left),1,0)","v":1},{"$f":"samples!BH55","v":{"v":0,"d":"0.00"}},{"v":0,"d":"0.00"}]
[{"$nulls":4},0,0.5,null,0,0.5]
[{"$nulls":3},126,{"$f":"samples!BI$52","v":0},{"$f":"samples!BI$52","v":0},{"$f":"IF(OR(samples!BI$52>Right,samples!BI$52<Left),1,0)","v":1},{"$f":"samples!BI55","v":{"v":0,"d":"0.00"}},{"v":0,"d":"0.00"}]
[{"$nulls":4},0,0.5,null,0,0.5]
[{"$nulls":3},128,{"$f":"samples!BJ$52","v":0},{"$f":"samples!BJ$52","v":0},{"$f":"IF(OR(samples!BJ$52>Right,samples!BJ$52<Left),1,0)","v":1},{"$f":"samples!BJ55","v":{"v":0,"d":"0.00"}},{"v":0,"d":"0.00"}]
[{"$nulls":4},0,0.5,null,0,0.5]
[{"$nulls":3},130,{"$f":"samples!BK$52","v":0},{"$f":"samples!BK$52","v":0},{"$f":"IF(OR(samples!BK$52>Right,samples!BK$52<Left),1,0)","v":1},{"$f":"samples!BK55","v":{"v":0,"d":"0.00"}},{"v":0,"d":"0.00"}]
[{"$nulls":4},0,0.5,null,0,0.5]
[{"$nulls":3},132,{"$f":"samples!BL$52","v":0},{"$f":"samples!BL$52","v":0},{"$f":"IF(OR(samples!BL$52>Right,samples!BL$52<Left),1,0)","v":1},{"$f":"samples!BL55","v":{"v":0,"d":"0.00"}},{"v":0,"d":"0.00"}]
[{"$nulls":4},0,0.5,null,0,0.5]
[{"$nulls":3},134,{"$f":"samples!BM$52","v":0},{"$f":"samples!BM$52","v":0},{"$f":"IF(OR(samples!BM$52>Right,samples!BM$52<Left),1,0)","v":1},{"$f":"samples!BM55","v":{"v":0,"d":"0.00"}},{"v":0,"d":"0.00"}]
[{"$nulls":4},0,0.5,null,0,0.5]
[{"$nulls":3},136,{"$f":"samples!BN$52","v":0},{"$f":"samples!BN$52","v":0},{"$f":"IF(OR(samples!BN$52>Right,samples!BN$52<Left),1,0)","v":1},{"$f":"samples!BN55","v":{"v":0,"d":"0.00"}},{"v":0,"d":"0.00"}]
[{"$nulls":4},0,0.5,null,0,0.5]
[{"$nulls":3},138,{"$f":"samples!BO$52","v":0},{"$f":"samples!BO$52","v":0},{"$f":"IF(OR(samples!BO$52>Right,samples!BO$52<Left),1,0)","v":1},{"$f":"samples!BO55","v":{"v":0,"d":"0.00"}},{"v":0,"d":"0.00"}]
[{"$nulls":4},0,0.5,null,0,0.5]
[{"$nulls":3},140,{"$f":"samples!BP$52","v":0},{"$f":"samples!BP$52","v":0},{"$f":"IF(OR(samples!BP$52>Right,samples!BP$52<Left),1,0)","v":1},{"$f":"samples!BP55","v":{"v":0,"d":"0.00"}},{"$f":"H135","v":{"v":0,"d":"0.00"}}]
[{"$nulls":4},0,0.5,null,0,0.5]
[{"$nulls":3},142,{"$f":"samples!BQ$52","v":0},{"$f":"samples!BQ$52","v":0},{"$f":"IF(OR(samples!BQ$52>Right,samples!BQ$52<Left),1,0)","v":1},{"$f":"samples!BQ55","v":{"v":0,"d":"0.00"}},{"v":0,"d":"0.00"}]
[{"$nulls":4},0,0.5,null,0,0.5]
[{"$nulls":3},144,{"$f":"samples!BR$52","v":0},{"$f":"samples!BR$52","v":0},{"$f":"IF(OR(samples!BR$52>Right,samples!BR$52<Left),1,0)","v":1},{"$f":"samples!BR55","v":{"v":0,"d":"0.00"}},{"v":0,"d":"0.00"}]
[{"$nulls":4},0,0.5,null,0,0.5]
[{"$nulls":3},146,{"$f":"samples!BS$52","v":0},{"$f":"samples!BS$52","v":0},{"$f":"IF(OR(samples!BS$52>Right,samples!BS$52<Left),1,0)","v":1},{"$f":"samples!BS55","v":{"v":0,"d":"0.00"}},{"v":0,"d":"0.00"}]
[{"$nulls":4},0,0.5,null,0,0.5]
[{"$nulls":3},148,{"$f":"samples!BT$52","v":0},{"$f":"samples!BT$52","v":0},{"$f":"IF(OR(samples!BT$52>Right,samples!BT$52<Left),1,0)","v":1},{"$f":"samples!BT55","v":{"v":0,"d":"0.00"}},{"v":0,"d":"0.00"}]
[{"$nulls":4},0,0.5,null,0,0.5]
[{"$nulls":3},150,{"$f":"samples!BU$52","v":0},{"$f":"samples!BU$52","v":0},{"$f":"IF(OR(samples!BU$52>Right,samples!BU$52<Left),1,0)","v":1},{"$f":"samples!BU55","v":{"v":0,"d":"0.00"}},{"v":0,"d":"0.00"}]
[{"$nulls":4},0,0.5,null,0,0.5]
[{"$nulls":3},152,{"$f":"samples!BV$52","v":0},{"$f":"samples!BV$52","v":0},{"$f":"IF(OR(samples!BV$52>Right,samples!BV$52<Left),1,0)","v":1},{"$f":"samples!BV55","v":{"v":0,"d":"0.00"}},{"v":0,"d":"0.00"}]
[{"$nulls":4},0,0.5,null,0,0.5]
[{"$nulls":3},154,{"$f":"samples!BW$52","v":0},{"$f":"samples!BW$52","v":0},{"$f":"IF(OR(samples!BW$52>Right,samples!BW$52<Left),1,0)","v":1},{"$f":"samples!BW55","v":{"v":0,"d":"0.00"}},{"v":0,"d":"0.00"}]
[{"$nulls":4},0,0.5,null,0,0.5]
[{"$nulls":3},156,{"$f":"samples!BX$52","v":0},{"$f":"samples!BX$52","v":0},{"$f":"IF(OR(samples!BX$52>Right,samples!BX$52<Left),1,0)","v":1},{"$f":"samples!BX55","v":{"v":0,"d":"0.00"}},{"v":0,"d":"0.00"}]
[{"$nulls":4},0,0.5,null,0,0.5]
[{"$nulls":3},158,{"$f":"samples!BY$52","v":0},{"$f":"samples!BY$52","v":0},{"$f":"IF(OR(samples!BY$52>Right,samples!BY$52<Left),1,0)","v":1},{"$f":"samples!BY55","v":{"v":0,"d":"0.00"}},{"v":0,"d":"0.00"}]
[{"$nulls":4},0,0.5,null,0,0.5]
[{"$nulls":3},160,{"$f":"samples!BZ$52","v":0},{"$f":"samples!BZ$52","v":0},{"$f":"IF(OR(samples!BZ$52>Right,samples!BZ$52<Left),1,0)","v":1},{"$f":"samples!BZ55","v":{"v":0,"d":"0.00"}},{"v":0,"d":"0.00"}]
[{"$nulls":4},0,0.5,null,0,0.5]
[{"$nulls":3},162,{"$f":"samples!CA$52","v":0},{"$f":"samples!CA$52","v":0},{"$f":"IF(OR(samples!CA$52>Right,samples!CA$52<Left),1,0)","v":1},{"$f":"samples!CA55","v":{"v":0,"d":"0.00"}},{"v":0,"d":"0.00"}]
[{"$nulls":4},0,0.5,null,0,0.5]
[{"$nulls":3},164,{"$f":"samples!CB$52","v":0},{"$f":"samples!CB$52","v":0},{"$f":"IF(OR(samples!CB$52>Right,samples!CB$52<Left),1,0)","v":1},{"$f":"samples!CB55","v":{"v":0,"d":"0.00"}},{"v":0,"d":"0.00"}]
[{"$nulls":4},0,0.5,null,0,0.5]
[{"$nulls":3},{"$f":"D159+2","v":166},{"$nulls":3},{"$f":"samples!CC$55","v":{"v":0,"d":"0.00"}},{"v":0,"d":"0.00"}]
[{"$nulls":7},0,0.5]
[{"$nulls":3},{"$f":"D161+2","v":168},{"$nulls":3},{"$f":"samples!CD$55","v":{"v":0,"d":"0.00"}},{"v":0,"d":"0.00"}]
[{"$nulls":7},0,0.5]
[{"$nulls":3},{"$f":"D163+2","v":170},{"$nulls":3},{"$f":"samples!CE$55","v":{"v":0,"d":"0.00"}},{"v":0,"d":"0.00"}]
[{"$nulls":7},0,0.5]
[{"$nulls":3},{"$f":"D165+2","v":172},{"$nulls":3},{"$f":"samples!CF$55","v":{"v":0,"d":"0.00"}},{"v":0,"d":"0.00"}]
[{"$nulls":7},0,0.5]
[{"$nulls":3},{"$f":"D167+2","v":174},{"$nulls":3},{"$f":"samples!CG$55","v":{"v":0,"d":"0.00"}},{"v":0,"d":"0.00"}]
[{"$nulls":7},0,0.5]
[{"$nulls":3},{"$f":"D169+2","v":176},{"$nulls":3},{"$f":"samples!CH$55","v":{"v":0,"d":"0.00"}},{"v":0,"d":"0.00"}]
[{"$nulls":7},0,0.5]
[{"$nulls":3},{"$f":"D171+2","v":178},{"$nulls":3},{"$f":"samples!CI$55","v":{"v":0,"d":"0.00"}},{"v":0,"d":"0.00"}]
[{"$nulls":7},0,0.5]
[{"$nulls":3},{"$f":"D173+2","v":180},{"$nulls":3},{"$f":"samples!CJ$55","v":{"v":0,"d":"0.00"}},{"v":0,"d":"0.00"}]
[{"$nulls":7},0,0.5]
[{"$nulls":3},{"$f":"D175+2","v":182},{"$nulls":3},{"$f":"samples!CK$55","v":{"v":0,"d":"0.00"}},{"v":0,"d":"0.00"}]
[{"$nulls":7},0,0.5]
[{"$nulls":3},{"$f":"D177+2","v":184},{"$nulls":3},{"$f":"samples!CL$55","v":{"v":0,"d":"0.00"}},{"v":0,"d":"0.00"}]
[{"$nulls":7},0,0.5]
[{"$nulls":3},{"$f":"D179+2","v":186},{"$nulls":3},{"$f":"samples!CM$55","v":{"v":0,"d":"0.00"}},{"v":0,"d":"0.00"}]
[{"$nulls":7},0,0.5]
[{"$nulls":3},{"$f":"D181+2","v":188},{"$nulls":3},{"$f":"samples!CN$55","v":{"v":0,"d":"0.00"}},{"v":0,"d":"0.00"}]
[{"$nulls":7},0,0.5]
[{"$nulls":3},{"$f":"D183+2","v":190},{"$nulls":3},{"$f":"samples!CO$55","v":{"v":0,"d":"0.00"}},{"v":0,"d":"0.00"}]
[{"$nulls":7},0,0.5]
[{"$nulls":3},{"$f":"D185+2","v":192},{"$nulls":3},{"$f":"samples!CP$55","v":{"v":0,"d":"0.00"}},{"v":0,"d":"0.00"}]
[{"$nulls":7},0,0.5]
[{"$nulls":3},{"$f":"D187+2","v":194},{"$nulls":3},{"$f":"samples!CQ$55","v":{"v":0,"d":"0.00"}},{"v":0,"d":"0.00"}]
[{"$nulls":7},0,0.5]
[{"$nulls":3},{"$f":"D189+2","v":196},{"$nulls":3},{"$f":"samples!CR$55","v":{"v":0,"d":"0.00"}},{"v":0,"d":"0.00"}]
[{"$nulls":7},0,0.5]
[{"$nulls":3},{"$f":"D191+2","v":198},{"$nulls":3},{"$f":"samples!CS$55","v":{"v":0,"d":"0.00"}},{"v":0,"d":"0.00"}]
[{"$nulls":7},0,0.5]
[{"$nulls":3},{"$f":"D193+2","v":200},{"$nulls":3},{"$f":"samples!CT$55","v":{"v":0,"d":"0.00"}},{"v":0,"d":"0.00"}]
[null,"Two vertical lines",{"$nulls":5},0,0.5]
[null,{"$f":"mean-$L$25*sd","v":11.112071051410814},{"$f":"mean-$L$25*sd","v":11.112071051410814}]
[null,0,0.75]
[null,{"$f":"mean+$L$25*sd","v":11.287928948589188},{"$f":"mean+$L$25*sd","v":11.287928948589188}]
[null,0,0.75]
[{"$nulls":4},{"$f":"'P-Values'!F21","v":{"v":11.200000000000001,"d":"11.20"}},{"$f":"'P-Values'!F21","v":{"v":11.200000000000001,"d":"11.20"}}]
[{"$nulls":4},{"v":0,"d":"0.00"},0.9]