{"text_format":"3","workbook":"xlsx","n_sheets":4,"sheets":["P-Values","Pops","samples","Calcs"],"not_rendered":{"charts":3,"macros":1,"defined_names":24,"comments":1},"read":"whole","date_system":"1900"}

{"sheet":"P-Values","index":0,"n_rows":47,"n_cols":9,"rows_kept":47}
[null,"     Simulating P-Values for Hypothesis Tests"]
[]
[null,null,"       This program simulates the P-Values of"]
[null,null,"   sample means based on repeated samples"]
[null,null,"  drawn from a variety of population patterns."]
[]
[]
["Which population do you want?",{"$nulls":4},"Normal population",null,null,1]
[{"$nulls":5},"Uniform population"]
[{"$nulls":5},"Skewed population"]
[{"$nulls":5},"Normal population"]
[]
[]
["What is the level of significance a?",{"$nulls":4},{"v":0.1,"d":"10%"},null,null,1]
[{"$nulls":5},{"v":0.05,"d":"5%"}]
[{"$nulls":5},{"v":0.02,"d":"2%"}]
[{"$nulls":5},{"v":0.01,"d":"1%"}]
[]
["The mean and standard deviation ",{"$nulls":3},"       m =     ",{"$f":"IF(pop=1,Pops!B2,IF(pop=2,Pops!E2,IF(pop=3,Pops!G2,Pops!I2)))","v":68.07}]
[null,"of the sampling distribution are:",null,null,"  s =",{"$f":"IF(pop=1,Pops!C3,IF(pop=2,Pops!F3,IF(pop=3,Pops!H3,Pops!J3)))","v":{"v":0.3906057859274488,"d":"0.391"}}]
[]
[{"$f":"\"       \" &Calcs!K27&\" of the 100 random sample means, or \"&TEXT(Calcs!L27,\"0.00%\")&\", \"","v":"       4 of the 100 random sample means, or 4.00%, "}]
[null,{"$f":"\"based on samples of size 50 from the \"&TEXT(pop_name,\"\")&\" population\"","v":"based on samples of size 50 from the normal population"}]
[null,{"$f":"\"fell in the rejection region at the \"&TEXT(Calcs!L24,\"0%\")&\" significance level.\"","v":"fell in the rejection region at the 10% significance level."}]
[]
[]
[null,null,"Run a New Random Sample",null,null,false]
[]
[]
["Click each item below for suggestions and investigations"]
[null,null,"   Item 1"]
[null,null,"   Item 2"]
[null,null,"   Item 3"]
[null,null,"   Item 4"]
[null,null,"   Item 5"]
[null,null,"   Item 6"]
[]
[]
[]
["To access/download all the DIGMath Apps for Statistics"]
["Click this link:",null,"DIGMath for Statistics and Probability"]
[]
["Created by:  Sheldon P. Gordon   &   Florence S. Gordon    © 2025"]
["                  Farmingdale State College      NYIT"]
["Development of this module was supported by the "]
["NSF's Division of Undergraduate Education  "]
["under grants DUE-0310123 and DUE-0442160."]

{"sheet":"Pops","index":1,"n_rows":428,"n_cols":16,"rows_kept":428}
[null,"Normal data",null,null,"Uniform data",null,"U-shaped",null,"Skewed data",{"$nulls":5},{"$f":"mean-1","v":67.07},{"$f":"0.398942/EXP((O1-mean)^2/2/sd^2)/sd","v":0.03854205983399747}]
["mu, sigma,n=",68.07,null,null,68.47,null,68.61,null,71.19,{"$nulls":5},{"$f":"O1+0.01","v":67.08},0.04113934009485916]
[null,2.762,{"$f":"B3/SQRT(50)","v":0.3906057859274488},null,4.162,{"$f":"E3/SQRT(50)","v":0.5885956846596822},4.801,{"$f":"G3/SQRT(50)","v":0.678963931295323},3.291,{"$f":"I3/SQRT(50)","v":0.4654176833769856},{"$nulls":4},{"$f":"O2+0.01","v":67.09},0.043882875074402763]
[null,210,null,null,424,null,397,null,410,{"$nulls":5},67.10000000000001,0.04677870326966059]
[1,61,61,4,61,{"$f":"COUNTIF(E$5:E$502,\"=61\")","v":23},61,{"$f":"COUNTIF(G$5:G$502,\"=61\")","v":18},61,{"$f":"COUNTIF(I$5:I$502,\"=61\")","v":3},{"$nulls":4},67.11000000000001,0.049832954543178015]
[2,61,62,12,61,{"$f":"COUNTIF(E$5:E$502,\"=62\")","v":28},61,{"$f":"COUNTIF(G$5:G$502,\"=62\")","v":22},61,{"$f":"COUNTIF(I$5:I$502,\"=62\")","v":5},{"$nulls":4},67.12000000000002,0.05305183956387835]
[3,62,63,6,61,{"$f":"COUNTIF(E$5:E$502,\"=63\")","v":19},61,{"$f":"COUNTIF(G$5:G$502,\"=63\")","v":35},61,{"$f":"COUNTIF(I$5:I$502,\"=63\")","v":6},{"$nulls":4},67.13000000000002,0.05644163828176979]
[4,62,64,16,61,{"$f":"COUNTIF(E$5:E$502,\"=64\")","v":24},61,{"$f":"COUNTIF(G$5:G$502,\"=64\")","v":44},62,{"$f":"COUNTIF(I$5:I$502,\"=64\")","v":15},{"$nulls":4},67.14000000000003,0.06000868742018716]
[5,62,65,28,61,{"$f":"COUNTIF(E$5:E$502,\"=65\")","v":25},61,{"$f":"COUNTIF(G$5:G$502,\"=65\")","v":36},62,{"$f":"COUNTIF(I$5:I$502,\"=65\")","v":11},{"$nulls":4},67.15000000000003,0.06375936697285305]
[6,62,66,54,61,{"$f":"COUNTIF(E$5:E$502,\"=66\")","v":27},61,{"$f":"COUNTIF(G$5:G$502,\"=66\")","v":21},62,{"$f":"COUNTIF(I$5:I$502,\"=66\")","v":10},{"$nulls":4},67.16000000000004,0.06770008569693087]
[7,62,67,60,61,{"$f":"COUNTIF(E$5:E$502,\"=67\")","v":21},61,{"$f":"COUNTIF(G$5:G$502,\"=67\")","v":7},62,{"$f":"COUNTIF(I$5:I$502,\"=67\")","v":15},{"$nulls":4},67.17000000000004,0.07183726559743199]
[8,62,68,70,61,{"$f":"COUNTIF(E$5:E$502,\"=68\")","v":29},61,{"$f":"COUNTIF(G$5:G$502,\"=68\")","v":8},62,{"$f":"COUNTIF(I$5:I$502,\"=68\")","v":14},{"$nulls":4},67.18000000000005,0.0761773254028115]
[9,63,69,56,61,{"$f":"COUNTIF(E$5:E$502,\"=69\")","v":34},61,{"$f":"COUNTIF(G$5:G$502,\"=69\")","v":9},63,{"$f":"COUNTIF(I$5:I$502,\"=69\")","v":23},{"$nulls":4},67.19000000000005,0.08072666303634816]
[10,63,70,32,61,{"$f":"COUNTIF(E$5:E$502,\"=70\")","v":29},61,{"$f":"COUNTIF(G$5:G$502,\"=70\")","v":10},63,{"$f":"COUNTIF(I$5:I$502,\"=70\")","v":20},{"$nulls":4},67.20000000000006,0.08549163709292558]
[11,63,71,28,61,{"$f":"COUNTIF(E$5:E$502,\"=71\")","v":44},61,{"$f":"COUNTIF(G$5:G$502,\"=71\")","v":24},63,{"$f":"COUNTIF(I$5:I$502,\"=71\")","v":54},{"$nulls":4},67.21000000000006,0.09047854733611611]
[12,64,72,20,61,{"$f":"COUNTIF(E$5:E$502,\"=72\")","v":37},61,{"$f":"COUNTIF(G$5:G$502,\"=72\")","v":34},63,{"$f":"COUNTIF(I$5:I$502,\"=72\")","v":58},{"$nulls":4},67.22000000000007,0.09569361423598544]
[13,64,73,18,61,{"$f":"COUNTIF(E$5:E$502,\"=73\")","v":28},61,{"$f":"COUNTIF(G$5:G$502,\"=73\")","v":45},63,{"$f":"COUNTIF(I$5:I$502,\"=73\")","v":60},{"$nulls":4},67.23000000000008,0.10114295757377627]
[14,64,74,12,61,{"$f":"COUNTIF(E$5:E$502,\"=74\")","v":35},61,{"$f":"COUNTIF(G$5:G$502,\"=74\")","v":41},63,{"$f":"COUNTIF(I$5:I$502,\"=74\")","v":54},{"$nulls":4},67.24000000000008,0.10683257414556505]
[15,64,75,4,61,{"$f":"COUNTIF(E$5:E$502,\"=75\")","v":21},61,{"$f":"COUNTIF(G$5:G$502,\"=75\")","v":43},64,{"$f":"COUNTIF(I$5:I$502,\"=75\")","v":62},{"$nulls":4},67.25000000000009,0.11276831460309525]
[16,64,null,null,61,null,61,null,64,{"$nulls":5},67.26000000000009,0.11895585947624564]
[17,64,null,null,61,null,61,null,64,{"$nulls":5},67.2700000000001,0.1254006944279647]
[18,64,null,null,61,null,61,null,64,{"$nulls":5},67.2800000000001,0.13210808479895889]
[19,64,null,null,61,null,62,null,64,{"$nulls":5},67.2900000000001,0.13908304950592906]
[20,65,null,null,61,null,62,null,64,{"$nulls":5},67.30000000000011,0.14633033436366963]
[21,65,null,null,61,null,62,null,64,{"$nulls":5},67.31000000000012,0.15385438490784176]
[22,65,null,null,61,null,62,null,64,{"$nulls":5},67.32000000000012,0.16165931880165896]
[23,65,null,null,61,null,62,null,64,{"$nulls":5},67.33000000000013,0.16974889791604772]
[24,65,null,null,62,null,62,null,64,{"$nulls":5},67.34000000000013,0.17812650017901333]
[25,65,null,null,62,null,62,null,64,{"$nulls":5},67.35000000000014,0.18679509129591335]
[26,65,null,null,62,null,62,null,64,{"$nulls":5},67.36000000000014,0.19575719644807127]
[27,65,null,null,62,null,62,null,64,{"$nulls":5},67.37000000000015,0.20501487208260055]
[28,65,null,null,62,null,62,null,64,{"$nulls":5},67.38000000000015,0.21456967791141002]
[29,65,null,null,62,null,62,null,64,{"$nulls":5},67.39000000000016,0.2244226492420801]
[30,65,null,null,62,null,62,null,65,{"$nulls":5},67.40000000000016,0.2345742697675811]
[31,65,null,null,62,null,62,null,65,{"$nulls":5},67.41000000000017,0.24502444494561354]
[32,65,null,null,62,null,62,null,65,{"$nulls":5},67.42000000000017,0.25577247610163306]
[33,65,null,null,62,null,62,null,65,{"$nulls":5},67.43000000000018,0.266817035392336]
[34,66,null,null,62,null,62,null,65,{"$nulls":5},67.44000000000018,0.27815614176848863]
[35,66,null,null,62,null,62,null,65,{"$nulls":5},67.45000000000019,0.28978713807743894]
[36,66,null,null,62,null,62,null,65,{"$nulls":5},67.46000000000019,0.30170666944641616]
[37,66,null,null,62,null,62,null,65,{"$nulls":5},67.4700000000002,0.31391066308777144]
[38,66,null,null,62,null,62,null,65,{"$nulls":5},67.4800000000002,0.3263943096666057]
[39,66,null,null,62,null,62,null,65,{"$nulls":5},67.49000000000021,0.33915204636974217]
[40,66,null,null,62,null,62,null,65,{"$nulls":5},67.50000000000021,0.3521775418127115]
[41,66,null,null,62,null,63,null,66,{"$nulls":5},67.51000000000022,0.365463682918304]
[42,66,null,null,62,null,63,null,66,{"$nulls":5},67.52000000000022,0.3790025638962879]
[43,66,null,null,62,null,63,null,66,{"$nulls":5},67.53000000000023,0.3927854774490992]
[44,66,null,null,62,null,63,null,66,{"$nulls":5},67.54000000000023,0.4068029083226591]
[45,66,null,null,62,null,63,null,66,{"$nulls":5},67.55000000000024,0.4210445293149754]
[46,66,null,null,62,null,63,null,66,{"$nulls":5},67.56000000000024,0.4354991998478481]
[47,66,null,null,62,null,63,null,66,{"$nulls":5},67.57000000000025,0.45015496719883186]
[48,66,null,null,62,null,63,null,66,{"$nulls":5},67.58000000000025,0.4649990704816296]
[49,66,null,null,62,null,63,null,66,{"$nulls":5},67.59000000000026,0.480017947453332]
[50,66,null,null,62,null,63,null,66,{"$nulls":5},67.60000000000026,0.49519724421640576]
[51,66,null,null,62,null,63,null,67,{"$nulls":5},67.61000000000027,0.510521827872101]
[52,66,null,null,63,null,63,null,67,{"$nulls":5},67.62000000000027,0.5259758021700519]
[53,66,null,null,63,null,63,null,67,{"$nulls":5},67.63000000000028,0.5415425261863176]
[54,66,null,null,63,null,63,null,67,{"$nulls":5},67.64000000000028,0.5572046360490244]
[55,66,null,null,63,null,63,null,67,{"$nulls":5},67.65000000000029,0.5729440697171669]
[56,66,null,null,63,null,63,null,67,{"$nulls":5},67.6600000000003,0.588742094804096]
[57,66,null,null,63,null,63,null,67,{"$nulls":5},67.6700000000003,0.6045793394228016]
[58,66,null,null,63,null,63,null,67,{"$nulls":5},67.6800000000003,0.6204358260154074]
[59,66,null,null,63,null,63,null,67,{"$nulls":5},67.69000000000031,0.6362910081143647]
[60,66,null,null,63,null,63,null,67,{"$nulls":5},67.70000000000032,0.6521238099677894]
[61,67,null,null,63,null,63,null,67,{"$nulls":5},67.71000000000032,{"$f":"0.398942/EXP((O65-mean)^2/2/sd^2)/sd","v":0.6679126689462825}]
[62,67,null,null,63,null,63,null,67,{"$nulls":5},67.72000000000033,0.6836355806335256]
[63,67,null,null,63,null,63,null,67,{"$nulls":5},{"$f":"O66+0.01","v":67.73000000000033},0.6992701464880181]
[64,67,null,null,63,null,63,null,67,{"$nulls":5},67.74000000000034,0.7147936239486301]
[65,67,null,null,63,null,63,null,67,{"$nulls":5},67.75000000000034,0.7301829788422701]
[66,67,null,null,63,null,63,null,68,{"$nulls":5},67.76000000000035,0.7454149399380048]
[67,67,null,null,63,null,63,null,68,{"$nulls":5},67.77000000000035,0.7604660554785084]
[68,67,null,null,63,null,63,null,68,{"$nulls":5},67.78000000000036,0.7753127515068656]
[69,67,null,null,63,null,63,null,68,{"$nulls":5},67.79000000000036,0.7899313917945728]
[70,67,null,null,63,null,63,null,68,{"$nulls":5},67.80000000000037,0.8042983391651876]
[71,67,null,null,64,null,63,null,68,{"$nulls":5},67.81000000000037,0.8183900179975332]
[72,67,null,null,64,null,63,null,68,{"$nulls":5},67.82000000000038,0.8321829776827642]
[73,67,null,null,64,null,63,null,68,{"$nulls":5},67.83000000000038,0.8456539568009983]
[74,67,null,null,64,null,63,null,68,{"$nulls":5},67.84000000000039,0.8587799477757263]
[75,67,null,null,64,null,63,null,68,{"$nulls":5},67.85000000000039,0.8715382617578297]
[76,67,null,null,64,null,64,null,68,{"$nulls":5},67.8600000000004,0.8839065934858926]
[77,67,null,null,64,null,64,null,68,{"$nulls":5},67.8700000000004,0.8958630858655791]
[78,67,null,null,64,null,64,null,68,{"$nulls":5},67.88000000000041,0.9073863940082425]
[79,67,null,null,64,null,64,null,68,{"$nulls":5},67.89000000000041,0.9184557484676618]
[80,67,null,null,64,null,64,null,69,{"$nulls":5},67.90000000000042,0.9290510174138743]
[81,67,null,null,64,null,64,null,69,{"$nulls":5},67.91000000000042,0.9391527674845467]
[82,67,null,null,64,null,64,null,69,{"$nulls":5},67.92000000000043,0.948742323057169]
[83,67,null,null,64,null,64,null,69,{"$nulls":5},67.93000000000043,0.9578018236895937]
[84,67,null,null,64,null,64,null,69,{"$nulls":5},67.94000000000044,0.9663142794820591]
[85,67,null,null,64,null,64,null,69,{"$nulls":5},67.95000000000044,0.974263624120815]
[86,67,null,null,64,null,64,null,69,{"$nulls":5},67.96000000000045,0.9816347653717721]
[87,67,null,null,64,null,64,null,69,{"$nulls":5},67.97000000000045,0.9884136328022197]
[88,67,null,null,64,null,64,null,69,{"$nulls":5},67.98000000000046,0.9945872225195044]
[89,67,null,null,64,null,64,null,69,{"$nulls":5},67.99000000000046,1.0001436387276346]
[90,67,null,null,64,null,64,null,69,{"$nulls":5},68.00000000000047,1.0050721319159754]
[91,68,null,null,64,null,64,null,69,{"$nulls":5},68.01000000000047,1.0093631335084599]
[92,68,null,null,64,null,64,null,69,{"$nulls":5},68.02000000000048,1.0130082868170098]
[93,68,null,null,64,null,64,null,69,{"$nulls":5},68.03000000000048,1.0160004741590223]
[94,68,null,null,64,null,64,null,69,{"$nulls":5},68.04000000000049,1.0183338400157533]
[95,68,null,null,65,null,64,null,69,{"$nulls":5},68.0500000000005,1.0200038101261393]
[96,68,null,null,65,null,64,null,69,{"$nulls":5},68.0600000000005,1.0210071064289086]
[97,68,null,null,65,null,64,null,69,{"$nulls":5},68.0700000000005,1.0213417577846622]
[98,68,null,null,65,null,64,null,69,{"$nulls":5},68.08000000000051,1.0210071064288402]
[99,68,null,null,65,null,64,null,69,{"$nulls":5},68.09000000000052,1.0200038101260027]
[100,68,null,null,65,null,64,null,69,{"$nulls":5},68.10000000000052,1.0183338400155484]
[101,68,null,null,65,null,64,null,69,{"$nulls":5},68.11000000000053,1.0160004741587498]
[102,68,null,null,65,null,64,null,69,{"$nulls":5},68.12000000000053,1.01300828681667]
[103,68,null,null,65,null,64,null,70,{"$nulls":5},68.13000000000054,1.0093631335080537]
[104,68,null,null,65,null,64,null,70,{"$nulls":5},68.14000000000054,1.0050721319155036]
[105,68,null,null,65,null,64,null,70,{"$nulls":5},68.15000000000055,1.000143638727098]
[106,68,null,null,65,null,64,null,70,{"$nulls":5},68.16000000000055,0.994587222518904]
[107,68,null,null,65,null,64,null,70,{"$nulls":5},68.17000000000056,0.9884136328015569]
[108,68,null,null,65,null,64,null,70,{"$nulls":5},68.18000000000056,0.9816347653710481]
[109,68,null,null,65,null,64,null,70,{"$nulls":5},68.19000000000057,0.974263624120031]
[110,68,null,null,65,null,64,null,70,{"$nulls":5},68.20000000000057,0.966314279481217]
[111,68,null,null,65,null,64,null,70,{"$nulls":5},68.21000000000058,0.9578018236886944]
[112,68,null,null,65,null,64,null,70,{"$nulls":5},68.22000000000058,0.9487423230562145]
[113,68,null,null,65,null,64,null,70,{"$nulls":5},68.23000000000059,0.939152767483539]
[114,68,null,null,65,null,64,null,70,{"$nulls":5},68.24000000000059,0.9290510174128151]
[115,68,null,null,65,null,64,null,70,{"$nulls":5},68.2500000000006,0.9184557484665533]
[116,68,null,null,65,null,64,null,70,{"$nulls":5},68.2600000000006,0.9073863940070863]
[117,68,null,null,65,null,64,null,70,{"$nulls":5},68.2700000000006,0.8958630858643775]
[118,68,null,null,65,null,64,null,70,{"$nulls":5},68.28000000000061,0.883906593484648]
[119,68,null,null,65,null,64,null,70,{"$nulls":5},68.29000000000062,0.8715382617565439]
[120,68,null,null,66,null,65,null,70,{"$nulls":5},68.30000000000062,0.8587799477744017]
[121,68,null,null,66,null,65,null,70,{"$nulls":5},68.31000000000063,0.8456539567996372]
[122,68,null,null,66,null,65,null,70,{"$nulls":5},68.32000000000063,0.8321829776813688]
[123,68,null,null,66,null,65,null,71,{"$nulls":5},68.33000000000064,0.8183900179961063]
[124,68,null,null,66,null,65,null,71,{"$nulls":5},68.34000000000064,0.8042983391637312]
[125,68,null,null,66,null,65,null,71,{"$nulls":5},68.35000000000065,{"$f":"0.398942/EXP((O129-mean)^2/2/sd^2)/sd","v":0.7899313917930896}]
[126,69,null,null,66,null,65,null,71,{"$nulls":5},68.36000000000065,0.7753127515053578]
[127,69,null,null,66,null,65,null,71,{"$nulls":5},{"$f":"O130+0.01","v":68.37000000000066},0.7604660554769784]
[128,69,null,null,66,null,65,null,71,{"$nulls":5},68.38000000000066,0.745414939936455]
[129,69,null,null,66,null,65,null,71,{"$nulls":5},68.39000000000067,0.7301829788407033]
[130,69,null,null,66,null,65,null,71,{"$nulls":5},68.40000000000067,0.7147936239470482]
[131,69,null,null,66,null,65,null,71,{"$nulls":5},68.41000000000068,0.6992701464864237]
[132,69,null,null,66,null,65,null,71,{"$nulls":5},68.42000000000068,0.683635580631921]
[133,69,null,null,66,null,65,null,71,{"$nulls":5},68.43000000000069,0.66791266894467]
[134,69,null,null,66,null,65,null,71,{"$nulls":5},68.4400000000007,0.6521238099661713]
[135,69,null,null,66,null,65,null,71,{"$nulls":5},68.4500000000007,0.6362910081127433]
[136,69,null,null,66,null,65,null,71,{"$nulls":5},68.4600000000007,0.6204358260137847]
[137,69,null,null,66,null,65,null,71,{"$nulls":5},68.47000000000071,0.6045793394211798]
[138,69,null,null,66,null,65,null,71,{"$nulls":5},68.48000000000071,0.5887420948024773]
[139,69,null,null,66,null,65,null,71,{"$nulls":5},68.49000000000072,0.5729440697155532]
[140,69,null,null,66,null,65,null,71,{"$nulls":5},68.50000000000072,0.5572046360474175]
[141,69,null,null,66,null,65,null,71,{"$nulls":5},68.51000000000073,0.5415425261847198]
[142,69,null,null,66,null,65,null,71,{"$nulls":5},68.52000000000073,0.5259758021684647]
[143,69,null,null,66,null,65,null,71,{"$nulls":5},68.53000000000074,0.5105218278705261]
[144,69,null,null,66,null,65,null,71,{"$nulls":5},68.54000000000075,0.4951972442148449]
[145,69,null,null,66,null,65,null,71,{"$nulls":5},68.55000000000075,0.48001794745178683]
[146,69,null,null,66,null,65,null,71,{"$nulls":5},68.56000000000076,0.4649990704801016]
[147,69,null,null,67,null,65,null,71,{"$nulls":5},68.57000000000076,0.45015496719732245]
[148,69,null,null,67,null,65,null,71,{"$nulls":5},68.58000000000077,0.43549919984635865]
[149,69,null,null,67,null,65,null,71,{"$nulls":5},68.59000000000077,0.4210445293135071]
[150,69,null,null,67,null,65,null,71,{"$nulls":5},68.60000000000078,0.4068029083212132]
[151,69,null,null,67,null,65,null,71,{"$nulls":5},68.61000000000078,0.3927854774476768]
[152,69,null,null,67,null,65,null,71,{"$nulls":5},68.62000000000079,0.37900256389488995]
[153,69,null,null,67,null,65,null,71,{"$nulls":5},68.63000000000079,0.36546368291693165]
[154,70,null,null,67,null,65,null,71,{"$nulls":5},68.6400000000008,0.3521775418113654]
[155,70,null,null,67,null,65,null,71,{"$nulls":5},68.6500000000008,0.33915204636842294]
[156,70,null,null,67,null,66,null,71,{"$nulls":5},68.6600000000008,0.32639430966531435]
[157,70,null,null,67,null,66,null,71,{"$nulls":5},68.67000000000081,0.3139106630865084]
[158,70,null,null,67,null,66,null,71,{"$nulls":5},68.68000000000082,0.3017066694451819]
[159,70,null,null,67,null,66,null,71,{"$nulls":5},68.69000000000082,0.289787138076234]
[160,70,null,null,67,null,66,null,71,{"$nulls":5},68.70000000000083,0.27815614176731346]
[161,70,null,null,67,null,66,null,71,{"$nulls":5},68.71000000000083,0.26681703539119084]
[162,70,null,null,67,null,66,null,71,{"$nulls":5},68.72000000000084,0.2557724761005182]
[163,70,null,null,67,null,66,null,71,{"$nulls":5},68.73000000000084,0.245024444944529]
[164,70,null,null,67,null,66,null,71,{"$nulls":5},68.74000000000085,0.2345742697665271]
[165,70,null,null,67,null,66,null,71,{"$nulls":5},68.75000000000085,0.22442264924105673]
[166,70,null,null,67,null,66,null,71,{"$nulls":5},68.76000000000086,0.21456967791041714]
[167,70,null,null,67,null,66,null,71,{"$nulls":5},68.77000000000086,0.2050148720816381]
[168,70,null,null,68,null,66,null,71,{"$nulls":5},68.78000000000087,0.19575719644713915]
[169,70,null,null,68,null,66,null,71,{"$nulls":5},68.79000000000087,0.18679509129501137]
[170,71,null,null,68,null,66,null,71,{"$nulls":5},68.80000000000088,0.1781265001781413]
[171,71,null,null,68,null,66,null,71,{"$nulls":5},68.81000000000088,0.16974889791520534]
[172,71,null,null,68,null,66,null,71,{"$nulls":5},68.82000000000089,0.16165931880084583]
[173,71,null,null,68,null,66,null,71,{"$nulls":5},68.8300000000009,0.1538543849070576]
[174,71,null,null,68,null,66,null,71,{"$nulls":5},68.8400000000009,0.146330334362914]
[175,71,null,null,68,null,66,null,71,{"$nulls":5},68.8500000000009,0.1390830495052015]
[176,71,null,null,68,null,66,null,71,{"$nulls":5},68.86000000000091,0.13210808479825903]
[177,71,null,null,68,null,67,null,72,{"$nulls":5},68.87000000000091,0.1254006944272919]
[178,71,null,null,68,null,67,null,72,{"$nulls":5},68.88000000000092,0.11895585947559949]
[179,71,null,null,68,null,67,null,72,{"$nulls":5},68.89000000000092,0.1127683146024751]
[180,71,null,null,68,null,67,null,72,{"$nulls":5},68.90000000000093,0.10683257414497038]
[181,71,null,null,68,null,67,null,72,{"$nulls":5},68.91000000000093,0.10114295757320649]
[182,71,null,null,68,null,67,null,72,{"$nulls":5},68.92000000000094,0.09569361423543998]
[183,71,null,null,68,null,67,null,72,{"$nulls":5},68.93000000000094,0.0904785473355943]
[184,72,null,null,68,null,68,null,72,{"$nulls":5},68.94000000000095,0.08549163709242681]
[185,72,null,null,68,null,68,null,72,{"$nulls":5},68.95000000000095,0.08072666303587174]
[186,72,null,null,68,null,68,null,72,{"$nulls":5},68.96000000000096,0.07617732540235685]
[187,72,null,null,68,null,68,null,72,{"$nulls":5},68.97000000000097,0.0718372655969984]
[188,72,null,null,68,null,68,null,72,{"$nulls":5},68.98000000000097,0.06770008569651771]
[189,72,null,null,68,null,68,null,72,{"$nulls":5},68.99000000000098,{"$f":"0.398942/EXP((O193-mean)^2/2/sd^2)/sd","v":0.06375936697245962}]
[190,72,null,null,68,null,68,null,72,{"$nulls":5},69.00000000000098,0.060008687419812905]
[191,72,null,null,68,null,68,null,72,{"$nulls":5},{"$f":"O194+0.01","v":69.01000000000099},0.056441638281414]
[192,72,null,null,68,null,69,null,72,{"$nulls":5},69.02000000000099,0.05305183956354038]
[193,72,null,null,68,null,69,null,72,{"$nulls":5},69.030000000001,0.049832954542857195]
[194,73,null,null,68,null,69,null,72,{"$nulls":5},69.040000000001,0.04677870326935629]
[195,73,null,null,68,null,69,null,72,{"$nulls":5},69.050000000001,0.04388287507411437]
[196,73,null,null,68,null,69,null,72,{"$nulls":5},69.06000000000101,0.04113934009458602]
[197,73,null,null,69,null,69,null,72,{"$nulls":5},69.07000000000102,0.038542059833739]
[198,73,null,null,69,null,69,null,72,{"$nulls":5},69.08000000000102,0.03608509677262473]
[199,73,null,null,69,null,69,null,72,{"$nulls":5},69.09000000000103,0.033762623058962445]
[200,73,null,null,69,null,69,null,72,{"$nulls":5},69.10000000000103,0.031568928296998235]
[201,73,null,null,69,null,70,null,72,{"$nulls":5},69.11000000000104,0.029498426466286455]
[202,73,null,null,69,null,70,null,72,{"$nulls":5},69.12000000000104,0.027545661999134104]
[203,74,null,null,69,null,70,null,72,{"$nulls":5},69.13000000000105,0.025705315048257692]
[204,74,null,null,69,null,70,null,72,{"$nulls":5},69.14000000000105,0.02397220597773244]
[205,74,null,null,69,null,70,null,72]
[206,74,null,null,69,null,70,null,72]
[207,74,null,null,69,null,70,null,72]
[208,74,null,null,69,null,70,null,72]
[209,75,null,null,69,null,70,null,72]
[210,75,null,null,69,null,70,null,72]
[211,{"$nulls":3},69,null,71,null,72]
[212,{"$nulls":3},69,null,71,null,72]
[213,{"$nulls":3},69,null,71,null,72]
[214,{"$nulls":3},69,null,71,null,72]
[215,{"$nulls":3},69,null,71,null,72]
[216,{"$nulls":3},69,null,71,null,72]
[217,{"$nulls":3},69,null,71,null,72]
[218,{"$nulls":3},69,null,71,null,72]
[219,{"$nulls":3},69,null,71,null,72]
[220,{"$nulls":3},69,null,71,null,72]
[221,{"$nulls":3},69,null,71,null,72]
[222,{"$nulls":3},69,null,71,null,72]
[223,{"$nulls":3},69,null,71,null,72]
[224,{"$nulls":3},69,null,71,null,72]
[225,{"$nulls":3},69,null,71,null,72]
[226,{"$nulls":3},69,null,71,null,72]
[227,{"$nulls":3},69,null,71,null,72]
[228,{"$nulls":3},69,null,71,null,72]
[229,{"$nulls":3},69,null,71,null,72]
[230,{"$nulls":3},69,null,71,null,72]
[231,{"$nulls":3},70,null,71,null,72]
[232,{"$nulls":3},70,null,71,null,72]
[233,{"$nulls":3},70,null,71,null,72]
[234,{"$nulls":3},70,null,71,null,72]
[235,{"$nulls":3},70,null,72,null,73]
[236,{"$nulls":3},70,null,72,null,73]
[237,{"$nulls":3},70,null,72,null,73]
[238,{"$nulls":3},70,null,72,null,73]
[239,{"$nulls":3},70,null,72,null,73]
[240,{"$nulls":3},70,null,72,null,73]
[241,{"$nulls":3},70,null,72,null,73]
[242,{"$nulls":3},70,null,72,null,73]
[243,{"$nulls":3},70,null,72,null,73]
[244,{"$nulls":3},70,null,72,null,73]
[245,{"$nulls":3},70,null,72,null,73]
[246,{"$nulls":3},70,null,72,null,73]
[247,{"$nulls":3},70,null,72,null,73]
[248,{"$nulls":3},70,null,72,null,73]
[249,{"$nulls":3},70,null,72,null,73]
[250,{"$nulls":3},70,null,72,null,73]
[251,{"$nulls":3},70,null,72,null,73]
[252,{"$nulls":3},70,null,72,null,73]
[253,{"$nulls":3},70,null,72,null,73]
[254,{"$nulls":3},70,null,72,null,73]
[255,{"$nulls":3},70,null,72,null,73]
[256,{"$nulls":3},70,null,72,null,73]
[257,{"$nulls":3},70,null,72,null,73]
[258,{"$nulls":3},70,null,72,null,73]
[259,{"$nulls":3},70,null,72,null,73]
[260,{"$nulls":3},71,null,72,null,73]
[261,{"$nulls":3},71,null,72,null,73]
[262,{"$nulls":3},71,null,72,null,73]
[263,{"$nulls":3},71,null,72,null,73]
[264,{"$nulls":3},71,null,72,null,73]
[265,{"$nulls":3},71,null,72,null,73]
[266,{"$nulls":3},71,null,72,null,73]
[267,{"$nulls":3},71,null,72,null,73]
[268,{"$nulls":3},71,null,72,null,73]
[269,{"$nulls":3},71,null,73,null,73]
[270,{"$nulls":3},71,null,73,null,73]
[271,{"$nulls":3},71,null,73,null,73]
[272,{"$nulls":3},71,null,73,null,73]
[273,{"$nulls":3},71,null,73,null,73]
[274,{"$nulls":3},71,null,73,null,73]
[275,{"$nulls":3},71,null,73,null,73]
[276,{"$nulls":3},71,null,73,null,73]
[277,{"$nulls":3},71,null,73,null,73]
[278,{"$nulls":3},71,null,73,null,73]
[279,{"$nulls":3},71,null,73,null,73]
[280,{"$nulls":3},71,null,73,null,73]
[281,{"$nulls":3},71,null,73,null,73]
[282,{"$nulls":3},71,null,73,null,73]
[283,{"$nulls":3},71,null,73,null,73]
[284,{"$nulls":3},71,null,73,null,73]
[285,{"$nulls":3},71,null,73,null,73]
[286,{"$nulls":3},71,null,73,null,73]
[287,{"$nulls":3},71,null,73,null,73]
[288,{"$nulls":3},71,null,73,null,73]
[289,{"$nulls":3},71,null,73,null,73]
[290,{"$nulls":3},71,null,73,null,73]
[291,{"$nulls":3},71,null,73,null,73]
[292,{"$nulls":3},71,null,73,null,73]
[293,{"$nulls":3},71,null,73,null,73]
[294,{"$nulls":3},71,null,73,null,73]
[295,{"$nulls":3},71,null,73,null,74]
[296,{"$nulls":3},71,null,73,null,74]
[297,{"$nulls":3},71,null,73,null,74]
[298,{"$nulls":3},71,null,73,null,74]
[299,{"$nulls":3},71,null,73,null,74]
[300,{"$nulls":3},71,null,73,null,74]
[301,{"$nulls":3},71,null,73,null,74]
[302,{"$nulls":3},71,null,73,null,74]
[303,{"$nulls":3},71,null,73,null,74]
[304,{"$nulls":3},72,null,73,null,74]
[305,{"$nulls":3},72,null,73,null,74]
[306,{"$nulls":3},72,null,73,null,74]
[307,{"$nulls":3},72,null,73,null,74]
[308,{"$nulls":3},72,null,73,null,74]
[309,{"$nulls":3},72,null,73,null,74]
[310,{"$nulls":3},72,null,73,null,74]
[311,{"$nulls":3},72,null,73,null,74]
[312,{"$nulls":3},72,null,73,null,74]
[313,{"$nulls":3},72,null,73,null,74]
[314,{"$nulls":3},72,null,74,null,74]
[315,{"$nulls":3},72,null,74,null,74]
[316,{"$nulls":3},72,null,74,null,74]
[317,{"$nulls":3},72,null,74,null,74]
[318,{"$nulls":3},72,null,74,null,74]
[319,{"$nulls":3},72,null,74,null,74]
[320,{"$nulls":3},72,null,74,null,74]
[321,{"$nulls":3},72,null,74,null,74]
[322,{"$nulls":3},72,null,74,null,74]
[323,{"$nulls":3},72,null,74,null,74]
[324,{"$nulls":3},72,null,74,null,74]
[325,{"$nulls":3},72,null,74,null,74]
[326,{"$nulls":3},72,null,74,null,74]
[327,{"$nulls":3},72,null,74,null,74]
[328,{"$nulls":3},72,null,74,null,74]
[329,{"$nulls":3},72,null,74,null,74]
[330,{"$nulls":3},72,null,74,null,74]
[331,{"$nulls":3},72,null,74,null,74]
[332,{"$nulls":3},72,null,74,null,74]
[333,{"$nulls":3},72,null,74,null,74]
[334,{"$nulls":3},72,null,74,null,74]
[335,{"$nulls":3},72,null,74,null,74]
[336,{"$nulls":3},72,null,74,null,74]
[337,{"$nulls":3},72,null,74,null,74]
[338,{"$nulls":3},72,null,74,null,74]
[339,{"$nulls":3},72,null,74,null,74]
[340,{"$nulls":3},72,null,74,null,74]
[341,{"$nulls":3},73,null,74,null,74]
[342,{"$nulls":3},73,null,74,null,74]
[343,{"$nulls":3},73,null,74,null,74]
[344,{"$nulls":3},73,null,74,null,74]
[345,{"$nulls":3},73,null,74,null,74]
[346,{"$nulls":3},73,null,74,null,74]
[347,{"$nulls":3},73,null,74,null,74]
[348,{"$nulls":3},73,null,74,null,74]
[349,{"$nulls":3},73,null,74,null,75]
[350,{"$nulls":3},73,null,74,null,75]
[351,{"$nulls":3},73,null,74,null,75]
[352,{"$nulls":3},73,null,74,null,75]
[353,{"$nulls":3},73,null,74,null,75]
[354,{"$nulls":3},73,null,74,null,75]
[355,{"$nulls":3},73,null,75,null,75]
[356,{"$nulls":3},73,null,75,null,75]
[357,{"$nulls":3},73,null,75,null,75]
[358,{"$nulls":3},73,null,75,null,75]
[359,{"$nulls":3},73,null,75,null,75]
[360,{"$nulls":3},73,null,75,null,75]
[361,{"$nulls":3},73,null,75,null,75]
[362,{"$nulls":3},73,null,75,null,75]
[363,{"$nulls":3},73,null,75,null,75]
[364,{"$nulls":3},73,null,75,null,75]
[365,{"$nulls":3},73,null,75,null,75]
[366,{"$nulls":3},73,null,75,null,75]
[367,{"$nulls":3},73,null,75,null,75]
[368,{"$nulls":3},73,null,75,null,75]
[369,{"$nulls":3},74,null,75,null,75]
[370,{"$nulls":3},74,null,75,null,75]
[371,{"$nulls":3},74,null,75,null,75]
[372,{"$nulls":3},74,null,75,null,75]
[373,{"$nulls":3},74,null,75,null,75]
[374,{"$nulls":3},74,null,75,null,75]
[375,{"$nulls":3},74,null,75,null,75]
[376,{"$nulls":3},74,null,75,null,75]
[377,{"$nulls":3},74,null,75,null,75]
[378,{"$nulls":3},74,null,75,null,75]
[379,{"$nulls":3},74,null,75,null,75]
[380,{"$nulls":3},74,null,75,null,75]
[381,{"$nulls":3},74,null,75,null,75]
[382,{"$nulls":3},74,null,75,null,75]
[383,{"$nulls":3},74,null,75,null,75]
[384,{"$nulls":3},74,null,75,null,75]
[385,{"$nulls":3},74,null,75,null,75]
[386,{"$nulls":3},74,null,75,null,75]
[387,{"$nulls":3},74,null,75,null,75]
[388,{"$nulls":3},74,null,75,null,75]
[389,{"$nulls":3},74,null,75,null,75]
[390,{"$nulls":3},74,null,75,null,75]
[391,{"$nulls":3},74,null,75,null,75]
[392,{"$nulls":3},74,null,75,null,75]
[393,{"$nulls":3},74,null,75,null,75]
[394,{"$nulls":3},74,null,75,null,75]
[395,{"$nulls":3},74,null,75,null,75]
[396,{"$nulls":3},74,null,75,null,75]
[397,{"$nulls":3},74,null,75,null,75]
[398,{"$nulls":3},74,{"$nulls":3},75]
[399,{"$nulls":3},74,{"$nulls":3},75]
[400,{"$nulls":3},74,{"$nulls":3},75]
[401,{"$nulls":3},74,{"$nulls":3},75]
[402,{"$nulls":3},74,{"$nulls":3},75]
[403,{"$nulls":3},74,{"$nulls":3},75]
[404,{"$nulls":3},75,{"$nulls":3},75]
[405,{"$nulls":3},75,{"$nulls":3},75]
[406,{"$nulls":3},75,{"$nulls":3},75]
[407,{"$nulls":3},75,{"$nulls":3},75]
[408,{"$nulls":3},75,{"$nulls":3},75]
[409,{"$nulls":3},75,{"$nulls":3},75]
[410,{"$nulls":3},75,{"$nulls":3},75]
[411,{"$nulls":3},75]
[412,{"$nulls":3},75]
[413,{"$nulls":3},75]
[414,{"$nulls":3},75]
[415,{"$nulls":3},75]
[416,{"$nulls":3},75]
[417,{"$nulls":3},75]
[418,{"$nulls":3},75]
[419,{"$nulls":3},75]
[420,{"$nulls":3},75]
[421,{"$nulls":3},75]
[422,{"$nulls":3},75]
[423,{"$nulls":3},75]
[424,{"$nulls":3},75]

{"sheet":"samples","index":2,"n_rows":58,"n_cols":100,"rows_kept":58}
[{"$f":"sampx(pop, popsize,newSample)","v":74},68,68,71,75,69,69,73,74,67,{"$f":"sampx(pop, popsize,newSample)","v":66},64,69,66,71,69,71,67,67,68,{"$f":"sampx(pop, popsize,newSample)","v":62},68,72,73,67,67,67,67,69,74,{"$f":"sampx(pop, popsize,newSample)","v":70},69,68,67,67,67,67,65,68,66,{"$f":"sampx(pop, popsize,newSample)","v":70},68,68,69,74,67,75,70,67,67,{"$f":"sampx(pop, popsize,newSample)","v":73},71,73,67,68,67,67,65,71,64,{"$f":"sampx(pop, popsize,newSample)","v":67},68,68,68,68,69,68,67,64,69,{"$f":"sampx(pop, popsize,newSample)","v":68},71,66,69,68,68,66,69,69,66,68,68,66,72,68,66,{"$f":"sampx(pop, popsize,newSample)","v":71},65,68,66,69,68,68,74,67,68,74,71,66,70]
[69,66,66,69,64,68,66,74,67,68,66,73,73,70,61,66,65,68,71,67,67,69,65,66,67,67,69,70,66,67,67,67,75,66,66,70,66,61,74,69,74,69,66,66,67,72,70,65,67,70,68,67,72,67,67,64,67,67,66,65,68,67,70,71,63,68,66,67,67,68,63,68,66,68,68,67,65,67,66,68,67,69,68,73,70,68,67,67,64,62,68,67,70,67,66,69,64,69,71,70]
[69,61,74,68,68,61,63,66,68,67,62,69,68,66,73,74,66,69,68,68,66,68,67,70,68,73,74,72,72,65,73,66,67,69,66,67,69,62,74,66,68,70,67,74,72,68,74,68,66,66,74,74,61,68,67,66,64,73,65,65,68,68,66,69,65,68,69,66,73,63,71,64,64,65,67,68,66,67,67,66,69,67,68,70,71,73,66,66,68,69,69,68,68,67,70,70,72,73,64,68]
[68,71,68,68,68,67,66,68,68,71,73,72,71,65,70,69,66,71,67,68,68,69,74,65,71,73,68,72,69,70,71,73,69,71,66,69,68,62,67,66,69,68,67,68,67,72,70,68,73,66,67,71,67,64,73,69,70,70,65,65,74,69,68,73,70,72,68,62,69,72,71,73,72,63,74,64,66,65,67,65,73,67,74,68,68,68,67,68,66,67,67,66,65,66,71,68,70,68,67,62]
[69,71,74,68,67,67,68,72,64,65,74,70,66,67,65,66,68,67,70,69,66,68,71,71,68,68,65,68,69,74,67,68,69,68,73,66,69,71,69,73,69,70,68,64,68,69,68,70,67,67,71,69,72,69,69,66,68,69,68,74,69,68,68,67,68,68,64,69,75,73,70,66,67,67,66,67,62,66,69,72,71,72,63,67,73,65,74,62,66,65,64,69,72,66,66,68,67,73,68,67]
[69,66,68,70,68,70,69,69,72,68,69,67,69,71,62,66,67,71,64,67,68,65,68,70,70,74,74,67,70,67,67,67,66,72,68,73,69,66,70,66,68,65,67,68,66,70,70,67,65,66,67,68,67,68,67,66,68,66,68,68,61,67,69,69,67,68,62,68,69,68,68,71,68,72,72,69,74,71,73,73,67,64,70,65,66,73,64,68,71,70,70,70,67,66,65,69,69,66,70,67]
[68,69,69,68,68,66,65,69,67,69,74,62,67,66,68,73,66,65,63,69,66,70,64,69,68,63,66,65,65,70,67,64,67,67,74,67,75,67,69,72,67,66,63,62,69,68,68,68,66,67,71,69,65,65,68,67,73,66,70,69,67,72,61,69,69,72,65,66,72,66,74,67,66,73,69,68,67,66,68,67,67,68,75,72,70,70,64,72,68,70,67,70,66,69,69,74,72,67,65,71]
[67,72,69,66,69,68,66,68,67,65,65,67,74,68,65,67,68,66,66,70,67,69,72,68,68,68,71,67,66,68,68,71,68,64,68,69,65,69,65,62,66,66,66,69,68,61,69,67,69,67,67,64,66,70,68,62,72,66,66,73,68,70,66,66,68,69,65,66,66,70,69,67,68,62,66,65,67,67,70,69,65,71,69,67,69,72,64,62,68,67,66,72,66,66,67,67,62,71,71,67]
[66,71,67,69,68,71,62,68,69,64,66,71,66,62,71,65,68,66,69,68,68,64,69,68,69,68,66,66,66,69,69,65,67,66,69,69,73,74,71,68,68,69,68,64,71,70,68,71,68,71,69,66,67,73,67,69,66,67,70,70,68,65,65,66,72,67,72,69,67,71,67,62,69,70,68,65,69,67,64,68,67,68,66,72,69,72,66,67,74,67,71,61,71,69,67,68,68,68,62,70]
[67,61,68,72,63,69,71,72,67,68,68,68,66,66,74,71,71,66,64,67,68,67,68,73,68,67,68,67,69,71,69,68,67,75,68,62,71,68,70,69,66,72,69,71,70,65,73,69,63,68,69,67,74,66,68,66,71,70,64,69,66,69,71,69,64,73,68,68,63,69,64,73,68,69,71,66,73,63,66,69,62,69,70,65,70,69,68,69,70,68,66,70,67,66,72,69,68,71,67,68]
[{"$f":"sampx(pop, popsize,newSample)","v":67},68,66,67,71,68,65,67,72,69,{"$f":"sampx(pop, popsize,newSample)","v":75},69,62,68,72,68,72,66,66,68,{"$f":"sampx(pop, popsize,newSample)","v":68},72,66,69,73,69,68,69,61,67,{"$f":"sampx(pop, popsize,newSample)","v":68},71,69,61,63,71,67,67,65,66,{"$f":"sampx(pop, popsize,newSample)","v":65},69,65,68,68,71,69,68,66,73,{"$f":"sampx(pop, popsize,newSample)","v":67},67,65,67,64,65,67,66,67,71,{"$f":"sampx(pop, popsize,newSample)","v":66},68,72,71,72,68,73,65,73,69,{"$f":"sampx(pop, popsize,newSample)","v":65},65,70,68,68,69,69,68,74,70,69,62,71,68,66,68,69,68,66,67,62,70,69,66,69,68,68,71,63,71]
[72,69,67,73,66,70,68,65,70,68,72,68,74,68,66,66,71,67,72,72,65,69,64,68,69,70,68,67,69,66,68,69,72,69,68,65,72,68,73,65,68,68,69,66,62,66,73,68,71,67,73,65,69,74,66,70,66,69,72,68,69,73,69,75,66,67,63,70,66,67,64,72,68,67,67,67,68,72,69,72,68,62,68,66,71,70,69,67,70,68,72,69,66,66,70,68,62,66,66,69]
[73,67,69,67,67,67,67,69,68,66,68,64,71,71,67,69,65,62,66,70,73,68,68,65,67,65,62,65,66,66,68,72,68,68,70,68,69,68,69,68,68,69,70,67,66,62,68,65,69,68,73,74,65,67,71,63,64,68,69,65,66,70,69,68,66,61,73,75,67,74,68,66,61,66,72,71,72,68,67,67,65,72,66,67,73,67,69,65,66,65,69,63,72,71,74,67,67,67,70,68]
[69,69,69,66,66,66,70,68,69,67,67,67,69,66,68,68,68,68,68,72,65,71,67,66,66,69,69,66,67,69,74,70,68,69,69,68,68,72,62,66,68,65,64,67,73,69,68,66,72,66,68,69,63,65,70,66,69,66,67,66,61,67,69,64,66,70,69,73,72,70,65,69,67,64,68,62,66,65,62,68,71,68,61,71,67,65,70,{"$f":"sampx(pop, popsize,newSample)","v":66},68,68,65,71,67,65,68,66,67,66,67,73]
[68,65,73,62,68,68,67,68,66,65,70,68,67,68,66,66,70,72,68,67,65,66,70,69,73,69,67,73,71,70,72,73,73,65,71,73,68,66,64,64,72,71,65,71,71,73,66,69,63,68,69,75,64,65,67,67,62,65,70,66,67,68,73,72,67,67,69,71,66,71,65,68,66,67,66,72,67,66,69,74,68,63,68,66,67,67,62,66,68,68,68,72,70,71,66,67,68,72,68,66]
[68,70,68,67,67,69,68,65,72,69,68,69,70,68,65,69,62,69,66,65,66,67,69,67,65,68,66,66,65,67,62,66,66,66,68,72,62,64,67,66,66,71,68,61,64,67,67,68,71,62,70,72,64,69,66,68,67,68,69,65,72,69,71,66,74,66,66,68,66,68,74,69,65,71,67,72,67,68,66,70,69,66,62,71,70,63,65,67,64,72,61,66,65,68,74,67,70,67,69,72]
[67,65,72,66,68,71,68,75,69,68,69,65,68,68,64,67,62,68,68,66,66,65,68,66,67,67,68,68,62,61,68,68,75,62,71,67,67,69,65,68,66,66,71,69,63,71,63,74,69,69,63,70,70,68,67,70,68,67,69,68,71,66,69,65,61,69,66,68,66,66,70,74,65,68,68,66,68,67,69,69,67,71,72,70,67,68,71,68,69,71,66,71,70,70,65,67,69,66,68,69]
[68,68,69,64,70,71,66,67,68,70,66,64,71,70,68,67,67,70,71,69,64,75,67,68,68,73,69,69,73,69,73,71,69,67,66,68,66,69,65,70,68,69,64,69,71,68,68,66,69,67,69,68,72,71,71,69,64,69,66,71,73,67,68,69,67,67,62,68,67,64,70,62,68,66,67,68,70,74,69,66,66,68,71,66,69,65,66,68,72,69,68,64,67,70,62,64,68,62,66,71]
[64,67,68,70,68,64,62,67,74,67,67,68,65,62,65,69,71,64,62,70,71,72,68,65,71,74,68,65,68,66,68,64,66,68,67,72,68,67,68,67,66,67,68,73,67,73,65,71,66,61,66,66,69,66,65,63,67,70,66,67,69,67,71,73,68,75,68,66,67,68,68,72,68,69,74,66,66,68,68,71,67,73,67,68,74,66,73,67,66,72,73,69,62,70,69,68,67,74,63,72]
[67,74,65,68,66,66,68,68,66,66,68,67,67,67,72,68,68,67,68,71,68,69,68,73,67,65,73,64,62,67,68,68,69,68,69,65,69,66,69,67,63,66,67,68,65,68,69,73,68,68,75,74,67,61,67,63,68,64,66,66,69,75,65,73,62,67,67,74,71,69,71,68,68,72,66,70,68,67,67,65,69,70,71,72,73,63,73,69,69,75,67,66,65,71,69,66,72,66,65,66]
[{"$f":"sampx(pop, popsize,newSample)","v":68},72,66,68,67,63,68,74,69,65,{"$f":"sampx(pop, popsize,newSample)","v":68},66,68,62,64,68,74,67,70,68,{"$f":"sampx(pop, popsize,newSample)","v":66},67,69,73,74,74,64,69,70,68,{"$f":"sampx(pop, popsize,newSample)","v":69},66,64,72,65,67,67,69,66,68,{"$f":"sampx(pop, popsize,newSample)","v":68},74,69,65,68,65,69,68,72,68,{"$f":"sampx(pop, popsize,newSample)","v":61},74,68,66,69,67,68,66,66,66,{"$f":"sampx(pop, popsize,newSample)","v":67},71,67,72,69,70,67,69,70,68,{"$f":"sampx(pop, popsize,newSample)","v":66},62,67,67,66,69,65,71,71,66,67,69,67,69,68,64,71,67,68,68,67,65,71,66,66,67,65,61,66,65]
[71,68,69,67,67,67,66,69,68,73,67,68,71,67,69,62,69,66,72,64,71,71,71,69,73,68,67,67,73,68,67,69,65,65,68,61,71,70,70,67,67,66,65,66,66,66,69,69,70,70,68,71,69,69,68,64,66,73,64,71,71,69,67,66,66,63,70,66,68,67,66,69,68,66,70,71,67,71,67,64,65,74,72,70,67,70,68,68,71,62,73,69,68,69,67,68,64,67,68,62]
[67,69,64,70,70,73,63,68,65,66,69,67,75,68,74,66,69,68,74,70,74,68,64,68,74,64,68,67,68,69,69,69,66,71,66,70,68,68,74,67,68,70,71,69,65,67,71,68,66,69,70,64,66,71,72,70,61,67,66,74,64,68,73,68,67,68,72,70,72,66,66,68,67,66,72,61,68,71,69,67,71,69,64,67,68,70,74,61,69,69,71,68,73,68,69,71,68,71,62,68]
[74,69,72,71,66,68,62,68,70,65,66,65,68,70,67,69,68,69,67,69,65,66,63,65,69,68,67,68,69,68,73,66,68,71,69,72,68,62,68,68,70,69,67,66,66,68,70,73,72,66,68,73,71,66,72,69,68,69,70,66,66,67,70,67,65,74,63,65,72,73,66,64,68,71,66,68,67,73,66,65,69,70,68,69,66,71,67,72,67,67,65,71,68,67,65,71,67,70,72,68]
[67,68,70,69,66,68,68,67,64,68,68,66,72,62,67,72,69,66,69,69,68,68,66,69,65,68,66,66,66,65,69,68,67,65,73,73,68,66,68,69,61,67,65,68,66,67,68,71,67,67,67,68,66,68,66,74,67,66,66,66,70,66,73,65,68,69,62,70,68,69,66,71,73,67,66,71,68,64,70,70,74,66,68,71,67,69,66,67,68,66,66,69,66,72,68,71,70,69,65,66]
[67,73,69,65,67,70,67,66,64,66,69,66,66,68,65,63,72,66,66,68,70,69,70,68,72,75,70,68,66,67,68,66,66,70,63,73,71,72,72,66,72,66,70,69,68,66,66,67,70,73,64,72,70,67,65,69,61,68,67,70,62,66,71,72,66,68,71,66,68,73,72,69,66,68,68,66,71,72,68,68,70,66,75,71,69,69,66,69,72,64,68,68,70,66,72,67,72,68,65,70]
[67,71,67,68,64,70,74,66,71,74,64,65,74,66,69,65,68,69,70,71,70,66,73,68,69,68,67,68,68,70,67,69,67,62,62,67,66,67,66,67,67,72,68,69,71,64,66,72,67,72,67,69,64,68,64,69,68,71,68,70,67,61,70,68,68,71,73,73,68,65,70,67,67,71,72,72,67,67,61,70,69,62,69,62,71,70,70,68,{"$f":"sampx(pop, popsize,newSample)","v":68},73,67,65,72,64,67,72,68,67,68,68]
[68,68,71,70,71,70,69,66,68,72,66,69,71,71,73,70,67,68,67,65,62,71,69,71,69,67,73,69,65,65,68,66,68,71,74,68,69,67,66,66,68,72,67,69,69,66,73,69,70,68,70,68,68,73,68,68,68,69,68,68,70,62,73,63,70,68,72,62,73,64,73,66,68,66,66,70,66,73,71,68,71,74,73,68,65,66,66,68,68,75,68,70,74,75,64,66,67,69,71,66]
[69,71,68,70,68,68,68,68,67,63,66,67,67,70,68,70,67,66,67,66,66,62,66,67,71,70,68,69,68,68,62,69,67,71,69,73,70,62,71,66,67,67,70,70,67,69,70,70,68,72,71,70,69,72,66,67,72,68,69,68,67,62,70,66,65,69,69,68,71,68,69,67,69,63,68,74,66,69,65,70,61,73,69,68,70,68,66,71,65,68,67,67,67,69,69,69,67,66,67,71]
[68,69,68,68,69,71,72,67,67,68,68,62,71,67,67,68,67,63,70,66,67,61,67,66,66,68,68,68,71,66,70,68,67,66,66,70,69,70,68,69,66,72,70,69,68,74,69,68,69,70,62,73,66,67,75,68,71,69,71,67,71,68,68,67,66,65,72,73,61,71,68,65,71,73,71,70,71,65,69,66,66,66,67,69,69,70,68,68,71,66,67,73,72,68,68,73,62,70,72,74]
[{"$f":"sampx(pop, popsize,newSample)","v":75},63,66,72,72,66,65,69,72,70,{"$f":"sampx(pop, popsize,newSample)","v":72},67,72,66,65,69,70,65,69,66,{"$f":"sampx(pop, popsize,newSample)","v":69},69,66,70,68,66,67,66,69,67,{"$f":"sampx(pop, popsize,newSample)","v":69},74,63,66,69,69,69,68,69,70,{"$f":"sampx(pop, popsize,newSample)","v":63},73,69,74,65,69,67,68,67,67,{"$f":"sampx(pop, popsize,newSample)","v":68},67,73,67,70,71,71,66,68,68,{"$f":"sampx(pop, popsize,newSample)","v":64},63,68,66,64,69,66,72,67,66,{"$f":"sampx(pop, popsize,newSample)","v":66},68,67,73,62,63,70,73,68,67,67,66,67,71,70,65,64,68,68,64,67,69,69,62,66,73,69,62,68,67]
[73,68,68,65,66,71,67,67,66,68,72,67,73,71,68,66,68,68,66,68,62,66,72,68,65,67,66,70,68,67,68,65,71,69,64,64,68,70,68,67,69,73,68,67,69,70,67,68,70,67,66,66,70,75,69,69,66,66,66,65,64,70,70,64,68,68,69,70,67,71,68,70,71,68,68,71,67,63,69,69,65,67,68,64,68,74,71,66,64,73,62,72,71,68,69,70,73,68,70,67]
[66,70,68,68,67,66,66,71,70,69,66,67,68,73,69,69,67,69,69,67,67,66,66,67,75,67,73,67,67,64,69,69,72,68,68,71,67,70,69,66,69,67,64,69,66,66,73,68,66,65,67,66,61,69,63,68,66,67,67,66,74,71,67,64,71,70,68,67,65,68,70,67,74,69,69,67,68,66,67,65,69,65,69,66,65,66,72,67,69,73,69,69,72,69,70,68,73,66,67,63]
[67,68,70,69,68,69,69,69,73,74,67,67,67,71,65,68,68,66,72,66,71,65,69,66,65,67,66,61,74,69,66,65,68,73,75,74,71,63,68,66,68,69,71,67,67,70,67,70,69,62,68,65,67,70,70,68,67,66,71,66,73,69,71,69,69,66,66,70,70,68,74,68,68,70,68,66,66,68,66,69,67,67,65,67,70,66,69,69,66,68,66,69,69,68,73,68,66,69,66,64]
[67,67,67,64,73,69,68,67,68,66,67,66,69,69,67,66,66,65,71,66,70,70,62,74,67,71,73,68,68,74,66,73,68,62,74,64,69,69,66,69,69,67,62,68,74,62,69,70,71,72,68,74,68,67,66,72,69,68,71,66,63,68,69,63,68,69,71,70,66,67,65,75,64,69,71,68,73,70,73,71,66,70,65,65,67,68,68,75,69,68,70,69,72,75,68,67,68,68,65,72]
[68,72,69,66,71,69,70,70,65,66,68,68,69,69,66,68,75,64,68,68,68,70,75,67,70,66,68,69,68,66,67,67,69,72,70,69,66,68,68,70,71,67,63,68,65,68,66,67,63,70,68,70,69,71,67,66,65,66,71,68,65,70,66,64,67,66,62,75,70,71,68,62,70,73,66,64,71,66,70,67,61,66,65,69,67,67,73,72,70,75,72,66,66,68,69,65,71,67,67,68]
[66,69,63,74,70,73,69,68,68,68,69,68,65,71,69,67,67,68,66,74,67,70,65,65,64,70,67,69,68,71,68,67,68,64,66,64,68,68,74,67,73,69,62,67,73,68,67,69,65,73,71,64,67,69,66,69,66,71,74,71,63,72,65,70,67,68,67,72,67,67,72,65,68,61,69,73,66,66,69,67,67,67,67,66,68,66,73,66,71,64,62,63,68,67,65,68,69,67,74,70]
[68,66,69,70,65,65,73,66,68,71,69,67,69,71,68,69,67,71,66,70,64,72,61,68,67,74,67,65,62,65,66,70,68,69,74,69,71,73,66,68,68,65,68,68,69,69,67,68,68,69,73,64,66,67,70,66,66,68,70,70,65,67,68,67,73,68,72,67,69,66,68,65,70,69,71,70,66,68,73,69,69,74,69,67,66,69,69,69,65,66,67,65,69,68,66,67,70,67,64,73]
[67,69,71,67,71,68,66,66,66,64,62,69,71,68,67,72,67,65,69,69,74,68,71,69,72,66,67,69,67,73,65,62,65,66,66,68,69,73,72,69,69,67,68,68,69,65,68,69,66,70,68,66,70,67,68,70,69,68,67,70,68,72,67,68,69,67,71,67,67,65,74,69,67,65,67,68,66,66,71,69,66,69,69,66,71,69,65,74,69,65,67,66,68,67,69,69,74,69,72,71]
[67,67,69,67,69,65,69,67,70,71,67,66,66,68,61,70,71,75,69,68,69,69,68,74,70,69,70,66,69,66,67,70,70,70,67,71,67,66,69,72,67,68,65,68,70,68,72,70,72,66,66,71,63,66,67,70,69,69,67,67,73,68,74,69,66,68,67,69,75,72,67,72,68,67,70,64,68,69,74,72,67,73,70,70,73,68,65,67,74,{"$f":"sampx(pop, popsize,newSample)","v":66},66,69,71,69,70,69,71,74,66,66]
[{"$f":"sampx(pop, popsize,newSample)","v":64},63,68,73,64,67,70,68,67,71,{"$f":"sampx(pop, popsize,newSample)","v":70},66,65,68,68,69,67,67,73,73,{"$f":"sampx(pop, popsize,newSample)","v":66},70,67,65,69,70,69,66,66,75,{"$f":"sampx(pop, popsize,newSample)","v":69},68,65,68,69,68,66,67,68,64,{"$f":"sampx(pop, popsize,newSample)","v":72},66,66,70,72,68,62,66,66,69,{"$f":"sampx(pop, popsize,newSample)","v":68},67,66,69,71,63,69,66,69,63,{"$f":"sampx(pop, popsize,newSample)","v":66},70,74,70,67,68,65,66,67,68,{"$f":"sampx(pop, popsize,newSample)","v":66},73,65,71,67,73,67,73,65,70,66,68,62,66,71,69,{"$f":"sampx(pop, popsize,newSample)","v":69},66,70,68,69,67,69,66,71,69,69,65,71,67]
[75,67,70,69,73,67,65,62,67,63,71,68,72,70,68,68,72,67,69,68,68,67,67,67,67,69,68,65,74,69,70,65,68,67,73,69,73,70,69,67,70,69,67,75,68,71,62,69,66,64,67,61,62,73,71,68,73,67,68,65,71,68,67,68,67,68,70,67,68,69,64,69,69,68,68,66,65,62,71,63,66,69,69,64,69,68,68,69,65,73,72,64,67,68,65,68,68,62,62,71]
[69,72,69,70,73,67,71,62,68,66,68,66,67,71,65,69,69,73,71,68,65,67,66,68,62,67,69,67,72,69,71,68,73,69,68,68,66,75,71,69,68,67,67,66,63,70,65,66,69,63,70,71,69,73,68,67,68,70,67,69,66,68,66,68,65,68,68,70,68,67,74,67,68,68,68,69,68,70,68,70,64,65,69,67,63,69,68,72,66,69,67,67,69,65,69,68,65,70,68,69]
[75,72,66,68,62,67,67,68,61,69,66,69,61,64,74,69,66,68,66,71,61,62,68,66,73,71,67,71,69,67,66,67,70,67,62,70,70,74,71,68,69,73,66,66,64,69,63,65,68,68,67,73,67,67,68,62,69,72,69,62,71,67,67,70,64,73,68,70,68,71,67,69,69,62,72,68,64,68,67,67,70,70,70,67,68,66,68,69,62,67,67,67,67,70,68,66,74,66,71,66]
[73,66,68,61,63,66,68,73,68,62,67,68,68,66,70,63,66,68,68,67,73,61,67,65,66,66,71,66,68,66,61,65,65,65,70,69,64,68,69,68,67,66,69,68,68,67,66,68,68,73,66,63,69,70,61,74,62,67,73,73,66,69,68,71,75,66,69,70,74,74,70,65,66,69,71,69,72,69,67,65,66,70,71,66,68,67,72,68,64,68,61,71,69,65,72,68,68,69,73,61]
[62,67,65,67,65,68,69,69,69,71,67,70,67,66,64,68,65,72,69,68,65,66,65,67,67,65,67,69,70,64,69,65,69,67,67,67,72,73,65,71,69,69,69,66,72,71,66,68,66,68,66,64,70,66,69,70,67,69,67,69,71,66,67,70,67,74,68,68,68,70,70,66,66,67,71,75,72,69,67,65,70,67,68,65,67,69,75,68,68,63,64,68,72,73,66,66,73,67,67,69]
[67,66,66,66,66,67,65,67,66,66,72,67,68,70,65,72,67,67,62,66,68,64,67,66,69,65,67,70,68,67,68,69,72,68,65,75,68,69,64,68,66,70,71,70,70,65,69,68,71,67,65,68,70,69,70,65,67,67,67,74,66,67,66,66,71,70,70,69,71,74,65,67,69,67,67,71,67,71,64,67,66,66,66,63,67,67,69,68,65,75,63,64,66,68,67,73,73,68,66,69]
[64,71,66,61,68,68,65,74,71,72,69,66,69,66,67,65,67,70,72,68,62,69,71,72,69,67,72,70,68,67,74,68,61,69,75,65,68,67,70,66,61,66,65,66,66,62,69,71,63,69,66,70,71,68,65,64,68,68,67,69,69,67,65,72,63,65,67,68,66,69,69,65,66,62,71,75,67,70,71,64,71,65,64,71,69,67,67,71,65,62,67,71,73,66,69,73,67,72,74,67]
[65,70,67,68,70,68,69,65,69,67,67,68,72,68,68,68,67,68,69,67,71,65,71,67,69,68,66,72,72,69,72,68,71,73,66,69,67,69,63,65,71,68,68,66,68,68,70,69,67,67,64,72,70,67,66,65,65,66,67,64,68,67,66,61,69,67,63,74,70,68,67,70,68,75,68,65,69,70,73,66,68,66,67,67,67,70,66,69,69,70,70,69,71,69,66,68,69,67,69,67]
[69,71,68,64,67,72,63,69,67,68,68,71,73,73,68,70,73,71,61,68,69,75,66,72,62,73,68,66,68,69,68,67,70,69,68,68,67,68,69,70,65,70,62,65,64,69,65,67,73,69,69,66,68,74,67,69,74,66,66,66,72,72,68,67,66,70,71,70,67,69,67,67,72,62,72,69,69,69,71,70,67,69,73,72,74,68,70,69,68,70,73,69,62,67,65,66,69,65,68,65]
[]
[{"$f":"AVERAGE(A1:A50)","v":68.44},68.4,68.28,67.88,67.86,68.04,67.3,68.28,68.18,67.78,68.16,{"$f":"AVERAGE(L1:L50)","v":67.28},68.94,67.86,67.56,68.02,68.14,67.68,68.02,68.26,67.3,67.82,67.86,68.32,68.56,68.62,68.24,67.68,68.08,68.02,68.36,67.96,68.18,67.86,68.36,68.66,68.42,{"$f":"AVERAGE(AL1:AL50)","v":68.04},68.42,67.54,67.86,68.56,67.04,67.92,67.96,67.94,68.24,68.6,68,67.94,68.16,68.72,67.7,68.42,67.86,67.34,67.48,67.8,68.02,67.84,67.84,68.08,68.58,68.08,67.38,68.48,67.84,68.78,68.54,68.78,68.36,67.88,67.78,67.78,68.66,68.32,67.86,68.26,68.4,68.02,{"$f":"AVERAGE(CC1:CC50)","v":67.52},68.12,68.22,67.98,68.78,68.06,68.42,67.96,67.9,68.22,67.36,68.02,68.68,68.12,68.08,68.44,68.66,68,67.6,68.14]
[{"$f":"STDEVA(A1:A50)/SQRT(50)","v":0.42200686714598307},{"$f":"STDEVA(B1:B50)/SQRT(50)","v":0.40808162448816304},0.32455935591229523,0.4016699833323422,0.3948753355329311,0.3368037035038028,0.3835920452027871,0.3979949748426478,0.37437294512399827,0.3961961995923593,0.39108431159471246,0.3117298673596764,0.43557140514454334,0.38333658679483,0.4482710550275472,0.34698703145794957,0.37797527183990354,0.3630258325547105,0.4065685172067231,0.29389710819278503,0.43542144726080484,0.4367692147333365,0.42186176283087745,0.368604649665603,0.4190952353899179,0.41195402953361165,0.3597731711702217,0.3238039215201642,0.4158492662550914,0.3943374707231441,0.38625359122562725,0.3647308205081817,0.39660806747174643,0.4342575178816536,0.47100413794273993,0.432939643245889,0.33696121014570374,0.46682601749714525,0.41116062703582146,0.3026549190084313,0.3758093307266658,0.3370459909270544,0.34753945598937075,0.38421932512032553,0.4169471165018217,0.41147817161337463,0.4136053526673731,0.28571428571428553,0.3714285714285714,0.39837424718011905,0.41635934244449985,0.4915946563200712,0.4391550328268398,0.4051605879658292,0.37033906141286704,0.3985791089889798,0.41130950658121396,0.28855728395320207,0.31878596235706247,0.41241944173179723,0.46630112019367653,0.38528017899514455,0.3823557484429218,0.429370683295296,0.41096203707686607,{"$f":"STDEVA(BN1:BN50)/SQRT(50)","v":0.3738820069246993},0.4493623600305714,0.41629071474592555,0.4249465752735686,0.3825691880868994,0.4235515533761468,0.45323328227665005,0.33355230902684924,0.46711445959994324,0.3494719048005118,0.45485139982016903,0.3534206027511407,0.40184269437232306,0.4060762972443399,0.355125732261527,{"$f":"STDEVA(CC1:CC50)/SQRT(50)","v":0.37497210780623824},0.43951736052638674,0.452015892803493,0.3774133229319425,0.34438943310248793,0.3492382380822232,0.4343327042247495,0.3768397050010868,0.37060347917350983,0.49013950533891637,0.4311919881123082,0.37741332293194246,0.3901229528845321,0.3797313765905407,0.3690473118278291,0.31449343784724615,0.433881390733101,0.420883424647321,0.43612392921353577,0.41601609074061313]
[{"$f":"(A52-mean)/A53","v":0.8767629837455039},0.808661748526206,0.6470311090238782,-0.47302513975208227,-0.5318134132550311,-0.08907265474783653,-2.0073408967407893,0.5276448530111066,0.29382465114721334,-0.7319605798802941,0.23012940517356265,-2.5342454564627386,1.9973762963418067,-0.547821437436626,-1.1377045077529049,-0.1440976044260505,0.18519730049868666,-1.074303713472541,-0.12298050115516998,0.6464847550503265,-1.768401636722291,-0.5723846634947339,-0.49779339703793407,0.6782334412406333,1.1691853273972987,1.335100425216587,0.47251994762991534,-1.2044326028204075,0.02404717480941974,-0.12679495029550739,0.7508020807775606,-0.3015922807037139,{"$f":"(AG52-mean)/AG53","v":0.27735189730564375},-0.4835840287219257,0.6157058434065427,1.3627765652888286,1.0386952250339638,-0.06426377038886952,0.8512488234178988,-1.7511692912059438,-0.5587940022509215,1.4538075312874972,-2.9636922721991277,-0.3904020183082049,-0.26382242650554183,-0.3159341344652022,0.41101982579204666,1.855000000000005,-0.1884615384615201,-0.32632631481627344,0.2161594344721598,1.3222275540293886,-0.8425270629788785,0.8638550006979631,-0.5670479349351657,-1.8315059257663535,-1.434442896552629,-0.935689428112944,-0.1568450493563254,-0.5576846693603799,-0.49324350733804817,0.025955137443317945,1.3338363607109156,0.023289899355163245,{"$f":"(BM52-mean)/BM53","v":-1.6789872001509},1.0966026511208542,-0.5118363718410732,1.7055388814841614,1.1060213856234524,1.8558734527223184,0.6846864276341436,-0.4192101671033576,-0.869428848644692,-0.6208328473675604,1.6882616081449857,0.5496300552198817,-0.5941928635888388,0.47282183466540634,0.8126551641635178,-0.14079520422692268,{"$f":"(CC52-mean)/CC53","v":-1.466775764250183},0.113761149138976,0.3318467389933475,-0.23846534960881216,2.06161958456117,-0.028633748855520644,0.805833860990808,-0.2919013005799964,-0.4587112899725277,0.30603531926341115,-1.646598312524924,-0.13248074978268182,1.5636096145836371,0.13167202681258997,0.027096796750738547,1.1764951362187681,1.3598186338508758,-0.1663168371590058,-1.0776753315222853,0.16826272242352408]
[{"$f":"0.9*_xlfn.NORM.DIST(A52,mean,sd,FALSE)","v":0.5869118414886696},0.6433147137148417,0.7955164932752925,0.816648328598207,0.7955164932753082,0.9165011001880333,0.13169739349234147,0.7955164932752925,0.8834719097932706,0.6977819668002478,0.895129129419699,0.11889735988745688,0.07694252746359286,0.7955164932753082,0.3919495553492577,0.9117080989402876,0.9045655545090764,0.5583926358864947,0.9117080989402876,0.8166483285981924,0.13169739349234147,0.7489652063333192,0.7955164932753082,0.7489652063333192,0.41849945758053625,0.34110254725443506,0.8361465033678268,0.5583926358864947,0.9189070416509747,0.9117080989402876,0.6977819668002291,0.8834719097932796,{"$f":"0.9*_xlfn.NORM.DIST(AG52,mean,sd,FALSE)","v":0.8834719097932706},0.7955164932753082,0.6977819668002291,0.2937550851690366,0.6152724550214181,0.9165011001880333,0.6152724550214181,0.36612287482401845,0.7955164932753082,0.41849945758053625,0.02841205543725876,0.8538686909030861,0.8834719097932796,0.8696834628011235,0.8361465033678268,0.36612287482400035,0.9045655545090822,0.8696834628011235,0.895129129419699,0.23019539028691774,0.5869118414886898,0.6152724550214181,0.7955164932753082,0.16031396283963203,0.2937550851690527,0.7238690140283338,0.9117080989402876,0.7729024962416241,0.7729024962416241,0.9189070416509747,0.3919495553492391,0.9189070416509747,{"$f":"0.9*_xlfn.NORM.DIST(BM52,mean,sd,FALSE)","v":0.19311284585184438},0.5298682577475893,0.7729024962416241,0.17618160063451627,0.4456778330444591,0.17618160063451627,0.6977819668002291,0.816648328598207,0.6977819668002478,0.6977819668002478,0.2937550851690366,0.7489652063333192,0.7955164932753082,0.8166483285981924,0.6433147137148417,0.9117080989402876,0.3411025472544525,0.9117080989402834,0.8538686909030742,0.8951291294197067,0.17618160063451627,0.9189070416509755,0.6152724550214181,0.8834719097932796,0.83614650336784,0.8538686909030742,0.1761816006345279,0.9117080989402876,0.27153619335405826,0.9117080989402834,0.9189070416509747,0.5869118414886696,0.2937550851690366,0.9045655545090822,0.44567783304447856,0.9045655545090764]
[1,2,3,4,5,6,7,8,9,10,11,12,13,14,15,16,17,18,19,20,21,22,23,24,25,26,27,28,29,30,31,32,33,34,35,36,37,38,39,40,41,42,43,44,45,46,47,48,49,50,51,52,53,54,55,56,57,58,59,60,61,62,63,64,65,66,67,68,69,70,71,72,73,74,75,76,77,78,79,80,81,82,83,84,85,86,87,88,89,90,91,92,93,94,95,96,97,98,99,100]
[]
[null,null,"T.DIST.2T(ABS(-1.694), 11)"]

{"sheet":"Calcs","index":3,"n_rows":202,"n_cols":16,"rows_kept":202}
[null,{"$f":"mean-3.5*sd","v":66.70287974925392},{"$f":"NORMDIST(B1,mean,sd,FALSE)","v":2.234177594102168E-3},"x's",{"$f":"samples!A52","v":68.44},{"$f":"samples!A52","v":68.44},{"$f":"IF(OR(samples!A$52>Right,samples!A$52<Left),1,0)","v":0},{"$f":"samples!A55","v":{"v":0.5869118414886696,"d":"0.59"}},{"$f":"H1","v":{"v":0.5869118414886696,"d":"0.59"}},{"$nulls":6},{"$f":"z","v":1.645}]
[null,{"$f":"B1+7*sd/100","v":66.73022215426884},2.847448110950813E-3,"y's",0,0.5,null,0,0.05]
[null,66.75756455928376,0.003611319411442056,null,{"$f":"samples!B$52","v":68.4},{"$f":"samples!B$52","v":68.4},{"$f":"IF(OR(samples!B$52>Right,samples!B$52<Left),1,0)","v":0},{"$f":"samples!B55","v":{"v":0.6433147137148417,"d":"0.64"}},{"$f":"H3","v":{"v":0.6433147137148417,"d":"0.64"}},null,null,"For Pop'n Histogram"]
[null,66.78490696429868,0.004557723167706788,null,0,0.5,null,0,0.5,null,null,"      Pop Freqs"]
[null,66.8122493693136,5.7240305193629925E-3,null,{"$f":"samples!C$52","v":68.28},{"$f":"samples!C$52","v":68.28},{"$f":"IF(OR(samples!C$52>Right,samples!C$52<Left),1,0)","v":0},{"$f":"samples!C55","v":{"v":0.7955164932752925,"d":"0.80"}},{"$f":"H5","v":{"v":0.7955164932752925,"d":"0.80"}},null,null,61,{"$f":"IF(pop=1,Pops!D5,IF(pop=2,Pops!F5,IF(pop=3,Pops!H5,Pops!J5)))","v":4}]
[null,66.83959177432853,0.00715365341617945,null,0,0.5,null,0,0.5,null,null,62,{"$f":"IF(pop=1,Pops!D6,IF(pop=2,Pops!F6,IF(pop=3,Pops!H6,Pops!J6)))","v":12}]
[null,66.86693417934345,0.008896635695253768,null,{"$f":"samples!D$52","v":67.88},{"$f":"samples!D$52","v":67.88},{"$f":"IF(OR(samples!D$52>Right,samples!D$52<Left),1,0)","v":0},{"$f":"samples!D55","v":{"v":0.816648328598207,"d":"0.82"}},{"$f":"H7","v":{"v":0.816648328598207,"d":"0.82"}},null,null,63,{"$f":"IF(pop=1,Pops!D7,IF(pop=2,Pops!F7,IF(pop=3,Pops!H7,Pops!J7)))","v":6}]
[null,66.89427658435837,0.01101021186493391,null,0,0.5,null,0,0.5,null,null,64,{"$f":"IF(pop=1,Pops!D8,IF(pop=2,Pops!F8,IF(pop=3,Pops!H8,Pops!J8)))","v":16}]
[null,66.92161898937329,0.013559307250749372,"series 5",{"$f":"samples!E$52","v":67.86},{"$f":"samples!E$52","v":67.86},{"$f":"IF(OR(samples!D$52>Right,samples!E$52<Left),1,0)","v":0},{"$f":"samples!E55","v":{"v":0.7955164932753082,"d":"0.80"}},{"v":0.7955164932753082,"d":"0.80"},null,null,65,{"$f":"IF(pop=1,Pops!D9,IF(pop=2,Pops!F9,IF(pop=3,Pops!H9,Pops!J9)))","v":28}]
[null,66.9489613943882,0.016616948915852796,null,0,0.5,null,0,0.5,null,null,66,{"$f":"IF(pop=1,Pops!D10,IF(pop=2,Pops!F10,IF(pop=3,Pops!H10,Pops!J10)))","v":54}]
[null,66.97630379940313,0.02026455282577308,16,{"$f":"samples!F$52","v":68.04},{"$f":"samples!F$52","v":68.04},{"$f":"IF(OR(samples!F$52>Right,samples!F$52<Left),1,0)","v":0},{"$f":"samples!F55","v":{"v":0.9165011001880333,"d":"0.92"}},{"v":0.9165011001880333,"d":"0.92"},null,null,67,{"$f":"IF(pop=1,Pops!D11,IF(pop=2,Pops!F11,IF(pop=3,Pops!H11,Pops!J11)))","v":60}]
[null,67.00364620441805,0.024592049349015592,null,0,0.5,null,0,0.5,null,null,68,{"$f":"IF(pop=1,Pops!D12,IF(pop=2,Pops!F12,IF(pop=3,Pops!H12,Pops!J12)))","v":70}]
[null,67.03098860943297,0.02969780666755458,18,{"$f":"samples!G$52","v":67.3},{"$f":"samples!G$52","v":67.3},{"$f":"IF(OR(samples!G$52>Right,samples!G$52<Left),1,0)","v":1},{"$f":"samples!G55","v":{"v":0.13169739349234147,"d":"0.13"}},{"v":0.13169739349234147,"d":"0.13"},null,null,69,{"$f":"IF(pop=1,Pops!D13,IF(pop=2,Pops!F13,IF(pop=3,Pops!H13,Pops!J13)))","v":56}]
[null,67.05833101444789,0.03568831033271945,null,0,0.5,null,0,0.5,null,null,70,{"$f":"IF(pop=1,Pops!D14,IF(pop=2,Pops!F14,IF(pop=3,Pops!H14,Pops!J14)))","v":32}]
[null,67.08567341946281,0.042677557368481486,20,{"$f":"samples!H$52","v":68.28},{"$f":"samples!H$52","v":68.28},{"$f":"IF(OR(samples!H$52>Right,samples!H$52<Left),1,0)","v":0},{"$f":"samples!H55","v":{"v":0.7955164932752925,"d":"0.80"}},{"v":0.7955164932752925,"d":"0.80"},null,null,71,{"$f":"IF(pop=1,Pops!D15,IF(pop=2,Pops!F15,IF(pop=3,Pops!H15,Pops!J15)))","v":28}]
[null,67.11301582447773,0.050786125312229626,null,0,0.5,null,0,0.5,null,null,72,{"$f":"IF(pop=1,Pops!D16,IF(pop=2,Pops!F16,IF(pop=3,Pops!H16,Pops!J16)))","v":20}]
[null,67.14035822949265,0.06013988067898757,22,{"$f":"samples!I$52","v":68.18},{"$f":"samples!I$52","v":68.18},{"$f":"IF(OR(samples!I$52>Right,samples!I$52<Left),1,0)","v":0},{"$f":"samples!I55","v":{"v":0.8834719097932706,"d":"0.88"}},{"v":0.8834719097932706,"d":"0.88"},null,null,73,{"$f":"IF(pop=1,Pops!D17,IF(pop=2,Pops!F17,IF(pop=3,Pops!H17,Pops!J17)))","v":18}]
[null,67.16770063450757,0.07086829777138826,null,0,0.5,null,0,0.5,null,null,74,{"$f":"IF(pop=1,Pops!D18,IF(pop=2,Pops!F18,IF(pop=3,Pops!H18,Pops!J18)))","v":12}]
[null,67.19504303952249,0.08310236768925648,24,{"$f":"samples!J$52","v":67.78},{"$f":"samples!J$52","v":67.78},{"$f":"IF(OR(samples!J$52>Right,samples!J$52<Left),1,0)","v":0},{"$f":"samples!J55","v":{"v":0.6977819668002478,"d":"0.70"}},{"v":0.6977819668002478,"d":"0.70"},null,null,75,{"$f":"IF(pop=1,Pops!D19,IF(pop=2,Pops!F19,IF(pop=3,Pops!H19,Pops!J19)))","v":4}]
[null,67.22238544453741,0.09697208887148592,null,0,0.5,null,0,0.5]
[null,67.24972784955233,0.11260354445592256,26,{"$f":"samples!K$52","v":68.16},{"$f":"samples!K$52","v":68.16},{"$f":"IF(OR(samples!K$52>Right,samples!K$52<Left),1,0)","v":0},{"$f":"samples!K55","v":{"v":0.895129129419699,"d":"0.90"}},{"v":0.895129129419699,"d":"0.90"},"pop=",{"$f":"IF(pop=1,\"normal\",IF(pop=2,\"uniform\",IF(pop=3,\"U-shaped\",\"skewed\")))","v":"normal"}]
[null,67.27707025456725,0.13011558795272224,null,0,0.5,null,0,0.5,"pop n=",{"$f":"IF(pop=1, 210,IF(pop=2,424,IF(pop=3,397,410)))","v":210}]
[null,67.30441265958217,0.14961617681797285,28,{"$f":"samples!L$52","v":67.28},{"$f":"samples!L$52","v":67.28},{"$f":"IF(OR(samples!L$52>Right,samples!L$52<Left),1,0)","v":1},{"$f":"samples!L55","v":{"v":0.11889735988745688,"d":"0.12"}},{"v":0.11889735988745688,"d":"0.12"},null,{"$f":"IF(pop=1, 210,IF(pop=2,424,IF(pop=3,397,410)))","v":210}]
[null,67.33175506459709,0.1711984129485466,null,0,0.5,null,0,0.5,null,"SigLevel=",{"$f":"IF(Alpha=1, 0.1,IF(Alpha = 2, 0.05,IF(Alpha = 3,0.02,0.01)))","v":{"v":0.1,"d":"10%"}},{"$f":"100*L24","v":10}]
[null,67.35909746961201,0.19493636919741075,30,{"$f":"samples!M$52","v":68.94},{"$f":"samples!M$52","v":68.94},{"$f":"IF(OR(samples!M$52>Right,samples!M$52<Left),1,0)","v":1},{"$f":"samples!M55","v":{"v":0.07694252746359286,"d":"0.08"}},{"v":0.07694252746359286,"d":"0.08"},null,"z-value=",{"$f":"IF(Alpha = 1, 1.645,IF(Alpha = 2, 1.96,IF(Alpha = 3,2.33,2.57)))","v":1.645},null,"PCV =",{"$f":"0.9*_xlfn.NORM.DIST(z,0,1,FALSE)","v":0.09279972998278328}]
[null,67.38643987462693,0.2208808008863597,null,0,0.5,null,0,0.5]
[null,67.41378227964185,0.24905486000538843,32,{"$f":"samples!N$52","v":67.86},{"$f":"samples!N$52","v":67.86},{"$f":"IF(OR(samples!N$52>Right,samples!N$52<Left),1,0)","v":0},{"$f":"samples!N55","v":{"v":0.7955164932753082,"d":"0.80"}},{"v":0.7955164932753082,"d":"0.80"},"misses=",{"$f":"COUNTIF(H1:H196,\"<\"  &PCV)-100","v":4},{"$f":"K27/100","v":{"v":0.04,"d":"4.0%"}}]
[null,67.44112468465677,0.27944994628653136,null,0,0.5,null,0,0.5,"hits=",{"$f":"100-K27","v":96}]
[null,67.46846708967169,0.31202184254132986,34,{"$f":"samples!O$52","v":67.56},{"$f":"samples!O$52","v":67.56},{"$f":"IF(OR(samples!O$52>Right,samples!O$52<Left),1,0)","v":0},{"$f":"samples!O55","v":{"v":0.3919495553492577,"d":"0.39"}},{"v":0.3919495553492577,"d":"0.39"}]
[null,67.49580949468661,0.3466872904929458,null,0,0.5,null,0,0.5]
[null,67.52315189970153,0.3833211668388786,36,{"$f":"samples!P$52","v":68.02},{"$f":"samples!P$52","v":68.02},{"$f":"IF(OR(samples!P$52>Right,samples!P$52<Left),1,0)","v":0},{"$f":"samples!P55","v":{"v":0.9117080989402876,"d":"0.91"}},{"v":0.9117080989402876,"d":"0.91"},{"$nulls":3},"      New Sample =",null,{"$f":"IF('P-Values'!D27=1,-1,1)","v":1}]
[null,67.55049430471645,0.42175441662212404,null,0,0.5,null,0,0.5]
[null,67.57783670973137,{"$f":"NORMDIST(B33,mean,sd,FALSE)","v":0.46177289155814427},38,{"$f":"samples!Q$52","v":68.14},{"$f":"samples!Q$52","v":68.14},{"$f":"IF(OR(samples!Q$52>Right,samples!Q$52<Left),1,0)","v":0},{"$f":"samples!Q55","v":{"v":0.9045655545090764,"d":"0.90"}},{"v":0.9045655545090764,"d":"0.90"}]
[null,{"$f":"B33+7*sd/100","v":67.60517911474629},0.5031172244299938,null,0,0.5,null,0,0.5,null,"Vertical line for PCV"]
[null,67.63252151976121,0.5454838470192812,40,{"$f":"samples!R$52","v":67.68},{"$f":"samples!R$52","v":67.68},{"$f":"IF(OR(samples!R$52>Right,samples!R$52<Left),1,0)","v":0},{"$f":"samples!R55","v":{"v":0.5583926358864947,"d":"0.56"}},{"v":0.5583926358864947,"d":"0.56"},null,null,{"$f":"PCV","v":0.09279972998278328},0]
[null,67.65986392477613,0.5885272286440403,null,18,18,null,0,0.5,null,null,{"$f":"L35","v":0.09279972998278328},0.6]
[null,67.68720632979105,0.6318633759635607,42,{"$f":"samples!S$52","v":68.02},{"$f":"samples!S$52","v":68.02},{"$f":"IF(OR(samples!S$52>Right,samples!S$52<Left),1,0)","v":0},{"$f":"samples!S55","v":{"v":0.9117080989402876,"d":"0.91"}},{"v":0.9117080989402876,"d":"0.91"}]
[null,67.71454873480597,0.6750745933977795,null,0,0.5,null,0,0.5]
[null,67.7418911398209,0.7177154587558154,44,{"$f":"samples!T$52","v":68.26},{"$f":"samples!T$52","v":68.26},{"$f":"IF(OR(samples!T$52>Right,samples!T$52<Left),1,0)","v":0},{"$f":"samples!T557","v":{"v":0,"d":"0.00"}},{"v":0,"d":"0.00"},null,"Horizontal line for PCV"]
[null,67.76923354483581,0.7593199222319753,null,0,0.5,null,0,0.5,null,null,{"$f":"mean-3*sd","v":66.89818264221765},{"$f":"PCV","v":0.09279972998278328}]
[null,67.79657594985073,0.7994093907885278,46,{"$f":"samples!U$52","v":67.3},{"$f":"samples!U$52","v":67.3},{"$f":"IF(OR(samples!U$52>Right,samples!U$52<Left),1,0)","v":1},{"$f":"samples!U55","v":{"v":0.13169739349234147,"d":"0.13"}},{"v":0.13169739349234147,"d":"0.13"},null,null,{"$f":"mean+3*sd","v":69.24181735778234},{"$f":"M40","v":0.09279972998278328}]
[null,67.82391835486565,0.837501616213365,null,0,0.5,null,0,0.5]
[null,67.85126075988057,0.8731201659508322,48,{"$f":"samples!V$52","v":67.82},{"$f":"samples!V$52","v":67.82},{"$f":"IF(OR(samples!V$52>Right,samples!V$52<Left),1,0)","v":0},{"$f":"samples!V55","v":{"v":0.7489652063333192,"d":"0.75"}},{"v":0.7489652063333192,"d":"0.75"}]
[null,67.8786031648955,0.9058042231956984,null,0,0.5,null,0,0.5]
[null,67.90594556991041,0.9351184385424804,50,{"$f":"samples!W$52","v":67.86},{"$f":"samples!W$52","v":67.86},{"$f":"IF(OR(samples!W$52>Right,samples!W$52<Left),1,0)","v":0},{"$f":"samples!W55","v":{"v":0.7955164932753082,"d":"0.80"}},{"v":0.7955164932753082,"d":"0.80"}]
[null,67.93328797492534,0.9606625412011125,null,0,0.5,null,0,0.5]
[null,67.96063037994026,0.9820804145095673,52,{"$f":"samples!X$52","v":68.32},{"$f":"samples!X$52","v":68.32},{"$f":"IF(OR(samples!X$52>Right,samples!X$52<Left),1,0)","v":0},{"$f":"samples!X55","v":{"v":0.7489652063333192,"d":"0.75"}},{"v":0.7489652063333192,"d":"0.75"}]
[null,67.98797278495518,0.9990683487790083,null,0,0.5,null,0,0.5]
[null,68.0153151899701,1.0113822044304803,54,{"$f":"samples!Y$52","v":68.56},{"$f":"samples!Y$52","v":68.56},{"$f":"IF(OR(samples!Y$52>Right,samples!Y$52<Left),1,0)","v":0},{"$f":"samples!Y557","v":{"v":0,"d":"0.00"}},{"v":0,"d":"0.00"}]
[null,68.04265759498502,1.0188432493845991,null,0,0.5,null,0,0.5]
[null,68.06999999999994,1.02134247564764,56,{"$f":"samples!Z$52","v":68.62},{"$f":"samples!Z$52","v":68.62},{"$f":"IF(OR(samples!Z$52>Right,samples!Z$52<Left),1,0)","v":0},{"$f":"samples!Z55","v":{"v":0.34110254725443506,"d":"0.34"}},{"v":0.34110254725443506,"d":"0.34"}]
[null,68.09734240501486,1.0188432493846198,null,0,0.5,null,0,0.5]
[null,68.12468481002978,1.0113822044305216,58,{"$f":"samples!AA$52","v":68.24},{"$f":"samples!AA$52","v":68.24},{"$f":"IF(OR(samples!AA$52>Right,samples!AA$52<Left),1,0)","v":0},{"$f":"samples!AA55","v":{"v":0.8361465033678268,"d":"0.84"}},{"v":0.8361465033678268,"d":"0.84"}]
[null,68.1520272150447,0.9990683487790694,null,0,0.5,null,0,0.5]
[null,68.17936962005962,0.9820804145096471,60,{"$f":"samples!AB$52","v":67.68},{"$f":"samples!AB$52","v":67.68},{"$f":"IF(OR(samples!AB$52>Right,samples!AB$52<Left),1,0)","v":0},{"$f":"samples!AB55","v":{"v":0.5583926358864947,"d":"0.56"}},{"v":0.5583926358864947,"d":"0.56"}]
[null,68.20671202507454,0.9606625412012105,null,0,0.5,null,0,0.5]
[null,68.23405443008946,0.9351184385425948,62,{"$f":"samples!AC$52","v":68.08},{"$f":"samples!AC$52","v":68.08},{"$f":"IF(OR(samples!AC$52>Right,samples!AC$52<Left),1,0)","v":0},{"$f":"samples!AC55","v":{"v":0.9189070416509747,"d":"0.92"}},{"v":0.9189070416509747,"d":"0.92"}]
[null,68.26139683510438,0.9058042231958278,null,0,0.5,null,0,0.5]
[null,68.2887392401193,0.8731201659509745,64,{"$f":"samples!AD$52","v":68.02},{"$f":"samples!AD$52","v":68.02},{"$f":"IF(OR(samples!AD$52>Right,samples!AD$52<Left),1,0)","v":0},{"$f":"samples!AD55","v":{"v":0.9117080989402876,"d":"0.91"}},{"v":0.9117080989402876,"d":"0.91"}]
[null,68.31608164513422,0.8375016162135187,null,0,0.5,null,0,0.5]
[null,68.34342405014914,0.7994093907886909,66,{"$f":"samples!AE$52","v":68.36},{"$f":"samples!AE$52","v":68.36},{"$f":"IF(OR(samples!AE$52>Right,samples!AE$52<Left),1,0)","v":0},{"$f":"samples!AE55","v":{"v":0.6977819668002291,"d":"0.70"}},{"v":0.6977819668002291,"d":"0.70"}]
[null,68.37076645516406,0.7593199222321455,null,0,0.5,null,0,0.5]
[null,68.39810886017898,0.7177154587559909,68,{"$f":"samples!AF$52","v":67.96},{"$f":"samples!AF$52","v":67.96},{"$f":"IF(OR(samples!AF$52>Right,samples!AF$52<Left),1,0)","v":0},{"$f":"samples!AF55","v":{"v":0.8834719097932796,"d":"0.88"}},{"v":0.8834719097932796,"d":"0.88"}]
[null,68.4254512651939,0.6750745933979583,null,0,0.5,null,0,0.5]
[null,68.45279367020882,{"$f":"NORMDIST(B65,mean,sd,FALSE)","v":0.6318633759637409},70,{"$f":"samples!AG$52","v":68.18},{"$f":"samples!AG$52","v":68.18},{"$f":"IF(OR(samples!AG$52>Right,samples!AG$52<Left),1,0)","v":0},{"$f":"samples!IAG55","v":{"v":0,"d":"0.00"}},{"v":0,"d":"0.00"}]
[null,{"$f":"B65+7*sd/100","v":68.48013607522374},0.5885272286442202,null,0,0.5,null,0,0.5]
[null,68.50747848023866,0.5454838470194591,72,{"$f":"samples!AH$52","v":67.86},{"$f":"samples!AH$52","v":67.86},{"$f":"IF(OR(samples!AH$52>Right,samples!AH$52<Left),1,0)","v":0},{"$f":"samples!AH55","v":{"v":0.7955164932753082,"d":"0.80"}},{"v":0.7955164932753082,"d":"0.80"}]
[null,68.53482088525358,0.5031172244301682,null,0,0.5,null,0,0.5]
[null,68.5621632902685,0.46177289155831364,74,{"$f":"samples!AI$52","v":68.36},{"$f":"samples!AI$52","v":68.36},{"$f":"IF(OR(samples!AI$52>Right,samples!AI$52<Left),1,0)","v":0},{"$f":"samples!AI55","v":{"v":0.6977819668002291,"d":"0.70"}},{"v":0.6977819668002291,"d":"0.70"}]
[null,68.58950569528342,0.42175441662228724,null,0,0.5,null,0,0.5]
[null,68.61684810029834,0.3833211668390348,76,{"$f":"samples!AJ$52","v":68.66},{"$f":"samples!AJ$52","v":68.66},{"$f":"IF(OR(samples!AJ$52>Right,samples!AJ$52<Left),1,0)","v":0},{"$f":"samples!AJ55","v":{"v":0.2937550851690366,"d":"0.29"}},{"$f":"H71","v":{"v":0.2937550851690366,"d":"0.29"}}]
[null,68.64419050531326,0.34668729049309416,null,0,0.5,null,0,0.5]
[null,68.67153291032818,0.31202184254146975,78,{"$f":"samples!AK$52","v":68.42},{"$f":"samples!AK$52","v":68.42},{"$f":"IF(OR(samples!AK$52>Right,samples!AK$52<Left),1,0)","v":0},{"$f":"samples!AK55","v":{"v":0.6152724550214181,"d":"0.62"}},{"v":0.6152724550214181,"d":"0.62"}]
[null,68.6988753153431,0.2794499462866623,null,0,0.5,null,0,0.5]
[null,68.72621772035802,0.24905486000551014,80,{"$f":"samples!AL$52","v":68.04},{"$f":"samples!AL$52","v":68.04},{"$f":"IF(OR(samples!AL$52>Right,samples!AL$52<Left),1,0)","v":0},{"$f":"samples!AL55","v":{"v":0.9165011001880333,"d":"0.92"}},{"v":0.9165011001880333,"d":"0.92"}]
[null,68.75356012537294,0.22088080088647224,null,0,0.5,null,0,0.5]
[null,68.78090253038786,0.19493636919751406,82,{"$f":"samples!AM$52","v":68.42},{"$f":"samples!AM$52","v":68.42},{"$f":"IF(OR(samples!AM$52>Right,samples!AM$52<Left),1,0)","v":0},{"$f":"samples!AM55","v":{"v":0.6152724550214181,"d":"0.62"}},{"v":0.6152724550214181,"d":"0.62"}]
[null,68.80824493540278,0.17119841294864083,null,0,0.5,null,0,0.5]
[null,68.8355873404177,0.14961617681805817,84,{"$f":"samples!AN$52","v":67.54},{"$f":"samples!AN$52","v":67.54},{"$f":"IF(OR(samples!AN$52>Right,samples!AN$52<Left),1,0)","v":0},{"$f":"samples!AN55","v":{"v":0.36612287482401845,"d":"0.37"}},{"v":0.36612287482401845,"d":"0.37"}]
[null,68.86292974543262,0.13011558795279904,null,0,0.5,null,0,0.5]
[null,68.89027215044754,0.11260354445599148,86,{"$f":"samples!AO$52","v":67.86},{"$f":"samples!AO$52","v":67.86},{"$f":"IF(OR(samples!AO$52>Right,samples!AO$52<Left),1,0)","v":0},{"$f":"samples!A55","v":{"v":0.5869118414886696,"d":"0.59"}},{"v":0.5869118414886696,"d":"0.59"}]
[null,68.91761455546246,0.09697208887154711,null,0,0.5,null,0,0.5]
[null,68.94495696047738,0.08310236768931062,88,{"$f":"samples!AP$52","v":68.56},{"$f":"samples!AP$52","v":68.56},{"$f":"IF(OR(samples!AP$52>Right,samples!AP$52<Left),1,0)","v":0},{"$f":"samples!AP55","v":{"v":0.41849945758053625,"d":"0.42"}},{"v":0.41849945758053625,"d":"0.42"}]
[null,68.9722993654923,0.07086829777143597,null,0,0.5,null,0,0.5]
[null,68.99964177050722,0.06013988067902921,90,{"$f":"samples!AQ$52","v":67.04},{"$f":"samples!AQ$52","v":67.04},{"$f":"IF(OR(samples!AQ$52>Right,samples!AQ$52<Left),1,0)","v":1},{"$f":"samples!IAQ55","v":{"v":0,"d":"0.00"}},{"v":0,"d":"0.00"}]
[null,69.02698417552214,0.05078612531226587,null,0,0.5,null,0,0.5]
[null,69.05432658053707,0.04267755736851276,92,{"$f":"samples!AR$52","v":67.92},{"$f":"samples!AR$52","v":67.92},{"$f":"IF(OR(samples!AR$52>Right,samples!AR$52<Left),1,0)","v":0},{"$f":"samples!AR55","v":{"v":0.8538686909030861,"d":"0.85"}},{"v":0.8538686909030861,"d":"0.85"}]
[null,69.08166898555199,0.03568831033274633,null,0,0.5,null,0,0.5]
[null,69.1090113905669,0.029697806667577598,94,{"$f":"samples!AS$52","v":67.96},{"$f":"samples!AS$52","v":67.96},{"$f":"IF(OR(samples!AS$52>Right,samples!AS$52<Left),1,0)","v":0},{"$f":"samples!AS55","v":{"v":0.8834719097932796,"d":"0.88"}},{"v":0.8834719097932796,"d":"0.88"}]
[null,69.13635379558183,0.024592049349035115,null,0,0.5,null,0,0.5]
[null,69.16369620059675,0.0202645528257896,96,{"$f":"samples!AT$52","v":67.94},{"$f":"samples!AT$52","v":67.94},{"$f":"IF(OR(samples!AT$52>Right,samples!AT$52<Left),1,0)","v":0},{"$f":"samples!AT55","v":{"v":0.8696834628011235,"d":"0.87"}},{"v":0.8696834628011235,"d":"0.87"}]
[null,69.19103860561167,0.016616948915866667,null,0,0.5,null,0,0.5]
[null,69.21838101062659,0.01355930725076097,98,{"$f":"samples!AU$52","v":68.24},{"$f":"samples!AU$52","v":68.24},{"$f":"IF(OR(samples!AU$52>Right,samples!AU$52<Left),1,0)","v":0},{"$f":"samples!IAU55","v":{"v":0,"d":"0.00"}},{"v":0,"d":"0.00"}]
[null,69.2457234156415,0.011010211864943564,null,0,0.5,null,0,0.5]
[null,69.27306582065643,0.00889663569526174,100,{"$f":"samples!AV$52","v":68.6},{"$f":"samples!AV$52","v":68.6},{"$f":"IF(OR(samples!AV$52>Right,samples!AV$52<Left),1,0)","v":0},{"$f":"samples!AV55","v":{"v":0.36612287482400035,"d":"0.37"}},{"v":0.36612287482400035,"d":"0.37"}]
[null,69.30040822567135,0.007153653416186006,null,0,0.5,null,0,0.5]
[null,69.32775063068627,{"$f":"NORMDIST(B97,mean,sd,FALSE)","v":5.7240305193683606E-3},102,{"$f":"samples!AW$52","v":68},{"$f":"samples!AW$52","v":68},{"$f":"IF(OR(samples!AW$52>Right,samples!AW$52<Left),1,0)","v":0},{"$f":"samples!AW55","v":{"v":0.9045655545090822,"d":"0.90"}},{"v":0.9045655545090822,"d":"0.90"}]
[null,69.35509303570119,{"$f":"NORMDIST(B98,mean,sd,FALSE)","v":0.004557723167711152},null,0,0.5,null,0,0.5]
[null,69.38243544071611,{"$f":"NORMDIST(B99,mean,sd,FALSE)","v":3.6113194114455907E-3},104,{"$f":"samples!AX$52","v":67.94},{"$f":"samples!AX$52","v":67.94},{"$f":"IF(OR(samples!AX$52>Right,samples!AX$52<Left),1,0)","v":0},{"$f":"samples!AX55","v":{"v":0.8696834628011235,"d":"0.87"}},{"v":0.8696834628011235,"d":"0.87"}]
[null,69.40977784573103,{"$f":"NORMDIST(B100,mean,sd,FALSE)","v":0.002847448110953653},null,0,0.5,null,0,0.5]
[null,69.43712025074595,{"$f":"NORMDIST(B101,mean,sd,FALSE)","v":0.002234177594104442},106,{"$f":"samples!AY$52","v":68.16},{"$f":"samples!AY$52","v":68.16},{"$f":"IF(OR(samples!AY$52>Right,samples!AY$52<Left),1,0)","v":0},{"$f":"samples!AY55","v":{"v":0.895129129419699,"d":"0.90"}},{"v":0.895129129419699,"d":"0.90"}]
[{"$nulls":4},0,0.5,null,0,0.5]
[{"$nulls":3},108,{"$f":"samples!AZ$52","v":68.72},{"$f":"samples!AZ$52","v":68.72},{"$f":"IF(OR(samples!AZ$52>Right,samples!AZ$52<Left),1,0)","v":1},{"$f":"samples!AZ55","v":{"v":0.23019539028691774,"d":"0.23"}},{"v":0.23019539028691774,"d":"0.23"}]
[{"$nulls":4},0,0.5,null,0,0.5]
[{"$nulls":3},110,{"$f":"samples!BA$52","v":67.7},{"$f":"samples!BA$52","v":67.7},{"$f":"IF(OR(samples!BA$52>Right,samples!BA$52<Left),1,0)","v":0},{"$f":"samples!BA55","v":{"v":0.5869118414886898,"d":"0.59"}},{"v":0.5869118414886898,"d":"0.59"}]
[{"$nulls":4},0,0.5,null,0,0.5]
[{"$nulls":3},112,{"$f":"samples!BB$52","v":68.42},{"$f":"samples!BB$52","v":68.42},{"$f":"IF(OR(samples!BB$52>Right,samples!BB$52<Left),1,0)","v":0},{"$f":"samples!BB55","v":{"v":0.6152724550214181,"d":"0.62"}},{"v":0.6152724550214181,"d":"0.62"}]
[{"$nulls":4},0,0.5,null,0,0.5]
[{"$nulls":3},114,{"$f":"samples!BC$52","v":67.86},{"$f":"samples!BC$52","v":67.86},{"$f":"IF(OR(samples!BC$52>Right,samples!BC$52<Left),1,0)","v":0},{"$f":"samples!BC55","v":{"v":0.7955164932753082,"d":"0.80"}},{"v":0.7955164932753082,"d":"0.80"}]
[{"$nulls":4},0,0.5,null,0,0.5]
[{"$nulls":3},116,{"$f":"samples!BD$52","v":67.34},{"$f":"samples!BD$52","v":67.34},{"$f":"IF(OR(samples!BD$52>Right,samples!BD$52<Left),1,0)","v":1},{"$f":"samples!BD55","v":{"v":0.16031396283963203,"d":"0.16"}},{"v":0.16031396283963203,"d":"0.16"}]
[{"$nulls":4},0,0.5,null,0,0.5]
[{"$nulls":3},118,{"$f":"samples!BE$52","v":67.48},{"$f":"samples!BE$52","v":67.48},{"$f":"IF(OR(samples!BE$52>Right,samples!BE$52<Left),1,0)","v":0},{"$f":"samples!BE55","v":{"v":0.2937550851690527,"d":"0.29"}},{"v":0.2937550851690527,"d":"0.29"}]
[{"$nulls":4},0,0.5,null,0,0.5]
[{"$nulls":3},120,{"$f":"samples!BF$52","v":67.8},{"$f":"samples!BF$52","v":67.8},{"$f":"IF(OR(samples!BF$52>Right,samples!BF$52<Left),1,0)","v":0},{"$f":"samples!BF55","v":{"v":0.7238690140283338,"d":"0.72"}},{"v":0.7238690140283338,"d":"0.72"}]
[{"$nulls":4},0,0.5,null,0,0.5]
[{"$nulls":3},122,{"$f":"samples!BG$52","v":68.02},{"$f":"samples!BG$52","v":68.02},{"$f":"IF(OR(samples!BG$52>Right,samples!BG$52<Left),1,0)","v":0},{"$f":"samples!BG55","v":{"v":0.9117080989402876,"d":"0.91"}},{"v":0.9117080989402876,"d":"0.91"}]
[{"$nulls":4},0,0.5,null,0,0.5]
[{"$nulls":3},124,{"$f":"samples!BH$52","v":67.84},{"$f":"samples!BH$52","v":67.84},{"$f":"IF(OR(samples!BH$52>Right,samples!BH$52<Left),1,0)","v":0},{"$f":"samples!BH55","v":{"v":0.7729024962416241,"d":"0.77"}},{"v":0.7729024962416241,"d":"0.77"}]
[{"$nulls":4},0,0.5,null,0,0.5]
[{"$nulls":3},126,{"$f":"samples!BI$52","v":67.84},{"$f":"samples!BI$52","v":67.84},{"$f":"IF(OR(samples!BI$52>Right,samples!BI$52<Left),1,0)","v":0},{"$f":"samples!BI55","v":{"v":0.7729024962416241,"d":"0.77"}},{"v":0.7729024962416241,"d":"0.77"}]
[{"$nulls":4},0,0.5,null,0,0.5]
[{"$nulls":3},128,{"$f":"samples!BJ$52","v":68.08},{"$f":"samples!BJ$52","v":68.08},{"$f":"IF(OR(samples!BJ$52>Right,samples!BJ$52<Left),1,0)","v":0},{"$f":"samples!BJ55","v":{"v":0.9189070416509747,"d":"0.92"}},{"v":0.9189070416509747,"d":"0.92"}]
[{"$nulls":4},0,0.5,null,0,0.5]
[{"$nulls":3},130,{"$f":"samples!BK$52","v":68.58},{"$f":"samples!BK$52","v":68.58},{"$f":"IF(OR(samples!BK$52>Right,samples!BK$52<Left),1,0)","v":0},{"$f":"samples!BK55","v":{"v":0.3919495553492391,"d":"0.39"}},{"v":0.3919495553492391,"d":"0.39"}]
[{"$nulls":4},0,0.5,null,0,0.5]
[{"$nulls":3},132,{"$f":"samples!BL$52","v":68.08},{"$f":"samples!BL$52","v":68.08},{"$f":"IF(OR(samples!BL$52>Right,samples!BL$52<Left),1,0)","v":0},{"$f":"samples!BL55","v":{"v":0.9189070416509747,"d":"0.92"}},{"v":0.9189070416509747,"d":"0.92"}]
[{"$nulls":4},0,0.5,null,0,0.5]
[{"$nulls":3},134,{"$f":"samples!BM$52","v":67.38},{"$f":"samples!BM$52","v":67.38},{"$f":"IF(OR(samples!BM$52>Right,samples!BM$52<Left),1,0)","v":1},{"$f":"samples!BM55","v":{"v":0.19311284585184438,"d":"0.19"}},{"v":0.19311284585184438,"d":"0.19"}]
[{"$nulls":4},0,0.5,null,0,0.5]
[{"$nulls":3},136,{"$f":"samples!BN$52","v":68.48},{"$f":"samples!BN$52","v":68.48},{"$f":"IF(OR(samples!BN$52>Right,samples!BN$52<Left),1,0)","v":0},{"$f":"samples!BN55","v":{"v":0.5298682577475893,"d":"0.53"}},{"v":0.5298682577475893,"d":"0.53"}]
[{"$nulls":4},0,0.5,null,0,0.5]
[{"$nulls":3},138,{"$f":"samples!BO$52","v":67.84},{"$f":"samples!BO$52","v":67.84},{"$f":"IF(OR(samples!BO$52>Right,samples!BO$52<Left),1,0)","v":0},{"$f":"samples!BO55","v":{"v":0.7729024962416241,"d":"0.77"}},{"v":0.7729024962416241,"d":"0.77"}]
[{"$nulls":4},0,0.5,null,0,0.5]
[{"$nulls":3},140,{"$f":"samples!BP$52","v":68.78},{"$f":"samples!BP$52","v":68.78},{"$f":"IF(OR(samples!BP$52>Right,samples!BP$52<Left),1,0)","v":1},{"$f":"samples!BP55","v":{"v":0.17618160063451627,"d":"0.18"}},{"$f":"H135","v":{"v":0.17618160063451627,"d":"0.18"}}]
[{"$nulls":4},0,0.5,null,0,0.5]
[{"$nulls":3},142,{"$f":"samples!BQ$52","v":68.54},{"$f":"samples!BQ$52","v":68.54},{"$f":"IF(OR(samples!BQ$52>Right,samples!BQ$52<Left),1,0)","v":0},{"$f":"samples!BQ55","v":{"v":0.4456778330444591,"d":"0.45"}},{"v":0.4456778330444591,"d":"0.45"}]
[{"$nulls":4},0,0.5,null,0,0.5]
[{"$nulls":3},144,{"$f":"samples!BR$52","v":68.78},{"$f":"samples!BR$52","v":68.78},{"$f":"IF(OR(samples!BR$52>Right,samples!BR$52<Left),1,0)","v":1},{"$f":"samples!BR55","v":{"v":0.17618160063451627,"d":"0.18"}},{"v":0.17618160063451627,"d":"0.18"}]
[{"$nulls":4},0,0.5,null,0,0.5]
[{"$nulls":3},146,{"$f":"samples!BS$52","v":68.36},{"$f":"samples!BS$52","v":68.36},{"$f":"IF(OR(samples!BS$52>Right,samples!BS$52<Left),1,0)","v":0},{"$f":"samples!BS55","v":{"v":0.6977819668002291,"d":"0.70"}},{"v":0.6977819668002291,"d":"0.70"}]
[{"$nulls":4},0,0.5,null,0,0.5]
[{"$nulls":3},148,{"$f":"samples!BT$52","v":67.88},{"$f":"samples!BT$52","v":67.88},{"$f":"IF(OR(samples!BT$52>Right,samples!BT$52<Left),1,0)","v":0},{"$f":"samples!BT55","v":{"v":0.816648328598207,"d":"0.82"}},{"v":0.816648328598207,"d":"0.82"}]
[{"$nulls":4},0,0.5,null,0,0.5]
[{"$nulls":3},150,{"$f":"samples!BU$52","v":67.78},{"$f":"samples!BU$52","v":67.78},{"$f":"IF(OR(samples!BU$52>Right,samples!BU$52<Left),1,0)","v":0},{"$f":"samples!BU55","v":{"v":0.6977819668002478,"d":"0.70"}},{"v":0.6977819668002478,"d":"0.70"}]
[{"$nulls":4},0,0.5,null,0,0.5]
[{"$nulls":3},152,{"$f":"samples!BV$52","v":67.78},{"$f":"samples!BV$52","v":67.78},{"$f":"IF(OR(samples!BV$52>Right,samples!BV$52<Left),1,0)","v":0},{"$f":"samples!BV55","v":{"v":0.6977819668002478,"d":"0.70"}},{"v":0.6977819668002478,"d":"0.70"}]
[{"$nulls":4},0,0.5,null,0,0.5]
[{"$nulls":3},154,{"$f":"samples!BW$52","v":68.66},{"$f":"samples!BW$52","v":68.66},{"$f":"IF(OR(samples!BW$52>Right,samples!BW$52<Left),1,0)","v":0},{"$f":"samples!BW55","v":{"v":0.2937550851690366,"d":"0.29"}},{"v":0.2937550851690366,"d":"0.29"}]
[{"$nulls":4},0,0.5,null,0,0.5]
[{"$nulls":3},156,{"$f":"samples!BX$52","v":68.32},{"$f":"samples!BX$52","v":68.32},{"$f":"IF(OR(samples!BX$52>Right,samples!BX$52<Left),1,0)","v":0},{"$f":"samples!BX55","v":{"v":0.7489652063333192,"d":"0.75"}},{"v":0.7489652063333192,"d":"0.75"}]
[{"$nulls":4},0,0.5,null,0,0.5]
[{"$nulls":3},158,{"$f":"samples!BY$52","v":67.86},{"$f":"samples!BY$52","v":67.86},{"$f":"IF(OR(samples!BY$52>Right,samples!BY$52<Left),1,0)","v":0},{"$f":"samples!BY55","v":{"v":0.7955164932753082,"d":"0.80"}},{"v":0.7955164932753082,"d":"0.80"}]
[{"$nulls":4},0,0.5,null,0,0.5]
[{"$nulls":3},160,{"$f":"samples!BZ$52","v":68.26},{"$f":"samples!BZ$52","v":68.26},{"$f":"IF(OR(samples!BZ$52>Right,samples!BZ$52<Left),1,0)","v":0},{"$f":"samples!BZ55","v":{"v":0.8166483285981924,"d":"0.82"}},{"v":0.8166483285981924,"d":"0.82"}]
[{"$nulls":4},0,0.5,null,0,0.5]
[{"$nulls":3},162,{"$f":"samples!CA$52","v":68.4},{"$f":"samples!CA$52","v":68.4},{"$f":"IF(OR(samples!CA$52>Right,samples!CA$52<Left),1,0)","v":0},{"$f":"samples!CA55","v":{"v":0.6433147137148417,"d":"0.64"}},{"v":0.6433147137148417,"d":"0.64"}]
[{"$nulls":4},0,0.5,null,0,0.5]
[{"$nulls":3},164,{"$f":"samples!CB$52","v":68.02},{"$f":"samples!CB$52","v":68.02},{"$f":"IF(OR(samples!CB$52>Right,samples!CB$52<Left),1,0)","v":0},{"$f":"samples!CB55","v":{"v":0.9117080989402876,"d":"0.91"}},{"v":0.9117080989402876,"d":"0.91"}]
[{"$nulls":4},0,0.5,null,0,0.5]
[{"$nulls":3},{"$f":"D159+2","v":166},{"$nulls":3},{"$f":"samples!CC$55","v":{"v":0.3411025472544525,"d":"0.34"}},{"v":0.3411025472544525,"d":"0.34"}]
[{"$nulls":7},0,0.5]
[{"$nulls":3},{"$f":"D161+2","v":168},{"$nulls":3},{"$f":"samples!CD$55","v":{"v":0.9117080989402834,"d":"0.91"}},{"v":0.9117080989402834,"d":"0.91"}]
[{"$nulls":7},0,0.5]
[{"$nulls":3},{"$f":"D163+2","v":170},{"$nulls":3},{"$f":"samples!CE$55","v":{"v":0.8538686909030742,"d":"0.85"}},{"v":0.8538686909030742,"d":"0.85"}]
[{"$nulls":7},0,0.5]
[{"$nulls":3},{"$f":"D165+2","v":172},{"$nulls":3},{"$f":"samples!CF$55","v":{"v":0.8951291294197067,"d":"0.90"}},{"v":0.8951291294197067,"d":"0.90"}]
[{"$nulls":7},0,0.5]
[{"$nulls":3},{"$f":"D167+2","v":174},{"$nulls":3},{"$f":"samples!CG$55","v":{"v":0.17618160063451627,"d":"0.18"}},{"v":0.17618160063451627,"d":"0.18"}]
[{"$nulls":7},0,0.5]
[{"$nulls":3},{"$f":"D169+2","v":176},{"$nulls":3},{"$f":"samples!CH$55","v":{"v":0.9189070416509755,"d":"0.92"}},{"v":0.9189070416509755,"d":"0.92"}]
[{"$nulls":7},0,0.5]
[{"$nulls":3},{"$f":"D171+2","v":178},{"$nulls":3},{"$f":"samples!CI$55","v":{"v":0.6152724550214181,"d":"0.62"}},{"v":0.6152724550214181,"d":"0.62"}]
[{"$nulls":7},0,0.5]
[{"$nulls":3},{"$f":"D173+2","v":180},{"$nulls":3},{"$f":"samples!CJ$55","v":{"v":0.8834719097932796,"d":"0.88"}},{"v":0.8834719097932796,"d":"0.88"}]
[{"$nulls":7},0,0.5]
[{"$nulls":3},{"$f":"D175+2","v":182},{"$nulls":3},{"$f":"samples!CK$55","v":{"v":0.83614650336784,"d":"0.84"}},{"v":0.83614650336784,"d":"0.84"}]
[{"$nulls":7},0,0.5]
[{"$nulls":3},{"$f":"D177+2","v":184},{"$nulls":3},{"$f":"samples!CL$55","v":{"v":0.8538686909030742,"d":"0.85"}},{"v":0.8538686909030742,"d":"0.85"}]
[{"$nulls":7},0,0.5]
[{"$nulls":3},{"$f":"D179+2","v":186},{"$nulls":3},{"$f":"samples!CM$55","v":{"v":0.1761816006345279,"d":"0.18"}},{"v":0.1761816006345279,"d":"0.18"}]
[{"$nulls":7},0,0.5]
[{"$nulls":3},{"$f":"D181+2","v":188},{"$nulls":3},{"$f":"samples!CN$55","v":{"v":0.9117080989402876,"d":"0.91"}},{"v":0.9117080989402876,"d":"0.91"}]
[{"$nulls":7},0,0.5]
[{"$nulls":3},{"$f":"D183+2","v":190},{"$nulls":3},{"$f":"samples!CO$55","v":{"v":0.27153619335405826,"d":"0.27"}},{"v":0.27153619335405826,"d":"0.27"}]
[{"$nulls":7},0,0.5]
[{"$nulls":3},{"$f":"D185+2","v":192},{"$nulls":3},{"$f":"samples!CP$55","v":{"v":0.9117080989402834,"d":"0.91"}},{"v":0.9117080989402834,"d":"0.91"}]
[{"$nulls":7},0,0.5]
[{"$nulls":3},{"$f":"D187+2","v":194},{"$nulls":3},{"$f":"samples!CQ$55","v":{"v":0.9189070416509747,"d":"0.92"}},{"v":0.9189070416509747,"d":"0.92"}]
[{"$nulls":7},0,0.5]
[{"$nulls":3},{"$f":"D189+2","v":196},{"$nulls":3},{"$f":"samples!CR$55","v":{"v":0.5869118414886696,"d":"0.59"}},{"v":0.5869118414886696,"d":"0.59"}]
[{"$nulls":7},0,0.5]
[{"$nulls":3},{"$f":"D191+2","v":198},{"$nulls":3},{"$f":"samples!CS$55","v":{"v":0.2937550851690366,"d":"0.29"}},{"v":0.2937550851690366,"d":"0.29"}]
[{"$nulls":7},0,0.5]
[{"$nulls":3},{"$f":"D193+2","v":200},{"$nulls":3},{"$f":"samples!CT$55","v":{"v":0.9045655545090822,"d":"0.90"}},{"v":0.9045655545090822,"d":"0.90"}]
[null,"Two vertical lines",{"$nulls":5},0,0.5]
[null,{"$f":"mean-$L$25*sd","v":67.42745348214935},{"$f":"mean-$L$25*sd","v":67.42745348214935}]
[null,0,0.75]
[null,{"$f":"mean+$L$25*sd","v":68.71254651785064},{"$f":"mean+$L$25*sd","v":68.71254651785064}]
[null,0,0.75]
[{"$nulls":4},{"$f":"'P-Values'!F19","v":68.07},{"$f":"'P-Values'!F19","v":68.07}]
[{"$nulls":4},{"v":0,"d":"0.00"},0.9]